{"text_format":"1","workbook":"xlsx","n_sheets":8,"sheets":["ΕΙΣΑΓΩΓΗ","ΟΔΗΓΙΕΣ","ΕΙΣΑΓΩΓΗ ΒΑΘΜΟΛΟΓΙΑΣ","1ο ΠΕΔΙΟ-ΑΝΘΡ ΝΟΜΙΚΕΣ","2ο ΠΕΔΙΟ-ΘΕΤ ΤΕΧΝ","3ο ΠΕΔΙΟ-ΥΓΕΙΑΣ","4ο ΠΕΔΙΟ-ΟΙΚΟΝ ΠΛΗΡ","ΒΟΗΘ"],"not_rendered":{"charts":0,"images":1,"macros":1,"external_links":0,"defined_names":0,"comments":0,"pivot_tables":0},"unopened":[],"bounds":{"document_bytes":16777216,"sheet_cells":100000,"rows_first":2000,"rows_last":500,"rows_between":2000,"halvings":0,"cell_chars":16384,"cell_head_chars":4096},"cells_cut":0,"cells_raw":0,"read":"whole","date_system":"1900"}

{"sheet":"ΕΙΣΑΓΩΓΗ","index":0,"n_rows":9,"n_cols":3,"rows_kept":9,"cut":false,"hidden":true,"merged":[]}
[]
[]
[]
[]
[]
[]
[]
[]
[null,null,"ΥΠΟ ΚΑΤΑΣΚΕΥΗ"]

{"sheet":"ΟΔΗΓΙΕΣ","index":1,"n_rows":16,"n_cols":4,"rows_kept":16,"cut":false,"hidden":false,"merged":[[14,3,14,6],[15,3,15,6],[4,2,4,12],[6,3,6,13],[7,3,7,13],[8,3,8,13],[9,3,9,13],[10,3,10,13],[11,3,11,13]]}
[]
[]
[]
[]
[null,null,"ΟΔΗΓΙΕΣ  ΓΙΑ  ΤΗΝ  ΕΚΤΕΛΕΣΗ  ΤΗΣ  ΕΦΑΡΜΟΓΗΣ"]
[]
[null,null,"1ο ΒΗΜΑ:","Στο κάτω μέρος της οθόνης επιλέγουμε την καρτέλα < ΕΙΣΑΓΩΓΗ ΒΑΘΜΟΛΟΓΙΑΣ >. "]
[null,null,"2ο ΒΗΜΑ:","Στην καρτέλλα αυτή αφού εισάγουμε το επιστημονικό πεδίο μας (1,2,3,4) κατόπιν καταχωρούμε τις βαθμολογίες στα τέσσερα μαθήματα."]
[null,null,"3ο ΒΗΜΑ: ","Καταχωρούμε το μέσο όρο βαθμολογίας των πανελληνίων (Τον υποθετικό μέχρι να ανακοινωθεί ο πραγματικός ή τον πραγματικό όταν ανακοινωθεί)."]
[null,null,"4ο ΒΗΜΑ:","Επιλέγουμε την αντίστοιχη καρτέλα του πεδίου μας για να δούμε τις σχολές."]
[]
[null,null,"* *  ","Η εφαρμογή δεν λαμβάνει υπ΄όψιν της στην επεξεργασία της βαθμολογίας, τους  βαθμούς που ίσως υπάρχουν σε ειδικά μαθήματα."]
[]
[]
[null,null,null,"Για το φροντιστήριο ΟΡΟΣΗΜΟ ΠΕΙΡΑΙΑ"]
[null,null,null,"Γρηγόρης Μπαξεβανίδης"]

{"sheet":"ΕΙΣΑΓΩΓΗ ΒΑΘΜΟΛΟΓΙΑΣ","index":2,"n_rows":14,"n_cols":11,"rows_kept":14,"cut":false,"hidden":false,"merged":[[4,4,4,5],[6,1,7,1],[6,2,7,2],[7,9,8,9],[8,1,8,2]]}
[]
[]
[]
[]
[null,null,null,null,"ΒΑΘΜΟΙ ΠΑΝΕΛΛΗΝΙΩΝ"]
[]
[null,"ΕΠΙΣΤΗΜΟΝΙΚΟ ΠΕΔΙΟ:  (1, 2, 3, 4)",2.0,null,{"$f":"IF(C7=1,\"ΑΡΧΑΙΑ\",IF(C7=2,\"ΜΑΘΗΜΑΤΙΚΑ\",IF(C7=3,\"ΒΙΟΛΟΓΙΑ\",\"ΜΑΘΗΜΑΤΙΚΑ\")))","v":"ΜΑΘΗΜΑΤΙΚΑ"},12.0]
[null,null,null,null,{"$f":"IF(C7=1,\"ΙΣΤΟΡΙΑ\",IF(C7=2,\"ΦΥΣΙΚΗ\",IF(C7=3,\"ΧΗΜΕΙΑ\",\"ΟΙΚΟΝΟΜΙΑ\")))","v":"ΦΥΣΙΚΗ"},14.0,null,null,null,"ΤΟ ΣΥΝΟΛΟ ΤΩΝ ΜΟΡΙΩΝ ΣΟΥ ΕΙΝΑΙ :"]
[null,{"$f":"IF(OR(C7>4, C7<1),\"ΛΑΘΟΣ ΕΙΣΑΓΩΓΗ\",\" \")","v":" "},null,null,{"$f":"IF(C7=1,\"ΚΟΙΝΩΝΙΟΛΟΓΙΑ\",IF(C7=2,\"ΧΗΜΕΙΑ\",IF(C7=3,\"ΦΥΣΙΚΗ\",\"ΠΛΗΡΟΦΟΡΙΚΗ\")))","v":"ΧΗΜΕΙΑ"},12.0,null,null,null,null,{"$f":"100*(SUM(F7:F10)*2+F7*1.3+F8*0.7)","v":12540}]
[null,null,null,null,"ΓΛΩΣΣΑ",12.0]
[null,null,null,null,null,null,null,null,null,null,{"$f":"H11","v":""}]
[]
[]
[null,null,null,null,"ΜΕΣΟΣ ΟΡΟΣ ΒΑΘΜΟΛΟΓΙΑΣ ΠΑΝΕΛΛΗΝΙΩΝ ΣΤΑ ΤΕΣΣΕΡΑ ΜΑΘΗΜΑΤΑ",12000.0]

{"sheet":"1ο ΠΕΔΙΟ-ΑΝΘΡ ΝΟΜΙΚΕΣ","index":3,"n_rows":154,"n_cols":7,"rows_kept":154,"cut":false,"hidden":false,"merged":[[5,0,5,6],[6,1,7,1],[6,2,7,2],[6,6,7,6]]}
[]
[]
[]
[]
[]
["ΠΕΔΙΟ 1ο:  ΑΝΘΡΩΠΙΣΤΙΚΕΣ - ΝΟΜΙΚΕΣ  ΣΧΟΛΕΣ"]
["ΚΩΔΙΚΟΣ","ΣΧΟΛΗ/ΤΜΗΜΑ","ΠΟΛΗ","ΕΙΣΑΚΤΕΟΙ","ΣΕΒΕ   ","ΕΒΕ   ","ΑΠΟΤΕΛΕΣΜΑ"]
["ΜΗΧΑΝΟΓΡ",null,null,"2021 (90%)","2021   ","2021 (90%)   "]
[101.0,"Θεολογίας, ΕΚΠΑ","Αθήνα",215.0,0.8,{"$f":"E9*'ΒΟΗΘ'!D3","v":9600},{"$f":"IF((F9<='ΒΟΗΘ'!B3),\"ΕΠΙΤΥΧΙΑ\",\"\")","v":"ΕΠΙΤΥΧΙΑ"}]
[102.0,"Φιλοσοφίας, Πατρών","Πάτρα",162.0,0.8,{"$f":"E10*'ΒΟΗΘ'!D4","v":9600},{"$f":"IF((F10<='ΒΟΗΘ'!B4),\"ΕΠΙΤΥΧΙΑ\",\"\")","v":"ΕΠΙΤΥΧΙΑ"}]
[103.0,"Θεολογίας","Θεσσαλονίκη",191.0,0.8,{"$f":"E11*'ΒΟΗΘ'!D5","v":9600},{"$f":"IF((F11<='ΒΟΗΘ'!B5),\"ΕΠΙΤΥΧΙΑ\",\"\")","v":"ΕΠΙΤΥΧΙΑ"}]
[104.0,"Ιστορίας, Αρχαιολογίας & Διαχείρισης Πολιτισμικών Αγαθών, Πελοποννήσου","Καλαμάτα",143.0,0.9,{"$f":"E12*'ΒΟΗΘ'!D6","v":10800},{"$f":"IF((F12<='ΒΟΗΘ'!B6),\"ΕΠΙΤΥΧΙΑ\",\"\")","v":"ΕΠΙΤΥΧΙΑ"}]
[105.0,"Κοινωνικής Θεολογίας & Θρησκειολογίας (πρώην Κοιν Θεολογίας), ΕΚΠΑ","Αθήνα",238.0,0.8,{"$f":"E13*'ΒΟΗΘ'!D7","v":9600},{"$f":"IF((F13<='ΒΟΗΘ'!B7),\"ΕΠΙΤΥΧΙΑ\",\"\")","v":"ΕΠΙΤΥΧΙΑ"}]
[106.0,"Ελληνικής Φιλολογίας, Θράκης","Κομοτηνή",195.0,0.8,{"$f":"E14*'ΒΟΗΘ'!D8","v":9600},{"$f":"IF((F14<='ΒΟΗΘ'!B8),\"ΕΠΙΤΥΧΙΑ\",\"\")","v":"ΕΠΙΤΥΧΙΑ"}]
[107.0,"Κοινωνικής Θεολογίας και Χριστ. Πολιτισμού (πρώην Ποιμ & Κοιν Θεολογίας)","Θεσσαλονίκη",172.0,0.8,{"$f":"E15*'ΒΟΗΘ'!D9","v":9600},{"$f":"IF((F15<='ΒΟΗΘ'!B9),\"ΕΠΙΤΥΧΙΑ\",\"\")","v":"ΕΠΙΤΥΧΙΑ"}]
[108.0,"Ιστορίας & Εθνολογίας, Θράκης","Κομοτηνή",191.0,0.8,{"$f":"E16*'ΒΟΗΘ'!D10","v":9600},{"$f":"IF((F16<='ΒΟΗΘ'!B10),\"ΕΠΙΤΥΧΙΑ\",\"\")","v":"ΕΠΙΤΥΧΙΑ"}]
[109.0,"Φιλολογίας, ΕΚΠΑ","Αθήνα",296.0,1.0,{"$f":"E17*'ΒΟΗΘ'!D11","v":12000},{"$f":"IF((F17<='ΒΟΗΘ'!B11),\"ΕΠΙΤΥΧΙΑ\",\"\")","v":"ΕΠΙΤΥΧΙΑ"}]
[110.0,"Ιστορίας & Αρχαιολογίας, ΕΚΠΑ","Αθήνα",191.0,1.0,{"$f":"E18*'ΒΟΗΘ'!D12","v":12000},{"$f":"IF((F18<='ΒΟΗΘ'!B12),\"ΕΠΙΤΥΧΙΑ\",\"\")","v":"ΕΠΙΤΥΧΙΑ"}]
[111.0,"Φιλολογίας, ΑΠΘ","Θεσσαλονίκη",202.0,1.2,{"$f":"E19*'ΒΟΗΘ'!D13","v":14400},{"$f":"IF((F19<='ΒΟΗΘ'!B13),\"ΕΠΙΤΥΧΙΑ\",\"\")","v":""}]
[112.0,"Ιστορίας & Αρχαιολογίας, ΑΠΘ","Θεσσαλονίκη",144.0,1.2,{"$f":"E20*'ΒΟΗΘ'!D14","v":14400},{"$f":"IF((F20<='ΒΟΗΘ'!B14),\"ΕΠΙΤΥΧΙΑ\",\"\")","v":""}]
[113.0,"Φιλολογίας, Ιωαννίνων","Ιωάννινα",220.0,0.85,{"$f":"E21*'ΒΟΗΘ'!D15","v":10200},{"$f":"IF((F21<='ΒΟΗΘ'!B15),\"ΕΠΙΤΥΧΙΑ\",\"\")","v":"ΕΠΙΤΥΧΙΑ"}]
[114.0,"Ιστορίας & Αρχαιολογίας, Ιωαννίνων","Ιωάννινα",276.0,0.9,{"$f":"E22*'ΒΟΗΘ'!D16","v":10800},{"$f":"IF((F22<='ΒΟΗΘ'!B16),\"ΕΠΙΤΥΧΙΑ\",\"\")","v":"ΕΠΙΤΥΧΙΑ"}]
[115.0,"Φιλολογίας, Κρήτης","Ρέθυμνο",172.0,0.8,{"$f":"E23*'ΒΟΗΘ'!D17","v":9600},{"$f":"IF((F23<='ΒΟΗΘ'!B17),\"ΕΠΙΤΥΧΙΑ\",\"\")","v":"ΕΠΙΤΥΧΙΑ"}]
[116.0,"Ιστορίας & Αρχαιολογίας, Κρήτης","Ρέθυμνο",167.0,1.0,{"$f":"E24*'ΒΟΗΘ'!D18","v":12000},{"$f":"IF((F24<='ΒΟΗΘ'!B18),\"ΕΠΙΤΥΧΙΑ\",\"\")","v":"ΕΠΙΤΥΧΙΑ"}]
[117.0,"Νομικής","Αθήνα",360.0,1.2,{"$f":"E25*'ΒΟΗΘ'!D19","v":14400},{"$f":"IF((F25<='ΒΟΗΘ'!B19),\"ΕΠΙΤΥΧΙΑ\",\"\")","v":""}]
[119.0,"Νομικής","Θεσσαλονίκη",333.0,1.2,{"$f":"E26*'ΒΟΗΘ'!D20","v":14400},{"$f":"IF((F26<='ΒΟΗΘ'!B20),\"ΕΠΙΤΥΧΙΑ\",\"\")","v":""}]
[120.0,"Φιλοσοφίας & Παιδ/κής, ΑΠΘ","Θεσσαλονίκη",157.0,1.2,{"$f":"E27*'ΒΟΗΘ'!D21","v":14400},{"$f":"IF((F27<='ΒΟΗΘ'!B21),\"ΕΠΙΤΥΧΙΑ\",\"\")","v":""}]
[121.0,"Νομικής, Θράκης","Κομοτηνή",455.0,1.2,{"$f":"E28*'ΒΟΗΘ'!D22","v":14400},{"$f":"IF((F28<='ΒΟΗΘ'!B22),\"ΕΠΙΤΥΧΙΑ\",\"\")","v":""}]
[122.0,"Φιλοσοφίας (πρώην Φιλοσοφίας - Παιδ/κής & Ψυχ/γίας), Ιωαννίνων","Ιωάννινα",225.0,0.8,{"$f":"E29*'ΒΟΗΘ'!D23","v":9600},{"$f":"IF((F29<='ΒΟΗΘ'!B23),\"ΕΠΙΤΥΧΙΑ\",\"\")","v":"ΕΠΙΤΥΧΙΑ"}]
[123.0,"Πολιτικής Επιστήμης & Δημόσιας Διοίκησης, ΕΚΠΑ","Αθήνα",189.0,1.2,{"$f":"E30*'ΒΟΗΘ'!D24","v":14400},{"$f":"IF((F30<='ΒΟΗΘ'!B24),\"ΕΠΙΤΥΧΙΑ\",\"\")","v":""}]
[124.0,"Δημόσιας Διοίκησης, Παντείου","Αθήνα",265.0,1.2,{"$f":"E31*'ΒΟΗΘ'!D25","v":14400},{"$f":"IF((F31<='ΒΟΗΘ'!B25),\"ΕΠΙΤΥΧΙΑ\",\"\")","v":""}]
[125.0,"Πολιτικής Επιστήμης & Ιστορίας, Παντείου","Αθήνα",138.0,1.0,{"$f":"E32*'ΒΟΗΘ'!D26","v":12000},{"$f":"IF((F32<='ΒΟΗΘ'!B26),\"ΕΠΙΤΥΧΙΑ\",\"\")","v":"ΕΠΙΤΥΧΙΑ"}]
[126.0,"Κοινωνιολογίας, Παντείου","Αθήνα",133.0,0.9,{"$f":"E33*'ΒΟΗΘ'!D27","v":10800},{"$f":"IF((F33<='ΒΟΗΘ'!B27),\"ΕΠΙΤΥΧΙΑ\",\"\")","v":"ΕΠΙΤΥΧΙΑ"}]
[127.0,"Αγγλικής Γλώσσας & Φιλολογίας, ΕΚΠΑ","Αθήνα",202.0,0.9,{"$f":"E34*'ΒΟΗΘ'!D28","v":10800},{"$f":"IF((F34<='ΒΟΗΘ'!B28),\"ΕΠΙΤΥΧΙΑ\",\"\")","v":"ΕΠΙΤΥΧΙΑ"}]
[128.0,"Παιδαγωγικό Δημοτικής Εκπ/σης, ΕΚΠΑ","Αθήνα",180.0,1.2,{"$f":"E35*'ΒΟΗΘ'!D29","v":14400},{"$f":"IF((F35<='ΒΟΗΘ'!B29),\"ΕΠΙΤΥΧΙΑ\",\"\")","v":""}]
[129.0,"Αγγλικής Γλώσσας & Φιλολογίας, ΑΠΘ","Θεσσαλονίκη",153.0,1.1,{"$f":"E36*'ΒΟΗΘ'!D30","v":13200},{"$f":"IF((F36<='ΒΟΗΘ'!B30),\"ΕΠΙΤΥΧΙΑ\",\"\")","v":""}]
[130.0,"Παιδαγωγικό Δημοτικής Εκπ/σης, Ιωαννίνων","Ιωάννινα",209.0,0.8,{"$f":"E37*'ΒΟΗΘ'!D31","v":9600},{"$f":"IF((F37<='ΒΟΗΘ'!B31),\"ΕΠΙΤΥΧΙΑ\",\"\")","v":"ΕΠΙΤΥΧΙΑ"}]
[131.0,"Γαλλικής Γλώσσας & Φιλολογίας, ΕΚΠΑ","Αθήνα",124.0,0.8,{"$f":"E38*'ΒΟΗΘ'!D32","v":9600},{"$f":"IF((F38<='ΒΟΗΘ'!B32),\"ΕΠΙΤΥΧΙΑ\",\"\")","v":"ΕΠΙΤΥΧΙΑ"}]
[132.0,"Παιδαγωγικό Δημοτικής Εκπ/σης, Κρήτης","Ρέθυμνο",169.0,1.0,{"$f":"E39*'ΒΟΗΘ'!D33","v":12000},{"$f":"IF((F39<='ΒΟΗΘ'!B33),\"ΕΠΙΤΥΧΙΑ\",\"\")","v":"ΕΠΙΤΥΧΙΑ"}]
[133.0,"Γαλλικής Γλώσσας & Φιλολογίας, ΑΠΘ","Θεσσαλονίκη",105.0,0.8,{"$f":"E40*'ΒΟΗΘ'!D34","v":9600},{"$f":"IF((F40<='ΒΟΗΘ'!B34),\"ΕΠΙΤΥΧΙΑ\",\"\")","v":"ΕΠΙΤΥΧΙΑ"}]
[134.0,"Επιστημών Προσχολ. Αγωγής & Εκπ/σης, ΑΠΘ","Θεσσαλονίκη",130.0,0.8,{"$f":"E41*'ΒΟΗΘ'!D35","v":9600},{"$f":"IF((F41<='ΒΟΗΘ'!B35),\"ΕΠΙΤΥΧΙΑ\",\"\")","v":"ΕΠΙΤΥΧΙΑ"}]
[135.0,"Γερμανικής Γλώσσας & Φιλολογίας, ΕΚΠΑ","Αθήνα",133.0,0.8,{"$f":"E42*'ΒΟΗΘ'!D36","v":9600},{"$f":"IF((F42<='ΒΟΗΘ'!B36),\"ΕΠΙΤΥΧΙΑ\",\"\")","v":"ΕΠΙΤΥΧΙΑ"}]
[136.0,"Επιστημών της Εκπαίδευσης & της Αγωγής στην Προσχολική Ηλικία, Πατρών","Πάτρα",143.0,0.8,{"$f":"E43*'ΒΟΗΘ'!D37","v":9600},{"$f":"IF((F43<='ΒΟΗΘ'!B37),\"ΕΠΙΤΥΧΙΑ\",\"\")","v":"ΕΠΙΤΥΧΙΑ"}]
[137.0,"Γερμανικής Γλώσσας & Φιλολογίας, ΑΠΘ","Θεσσαλονίκη",124.0,0.8,{"$f":"E44*'ΒΟΗΘ'!D38","v":9600},{"$f":"IF((F44<='ΒΟΗΘ'!B38),\"ΕΠΙΤΥΧΙΑ\",\"\")","v":"ΕΠΙΤΥΧΙΑ"}]
[138.0,"Φιλοσοφικών & Κοινωνικών Σπουδών, Κρήτης","Ρέθυμνο",187.0,0.8,{"$f":"E45*'ΒΟΗΘ'!D39","v":9600},{"$f":"IF((F45<='ΒΟΗΘ'!B39),\"ΕΠΙΤΥΧΙΑ\",\"\")","v":"ΕΠΙΤΥΧΙΑ"}]
[139.0,"Ιταλικής Γλώσσας & Φιλολογίας, ΑΠΘ","Θεσσαλονίκη",85.0,0.8,{"$f":"E46*'ΒΟΗΘ'!D40","v":9600},{"$f":"IF((F46<='ΒΟΗΘ'!B40),\"ΕΠΙΤΥΧΙΑ\",\"\")","v":"ΕΠΙΤΥΧΙΑ"}]
[140.0,"Παιδαγωγικό Δημοτικής Εκπ/σης, ΑΠΘ","Θεσσαλονίκη",180.0,0.8,{"$f":"E47*'ΒΟΗΘ'!D41","v":9600},{"$f":"IF((F47<='ΒΟΗΘ'!B41),\"ΕΠΙΤΥΧΙΑ\",\"\")","v":"ΕΠΙΤΥΧΙΑ"}]
[142.0,"Παιδαγωγικό Δημοτικής Εκπ/σης, Θράκης","Αλεξ/πολη",216.0,0.8,{"$f":"E48*'ΒΟΗΘ'!D42","v":9600},{"$f":"IF((F48<='ΒΟΗΘ'!B42),\"ΕΠΙΤΥΧΙΑ\",\"\")","v":"ΕΠΙΤΥΧΙΑ"}]
[143.0,"Παιδαγωγικό Δημοτικής Εκπ/σης, Αιγαίου","Ρόδος",306.0,0.8,{"$f":"E49*'ΒΟΗΘ'!D43","v":9600},{"$f":"IF((F49<='ΒΟΗΘ'!B43),\"ΕΠΙΤΥΧΙΑ\",\"\")","v":"ΕΠΙΤΥΧΙΑ"}]
[145.0,"Ιστορίας, Ιονίου","Κέρκυρα",172.0,0.9,{"$f":"E50*'ΒΟΗΘ'!D44","v":10800},{"$f":"IF((F50<='ΒΟΗΘ'!B44),\"ΕΠΙΤΥΧΙΑ\",\"\")","v":"ΕΠΙΤΥΧΙΑ"}]
[146.0,"Θεατρικών Σπουδών, ΕΚΠΑ","Αθήνα",86.0,0.9,{"$f":"E51*'ΒΟΗΘ'!D45","v":10800},{"$f":"IF((F51<='ΒΟΗΘ'!B45),\"ΕΠΙΤΥΧΙΑ\",\"\")","v":"ΕΠΙΤΥΧΙΑ"}]
[147.0,"Δημοσιογραφίας & Μέσων Μαζικής Επικοινωνίας","Θεσσαλονίκη",108.0,0.9,{"$f":"E52*'ΒΟΗΘ'!D46","v":10800},{"$f":"IF((F52<='ΒΟΗΘ'!B46),\"ΕΠΙΤΥΧΙΑ\",\"\")","v":"ΕΠΙΤΥΧΙΑ"}]
[148.0,"Επικοινωνίας & Μέσων Μαζικής Ενημέρωσης","Αθήνα",120.0,1.0,{"$f":"E53*'ΒΟΗΘ'!D47","v":12000},{"$f":"IF((F53<='ΒΟΗΘ'!B47),\"ΕΠΙΤΥΧΙΑ\",\"\")","v":"ΕΠΙΤΥΧΙΑ"}]
[149.0,"Κοινωνιολογίας, Κρήτης","Ρέθυμνο",159.0,0.8,{"$f":"E54*'ΒΟΗΘ'!D48","v":9600},{"$f":"IF((F54<='ΒΟΗΘ'!B48),\"ΕΠΙΤΥΧΙΑ\",\"\")","v":"ΕΠΙΤΥΧΙΑ"}]
[151.0,"Ψυχολογίας, Κρήτης","Ρέθυμνο",172.0,1.1,{"$f":"E55*'ΒΟΗΘ'!D49","v":13200},{"$f":"IF((F55<='ΒΟΗΘ'!B49),\"ΕΠΙΤΥΧΙΑ\",\"\")","v":""}]
[153.0,"Επικοινωνίας Μέσων & Πολιτισμού, Παντείου","Αθήνα",133.0,1.0,{"$f":"E56*'ΒΟΗΘ'!D50","v":12000},{"$f":"IF((F56<='ΒΟΗΘ'!B50),\"ΕΠΙΤΥΧΙΑ\",\"\")","v":"ΕΠΙΤΥΧΙΑ"}]
[154.0,"Εκπαίδευσης & Αγωγής στην Προσχ. Ηλικία, ΕΚΠΑ","Αθήνα",105.0,0.8,{"$f":"E57*'ΒΟΗΘ'!D51","v":9600},{"$f":"IF((F57<='ΒΟΗΘ'!B51),\"ΕΠΙΤΥΧΙΑ\",\"\")","v":"ΕΠΙΤΥΧΙΑ"}]
[156.0,"Παιδαγωγικό Νηπιαγωγών","Ιωάννινα",223.0,0.8,{"$f":"E58*'ΒΟΗΘ'!D52","v":9600},{"$f":"IF((F58<='ΒΟΗΘ'!B52),\"ΕΠΙΤΥΧΙΑ\",\"\")","v":"ΕΠΙΤΥΧΙΑ"}]
[158.0,"Παιδαγωγικό Προσχολ. Εκπ/σης, Κρήτης","Ρέθυμνο",152.0,1.0,{"$f":"E59*'ΒΟΗΘ'!D53","v":12000},{"$f":"IF((F59<='ΒΟΗΘ'!B53),\"ΕΠΙΤΥΧΙΑ\",\"\")","v":"ΕΠΙΤΥΧΙΑ"}]
[159.0,"Κοινωνικής Πολιτικής, Παντείου","Αθήνα",133.0,0.8,{"$f":"E60*'ΒΟΗΘ'!D54","v":9600},{"$f":"IF((F60<='ΒΟΗΘ'!B54),\"ΕΠΙΤΥΧΙΑ\",\"\")","v":"ΕΠΙΤΥΧΙΑ"}]
[160.0,"Επιστημών της Εκπαίδευσης στην Προσχολική Ηλικία, Θράκης","Αλεξ/πολη",193.0,1.0,{"$f":"E61*'ΒΟΗΘ'!D55","v":12000},{"$f":"IF((F61<='ΒΟΗΘ'!B55),\"ΕΠΙΤΥΧΙΑ\",\"\")","v":"ΕΠΙΤΥΧΙΑ"}]
[161.0,"Διεθνών & Ευρωπαϊκών Σπουδών, Μακεδονίας","Θεσσαλονίκη",126.0,1.2,{"$f":"E62*'ΒΟΗΘ'!D56","v":14400},{"$f":"IF((F62<='ΒΟΗΘ'!B56),\"ΕΠΙΤΥΧΙΑ\",\"\")","v":""}]
[162.0,"Επιστημών της Προσχ. Αγωγής & του Εκπ/κού Σχεδιασμού, Αιγαίου","Ρόδος",259.0,0.8,{"$f":"E63*'ΒΟΗΘ'!D57","v":9600},{"$f":"IF((F63<='ΒΟΗΘ'!B57),\"ΕΠΙΤΥΧΙΑ\",\"\")","v":"ΕΠΙΤΥΧΙΑ"}]
[163.0,"Κινηματογράφου","Θεσσαλονίκη",73.0,1.0,{"$f":"E64*'ΒΟΗΘ'!D58","v":12000},{"$f":"IF((F64<='ΒΟΗΘ'!B58),\"ΕΠΙΤΥΧΙΑ\",\"\")","v":"ΕΠΙΤΥΧΙΑ"}]
[164.0,"Παιδαγωγικό Δημοτικής Εκπ/σης, Θεσσαλίας","Βόλος",141.0,0.8,{"$f":"E65*'ΒΟΗΘ'!D59","v":9600},{"$f":"IF((F65<='ΒΟΗΘ'!B59),\"ΕΠΙΤΥΧΙΑ\",\"\")","v":"ΕΠΙΤΥΧΙΑ"}]
[165.0,"Κοινωνικής Ανθρωπολογίας, Παντείου","Αθήνα",99.0,0.8,{"$f":"E66*'ΒΟΗΘ'!D60","v":9600},{"$f":"IF((F66<='ΒΟΗΘ'!B60),\"ΕΠΙΤΥΧΙΑ\",\"\")","v":"ΕΠΙΤΥΧΙΑ"}]
[166.0,"Παιδαγωγικό Προσχολ. Εκπ/σης, Θεσσαλίας","Βόλος",125.0,0.8,{"$f":"E67*'ΒΟΗΘ'!D61","v":9600},{"$f":"IF((F67<='ΒΟΗΘ'!B61),\"ΕΠΙΤΥΧΙΑ\",\"\")","v":"ΕΠΙΤΥΧΙΑ"}]
[167.0,"Κοινωνικής Ανθρ/γίας & Ιστορίας, Αιγαίου","Μυτιλήνη",252.0,0.8,{"$f":"E68*'ΒΟΗΘ'!D62","v":9600},{"$f":"IF((F68<='ΒΟΗΘ'!B62),\"ΕΠΙΤΥΧΙΑ\",\"\")","v":"ΕΠΙΤΥΧΙΑ"}]
[168.0,"Θεάτρου, ΑΠΘ","Θεσσαλονίκη",63.0,0.8,{"$f":"E69*'ΒΟΗΘ'!D63","v":9600},{"$f":"IF((F69<='ΒΟΗΘ'!B63),\"ΕΠΙΤΥΧΙΑ\",\"\")","v":"ΕΠΙΤΥΧΙΑ"}]
[169.0,"Θεατρικών Σπουδών, Πατρών","Πάτρα",100.0,0.89,{"$f":"E70*'ΒΟΗΘ'!D64","v":10680},{"$f":"IF((F70<='ΒΟΗΘ'!B64),\"ΕΠΙΤΥΧΙΑ\",\"\")","v":"ΕΠΙΤΥΧΙΑ"}]
[170.0,"Ψυχολογίας, Παντείου","Αθήνα",131.0,1.0,{"$f":"E71*'ΒΟΗΘ'!D65","v":12000},{"$f":"IF((F71<='ΒΟΗΘ'!B65),\"ΕΠΙΤΥΧΙΑ\",\"\")","v":"ΕΠΙΤΥΧΙΑ"}]
[171.0,"Ψυχολογίας, ΕΚΠΑ","Αθήνα",152.0,0.96,{"$f":"E72*'ΒΟΗΘ'!D66","v":11520},{"$f":"IF((F72<='ΒΟΗΘ'!B66),\"ΕΠΙΤΥΧΙΑ\",\"\")","v":"ΕΠΙΤΥΧΙΑ"}]
[172.0,"Ψυχολογίας","Θεσσαλονίκη",162.0,1.2,{"$f":"E73*'ΒΟΗΘ'!D67","v":14400},{"$f":"IF((F73<='ΒΟΗΘ'!B67),\"ΕΠΙΤΥΧΙΑ\",\"\")","v":""}]
[173.0,"Ιστορίας & Φιλοσοφίας της Επιστήμης, ΕΚΠΑ","Αθήνα",114.0,1.05,{"$f":"E74*'ΒΟΗΘ'!D68","v":12600},{"$f":"IF((F74<='ΒΟΗΘ'!B68),\"ΕΠΙΤΥΧΙΑ\",\"\")","v":""}]
[174.0,"Εκπαιδευτικής & Κοινωνικής Πολιτικής, Μακεδονίας","Θεσσαλονίκη",142.0,1.2,{"$f":"E75*'ΒΟΗΘ'!D69","v":14400},{"$f":"IF((F75<='ΒΟΗΘ'!B69),\"ΕΠΙΤΥΧΙΑ\",\"\")","v":""}]
[175.0,"Φιλολογίας, Πατρών","Πάτρα",172.0,1.0,{"$f":"E76*'ΒΟΗΘ'!D70","v":12000},{"$f":"IF((F76<='ΒΟΗΘ'!B70),\"ΕΠΙΤΥΧΙΑ\",\"\")","v":"ΕΠΙΤΥΧΙΑ"}]
[176.0,"Βαλκανικών, Σλαβικών & Ανατολ. Σπουδών, Μακεδονίας","Θεσσαλονίκη",177.0,1.2,{"$f":"E77*'ΒΟΗΘ'!D71","v":14400},{"$f":"IF((F77<='ΒΟΗΘ'!B71),\"ΕΠΙΤΥΧΙΑ\",\"\")","v":""}]
[177.0,"Ιστορίας , Αρχαιολογίας & Κοιν. Ανθρωπολογίας, Θεσσαλίας","Βόλος",100.0,0.8,{"$f":"E78*'ΒΟΗΘ'!D72","v":9600},{"$f":"IF((F78<='ΒΟΗΘ'!B72),\"ΕΠΙΤΥΧΙΑ\",\"\")","v":"ΕΠΙΤΥΧΙΑ"}]
[178.0,"Παιδαγωγικό Ειδικής Αγωγής, Θεσσαλίας","Βόλος",114.0,1.0,{"$f":"E79*'ΒΟΗΘ'!D73","v":12000},{"$f":"IF((F79<='ΒΟΗΘ'!B73),\"ΕΠΙΤΥΧΙΑ\",\"\")","v":"ΕΠΙΤΥΧΙΑ"}]
[179.0,"Διεθνών, Ευρωπαϊκών & Περιφερειακών Σπουδών, Παντείου","Αθήνα",138.0,1.0,{"$f":"E80*'ΒΟΗΘ'!D74","v":12000},{"$f":"IF((F80<='ΒΟΗΘ'!B74),\"ΕΠΙΤΥΧΙΑ\",\"\")","v":"ΕΠΙΤΥΧΙΑ"}]
[181.0,"Μεσογειακών Σπουδών, Αιγαίου","Ρόδος",157.0,0.8,{"$f":"E81*'ΒΟΗΘ'!D75","v":9600},{"$f":"IF((F81<='ΒΟΗΘ'!B75),\"ΕΠΙΤΥΧΙΑ\",\"\")","v":"ΕΠΙΤΥΧΙΑ"}]
[182.0,"Ιταλικής Γλώσσας & Φιλολογίας, ΕΚΠΑ","Αθήνα",76.0,0.8,{"$f":"E82*'ΒΟΗΘ'!D76","v":9600},{"$f":"IF((F82<='ΒΟΗΘ'!B76),\"ΕΠΙΤΥΧΙΑ\",\"\")","v":"ΕΠΙΤΥΧΙΑ"}]
[183.0,"Ισπανικής Γλώσσας & Φιλολογίας, ΕΚΠΑ","Αθήνα",76.0,0.8,{"$f":"E83*'ΒΟΗΘ'!D77","v":9600},{"$f":"IF((F83<='ΒΟΗΘ'!B77),\"ΕΠΙΤΥΧΙΑ\",\"\")","v":"ΕΠΙΤΥΧΙΑ"}]
[186.0,"Γλώσσας - Φιλολογίας & Πολιτ. Παρευξείνιων Χωρών, Θράκης","Κομοτηνή",143.0,0.8,{"$f":"E84*'ΒΟΗΘ'!D78","v":9600},{"$f":"IF((F84<='ΒΟΗΘ'!B78),\"ΕΠΙΤΥΧΙΑ\",\"\")","v":"ΕΠΙΤΥΧΙΑ"}]
[187.0,"Κοινωνικής & Εκπ/κής Πολιτικής, Πελοποννήσου","Κόρινθος",124.0,1.0,{"$f":"E85*'ΒΟΗΘ'!D79","v":12000},{"$f":"IF((F85<='ΒΟΗΘ'!B79),\"ΕΠΙΤΥΧΙΑ\",\"\")","v":"ΕΠΙΤΥΧΙΑ"}]
[188.0,"Τουρκικών Σπουδών & Σύγχρονων Ασιατικών Σπουδών, ΕΚΠΑ","Αθήνα",112.0,1.0,{"$f":"E86*'ΒΟΗΘ'!D80","v":12000},{"$f":"IF((F86<='ΒΟΗΘ'!B80),\"ΕΠΙΤΥΧΙΑ\",\"\")","v":"ΕΠΙΤΥΧΙΑ"}]
[189.0,"Φιλολογίας, Πελοποννήσου","Καλαμάτα",181.0,0.9,{"$f":"E87*'ΒΟΗΘ'!D81","v":10800},{"$f":"IF((F87<='ΒΟΗΘ'!B81),\"ΕΠΙΤΥΧΙΑ\",\"\")","v":"ΕΠΙΤΥΧΙΑ"}]
[192.0,"Ρωσικής Γλώσσα και Φιλολογίας (Εισαγ. Κατ/νση)","Αθήνα",76.0,0.9,{"$f":"E88*'ΒΟΗΘ'!D82","v":10800},{"$f":"IF((F88<='ΒΟΗΘ'!B82),\"ΕΠΙΤΥΧΙΑ\",\"\")","v":"ΕΠΙΤΥΧΙΑ"}]
[334.0,"Παιδαγωγικό Δημοτικής Εκπ/σης, Δυτ. Μακεδονίας","Φλώρινα",180.0,0.8,{"$f":"E89*'ΒΟΗΘ'!D83","v":9600},{"$f":"IF((F89<='ΒΟΗΘ'!B83),\"ΕΠΙΤΥΧΙΑ\",\"\")","v":"ΕΠΙΤΥΧΙΑ"}]
[341.0,"Παιδαγωγικό Νηπιαγωγών, Δυτ. Μακεδονίας","Φλώρινα",178.0,1.0,{"$f":"E90*'ΒΟΗΘ'!D84","v":12000},{"$f":"IF((F90<='ΒΟΗΘ'!B84),\"ΕΠΙΤΥΧΙΑ\",\"\")","v":"ΕΠΙΤΥΧΙΑ"}]
[342.0,"Αρχειονομίας, Βιβλιοθηκονομίας & Μουσειολογίας, Ιονίου","Κέρκυρα",101.0,0.8,{"$f":"E91*'ΒΟΗΘ'!D85","v":9600},{"$f":"IF((F91<='ΒΟΗΘ'!B85),\"ΕΠΙΤΥΧΙΑ\",\"\")","v":"ΕΠΙΤΥΧΙΑ"}]
[348.0,"Κοινωνιολογίας, Αιγαίου","Μυτιλήνη",190.0,0.8,{"$f":"E92*'ΒΟΗΘ'!D86","v":9600},{"$f":"IF((F92<='ΒΟΗΘ'!B86),\"ΕΠΙΤΥΧΙΑ\",\"\")","v":"ΕΠΙΤΥΧΙΑ"}]
[351.0,"Πολιτικής Επιστήμης, Κρήτης","Ρέθυμνο",204.0,0.8,{"$f":"E93*'ΒΟΗΘ'!D87","v":9600},{"$f":"IF((F93<='ΒΟΗΘ'!B87),\"ΕΠΙΤΥΧΙΑ\",\"\")","v":"ΕΠΙΤΥΧΙΑ"}]
[354.0,"Πολιτισμικής Τεχ/γίας & Επικοινωνίας, Αιγαίου","Μυτιλήνη",124.0,0.8,{"$f":"E94*'ΒΟΗΘ'!D88","v":9600},{"$f":"IF((F94<='ΒΟΗΘ'!B88),\"ΕΠΙΤΥΧΙΑ\",\"\")","v":"ΕΠΙΤΥΧΙΑ"}]
[355.0,"Διεθνών & Ευρωπαϊκών Σπουδών, Πειραιά","Πειραιάς",129.0,1.2,{"$f":"E95*'ΒΟΗΘ'!D89","v":14400},{"$f":"IF((F95<='ΒΟΗΘ'!B89),\"ΕΠΙΤΥΧΙΑ\",\"\")","v":""}]
[357.0,"Πολιτικών Επιστημών, ΑΠΘ","Θεσσαλονίκη",116.0,0.8,{"$f":"E96*'ΒΟΗΘ'!D90","v":9600},{"$f":"IF((F96<='ΒΟΗΘ'!B90),\"ΕΠΙΤΥΧΙΑ\",\"\")","v":"ΕΠΙΤΥΧΙΑ"}]
[362.0,"Θεατρικών Σπουδών, Πελοποννήσου","Ναύπλιον",135.0,0.8,{"$f":"E97*'ΒΟΗΘ'!D91","v":9600},{"$f":"IF((F97<='ΒΟΗΘ'!B91),\"ΕΠΙΤΥΧΙΑ\",\"\")","v":"ΕΠΙΤΥΧΙΑ"}]
[367.0,"Τεχνών Ήχου & Εικόνας, Ιονίου","Κέρκυρα",86.0,0.8,{"$f":"E98*'ΒΟΗΘ'!D92","v":9600},{"$f":"IF((F98<='ΒΟΗΘ'!B92),\"ΕΠΙΤΥΧΙΑ\",\"\")","v":"ΕΠΙΤΥΧΙΑ"}]
[373.0,"Πολιτικής Επιστήμης, Θράκης (πρώην Εισ. Κατ. πρώην Τμ. Κοιν Διοίκ & Πολιτ Επιστ.)","Κομοτηνή",146.0,0.8,{"$f":"E99*'ΒΟΗΘ'!D93","v":9600},{"$f":"IF((F99<='ΒΟΗΘ'!B93),\"ΕΠΙΤΥΧΙΑ\",\"\")","v":"ΕΠΙΤΥΧΙΑ"}]
[384.0,"Θεωρίας & Ιστορίας της Τέχνης, ΑΣΚΤ","Αθήνα",68.0,0.85,{"$f":"E100*'ΒΟΗΘ'!D94","v":10200},{"$f":"IF((F100<='ΒΟΗΘ'!B94),\"ΕΠΙΤΥΧΙΑ\",\"\")","v":"ΕΠΙΤΥΧΙΑ"}]
[385.0,"Ξένων Γλωσσών Μετάφρασης & Διερμηνείας, Ιονίου","Κέρκυρα",114.0,1.2,{"$f":"E101*'ΒΟΗΘ'!D95","v":14400},{"$f":"IF((F101<='ΒΟΗΘ'!B95),\"ΕΠΙΤΥΧΙΑ\",\"\")","v":""}]
[401.0,"Επιστήμης Φυσ. Αγωγής & Αθλητισμού, ΕΚΠΑ","Αθήνα",121.0,0.8,{"$f":"E102*'ΒΟΗΘ'!D96","v":9600},{"$f":"IF((F102<='ΒΟΗΘ'!B96),\"ΕΠΙΤΥΧΙΑ\",\"\")","v":"ΕΠΙΤΥΧΙΑ"}]
[402.0,"Επιστήμης Φυσ. Αγωγής & Αθλητισμού, ΑΠΘ / Εισαγ. Κατ/νση","Σέρρες",113.0,0.8,{"$f":"E103*'ΒΟΗΘ'!D97","v":9600},{"$f":"IF((F103<='ΒΟΗΘ'!B97),\"ΕΠΙΤΥΧΙΑ\",\"\")","v":"ΕΠΙΤΥΧΙΑ"}]
[403.0,"Επιστήμης Φυσ. Αγωγής & Αθλητισμού, ΑΠΘ / Εισαγ. Κατ/νση","Θεσσαλονίκη",121.0,1.0,{"$f":"E104*'ΒΟΗΘ'!D98","v":12000},{"$f":"IF((F104<='ΒΟΗΘ'!B98),\"ΕΠΙΤΥΧΙΑ\",\"\")","v":"ΕΠΙΤΥΧΙΑ"}]
[404.0,"Επιστήμης Φυσ. Αγωγής & Αθλητισμού, Θράκης","Κομοτηνή",324.0,0.8,{"$f":"E105*'ΒΟΗΘ'!D99","v":9600},{"$f":"IF((F105<='ΒΟΗΘ'!B99),\"ΕΠΙΤΥΧΙΑ\",\"\")","v":"ΕΠΙΤΥΧΙΑ"}]
[405.0,"Επιστήμης Φυσ. Αγωγής & Αθλητισμού, Θεσσαλίας","Τρίκαλα",151.0,1.0,{"$f":"E106*'ΒΟΗΘ'!D100","v":12000},{"$f":"IF((F106<='ΒΟΗΘ'!B100),\"ΕΠΙΤΥΧΙΑ\",\"\")","v":"ΕΠΙΤΥΧΙΑ"}]
[406.0,"Μουσικών Σπουδών, ΑΠΘ","Θεσσαλονίκη",55.0,0.9,{"$f":"E107*'ΒΟΗΘ'!D101","v":10800},{"$f":"IF((F107<='ΒΟΗΘ'!B101),\"ΕΠΙΤΥΧΙΑ\",\"\")","v":"ΕΠΙΤΥΧΙΑ"}]
[407.0,"Μουσικών Σπουδών, Ιονίου (ΕΙΔΙΚΕΣ ΕΞΕΤΑΣΕΙΣ)","Κέρκυρα",91.0,"(***)",{"$f":"E108*'ΒΟΗΘ'!D102","v":"#VALUE!"},{"$f":"IF((F108<='ΒΟΗΘ'!B102),\"ΕΠΙΤΥΧΙΑ\",\"\")","v":"#VALUE!"}]
[408.0,"Μουσικών Σπουδών, ΕΚΠΑ","Αθήνα",63.0,0.9,{"$f":"E109*'ΒΟΗΘ'!D103","v":10800},{"$f":"IF((F109<='ΒΟΗΘ'!B103),\"ΕΠΙΤΥΧΙΑ\",\"\")","v":"ΕΠΙΤΥΧΙΑ"}]
[409.0,"Μουσικής Επιστήμης & Τέχνης, Μακεδονίας (ΕΙΔΙΚΕΣ ΕΞΕΤΑΣΕΙΣ)","Θεσσαλονίκη",73.0,"(***)",{"$f":"E110*'ΒΟΗΘ'!D104","v":"#VALUE!"},{"$f":"IF((F110<='ΒΟΗΘ'!B104),\"ΕΠΙΤΥΧΙΑ\",\"\")","v":"#VALUE!"}]
[411.0,"Πολιτικής Επιστήμης & Διεθνών Σχέσεων, Πελοποννήσου","Κόρινθος",111.0,1.05,{"$f":"E111*'ΒΟΗΘ'!D105","v":12600},{"$f":"IF((F111<='ΒΟΗΘ'!B105),\"ΕΠΙΤΥΧΙΑ\",\"\")","v":""}]
[413.0,"Πρόγραμμα Ιερατικών Σπουδών, Αν. Εκκλ. Ακαδ. Αθήνας","Αθήνα",36.0,0.8,{"$f":"E112*'ΒΟΗΘ'!D106","v":9600},{"$f":"IF((F112<='ΒΟΗΘ'!B106),\"ΕΠΙΤΥΧΙΑ\",\"\")","v":"ΕΠΙΤΥΧΙΑ"}]
[414.0,"Πρόγραμμα Ιερατικών Σπουδών, Αν. Εκκλ. Ακαδ. Θεσ/κης","Θεσσαλονίκη",18.0,0.8,{"$f":"E113*'ΒΟΗΘ'!D107","v":9600},{"$f":"IF((F113<='ΒΟΗΘ'!B107),\"ΕΠΙΤΥΧΙΑ\",\"\")","v":"ΕΠΙΤΥΧΙΑ"}]
[415.0,"Πρόγραμμα Ιερατικών Σπουδών, Αν. Εκκλ. Ακαδ. Ιωαννίνων","Βελλάς",36.0,0.8,{"$f":"E114*'ΒΟΗΘ'!D108","v":9600},{"$f":"IF((F114<='ΒΟΗΘ'!B108),\"ΕΠΙΤΥΧΙΑ\",\"\")","v":"ΕΠΙΤΥΧΙΑ"}]
[416.0,"Πρόγραμμα Ιερατικών Σπουδών, Αν. Εκκλ. Ακαδ. Κρήτης","Ηράκλειο",54.0,0.8,{"$f":"E115*'ΒΟΗΘ'!D109","v":9600},{"$f":"IF((F115<='ΒΟΗΘ'!B109),\"ΕΠΙΤΥΧΙΑ\",\"\")","v":"ΕΠΙΤΥΧΙΑ"}]
[417.0,"Πρόγραμμα Εκκλησιαστικής Μουσικής & Ψαλτικής, Αν. Εκκλ. Ακαδ. Ιωαννινων","Βελλάς",8.0,0.8,{"$f":"E116*'ΒΟΗΘ'!D110","v":9600},{"$f":"IF((F116<='ΒΟΗΘ'!B110),\"ΕΠΙΤΥΧΙΑ\",\"\")","v":"ΕΠΙΤΥΧΙΑ"}]
[418.0,"Πρόγραμμα Εκκλησιαστικής Μουσικής & Ψαλτικής, Αν. Εκκλ. Ακαδ. Κρήτης","Ηράκλειο",8.0,0.8,{"$f":"E117*'ΒΟΗΘ'!D111","v":9600},{"$f":"IF((F117<='ΒΟΗΘ'!B111),\"ΕΠΙΤΥΧΙΑ\",\"\")","v":"ΕΠΙΤΥΧΙΑ"}]
[613.0,"Ανώτερη Σχολή Τουριστικής Εκπαίδευσης Ρόδου (Α.Σ.Τ.Ε.Ρ.)","Ρόδος",88.0,0.8,{"$f":"E118*'ΒΟΗΘ'!D112","v":9600},{"$f":"IF((F118<='ΒΟΗΘ'!B112),\"ΕΠΙΤΥΧΙΑ\",\"\")","v":"ΕΠΙΤΥΧΙΑ"}]
[614.0,"Ανώτερη Σχολή Τουριστικής Εκπαίδευσης Κρήτης (Α.Σ.Τ.Ε.Κ.)","Αγ. Νικόλαος",88.0,0.8,{"$f":"E119*'ΒΟΗΘ'!D113","v":9600},{"$f":"IF((F119<='ΒΟΗΘ'!B113),\"ΕΠΙΤΥΧΙΑ\",\"\")","v":"ΕΠΙΤΥΧΙΑ"}]
[668.0,"Αρχειονομίας, Βιβλιοθηκονομίας & Συστημάτων Πληροφόρησης, Δυτ. Αττικής","Αιγάλεω",101.0,0.9,{"$f":"E120*'ΒΟΗΘ'!D114","v":10800},{"$f":"IF((F120<='ΒΟΗΘ'!B114),\"ΕΠΙΤΥΧΙΑ\",\"\")","v":"ΕΠΙΤΥΧΙΑ"}]
[671.0,"Κοινωνικής Εργασίας, Δυτ. Αττικής","Αιγάλεω",100.0,0.8,{"$f":"E121*'ΒΟΗΘ'!D115","v":9600},{"$f":"IF((F121<='ΒΟΗΘ'!B115),\"ΕΠΙΤΥΧΙΑ\",\"\")","v":"ΕΠΙΤΥΧΙΑ"}]
[673.0,"Αγωγής & Φροντίδας στην Πρώιμη Παιδική Ηλικία, Δυτ. Αττικής","Ίλιον",113.0,1.0,{"$f":"E122*'ΒΟΗΘ'!D116","v":12000},{"$f":"IF((F122<='ΒΟΗΘ'!B116),\"ΕΠΙΤΥΧΙΑ\",\"\")","v":"ΕΠΙΤΥΧΙΑ"}]
[677.0,"Φωτογραφίας & Οπτικοακουστικών Τεχνών, Δυτ. Αττικής","Αιγάλεω",92.0,1.0,{"$f":"E123*'ΒΟΗΘ'!D117","v":12000},{"$f":"IF((F123<='ΒΟΗΘ'!B117),\"ΕΠΙΤΥΧΙΑ\",\"\")","v":"ΕΠΙΤΥΧΙΑ"}]
[780.0,"Μουσουλμανικών Σπουδών / Εισαγωγική Κατεύθυνση","Θεσσαλονίκη",93.0,0.8,{"$f":"E124*'ΒΟΗΘ'!D118","v":9600},{"$f":"IF((F124<='ΒΟΗΘ'!B118),\"ΕΠΙΤΥΧΙΑ\",\"\")","v":"ΕΠΙΤΥΧΙΑ"}]
[866.0,"Στρατολογικό - Στρατιωτ. Νομ. Συμβ. (ΣΣΑΣ) Γεν. Σειρά","Θεσσαλονίκη",13.0,1.2,{"$f":"E125*'ΒΟΗΘ'!D119","v":14400},{"$f":"IF((F125<='ΒΟΗΘ'!B119),\"ΕΠΙΤΥΧΙΑ\",\"\")","v":""}]
[869.0,"Αξιωματικών Ελλ. Αστυνομίας Γεν. Σειρά","Αθήνα",31.0,0.8,{"$f":"E126*'ΒΟΗΘ'!D120","v":9600},{"$f":"IF((F126<='ΒΟΗΘ'!B120),\"ΕΠΙΤΥΧΙΑ\",\"\")","v":"ΕΠΙΤΥΧΙΑ"}]
[870.0,"Αστυφυλάκων Γεν. Σειρά","Αθήνα",221.0,0.8,{"$f":"E127*'ΒΟΗΘ'!D121","v":9600},{"$f":"IF((F127<='ΒΟΗΘ'!B121),\"ΕΠΙΤΥΧΙΑ\",\"\")","v":"ΕΠΙΤΥΧΙΑ"}]
[871.0,"Τμήμα Ανθυποπυραγών (Πυροσβέστες) Γεν. Σειρά","Αθήνα",4.0,0.8,{"$f":"E128*'ΒΟΗΘ'!D122","v":9600},{"$f":"IF((F128<='ΒΟΗΘ'!B122),\"ΕΠΙΤΥΧΙΑ\",\"\")","v":"ΕΠΙΤΥΧΙΑ"}]
[872.0,"Αξιωματικών Ελλ. Αστυνομίας (Αστυνομικοί) Γεν. Σειρά","Αθήνα",22.0,0.8,{"$f":"E129*'ΒΟΗΘ'!D123","v":9600},{"$f":"IF((F129<='ΒΟΗΘ'!B123),\"ΕΠΙΤΥΧΙΑ\",\"\")","v":"ΕΠΙΤΥΧΙΑ"}]
[875.0,"Ψυχολόγων (ΣΣΑΣ) Γεν. Σειρά","Θεσσαλονίκη",3.0,1.2,{"$f":"E130*'ΒΟΗΘ'!D124","v":14400},{"$f":"IF((F130<='ΒΟΗΘ'!B124),\"ΕΠΙΤΥΧΙΑ\",\"\")","v":""}]
[876.0,"Σχολή Πυροσβεστών Γεν. Σειρά","Αθήνα",131.0,0.8,{"$f":"E131*'ΒΟΗΘ'!D125","v":9600},{"$f":"IF((F131<='ΒΟΗΘ'!B125),\"ΕΠΙΤΥΧΙΑ\",\"\")","v":"ΕΠΙΤΥΧΙΑ"}]
[877.0,"Σχολή Ανθυποπυραγών Γεν. Σειρά","Αθήνα",16.0,0.8,{"$f":"E132*'ΒΟΗΘ'!D126","v":9600},{"$f":"IF((F132<='ΒΟΗΘ'!B126),\"ΕΠΙΤΥΧΙΑ\",\"\")","v":"ΕΠΙΤΥΧΙΑ"}]
[881.0,"Σχολή Δοκίμων Σημαιοφόρων Λιμενικού Σώματος - Ελληνικής Ακτοφυλακής (Σ.Δ.Σ.Λ.Σ. -ΕΛ.ΑΚΤ.), ΝΕΟ","Αθήνα",21.0,0.9,{"$f":"E133*'ΒΟΗΘ'!D127","v":10800},{"$f":"IF((F133<='ΒΟΗΘ'!B127),\"ΕΠΙΤΥΧΙΑ\",\"\")","v":"ΕΠΙΤΥΧΙΑ"}]
[882.0,"Σχολή Δοκίμων Λιμενοφυλάκων, ΝΕΟ","Αθήνα",74.0,0.9,{"$f":"E134*'ΒΟΗΘ'!D128","v":10800},{"$f":"IF((F134<='ΒΟΗΘ'!B128),\"ΕΠΙΤΥΧΙΑ\",\"\")","v":"ΕΠΙΤΥΧΙΑ"}]
[1006.0,"Κοινωνιολογίας, ΕΚΠΑ, ΝΕΟ","Αθήνα",81.0,1.0,{"$f":"E135*'ΒΟΗΘ'!D129","v":12000},{"$f":"IF((F135<='ΒΟΗΘ'!B129),\"ΕΠΙΤΥΧΙΑ\",\"\")","v":"ΕΠΙΤΥΧΙΑ"}]
[1007.0,"Παιδαγωγικό Δευτεροβάθμιας Εκπαίδευσης, ΕΚΠΑ, ΝΕΟ","Αθήνα",135.0,0.8,{"$f":"E136*'ΒΟΗΘ'!D130","v":9600},{"$f":"IF((F136<='ΒΟΗΘ'!B130),\"ΕΠΙΤΥΧΙΑ\",\"\")","v":"ΕΠΙΤΥΧΙΑ"}]
[1010.0,"Φιλοσοφίας, ΕΚΠΑ, ΝΕΟ (πρώην Φιλοσοφίας - Παιδ/κής & Ψυχ/γίας)","Αθήνα",135.0,1.1,{"$f":"E137*'ΒΟΗΘ'!D131","v":13200},{"$f":"IF((F137<='ΒΟΗΘ'!B131),\"ΕΠΙΤΥΧΙΑ\",\"\")","v":""}]
[1011.0,"Ψηφιακών Τεχνών & Κινηματογράφου, ΕΚΠΑ, ΝΕΟ","Ψαχνά",81.0,0.8,{"$f":"E138*'ΒΟΗΘ'!D132","v":9600},{"$f":"IF((F138<='ΒΟΗΘ'!B132),\"ΕΠΙΤΥΧΙΑ\",\"\")","v":"ΕΠΙΤΥΧΙΑ"}]
[1241.0,"Αγωγής & Φροντίδας στην Πρώιμη Παιδική Ηλικία, Ιωαννίνων, ΝΕΟ (πρώην Προσχολικής Αγωγής, ΤΕΙ Ηπείρου)","Ιωάννινα",138.0,0.8,{"$f":"E139*'ΒΟΗΘ'!D133","v":9600},{"$f":"IF((F139<='ΒΟΗΘ'!B133),\"ΕΠΙΤΥΧΙΑ\",\"\")","v":"ΕΠΙΤΥΧΙΑ"}]
[1248.0,"Μουσικών Σπουδών, Ιωαννίνων (ΕΙΔΙΚΕΣ ΕΞΕΤΑΣΕΙΣ)","Αρτα",135.0,"(***)",{"$f":"E140*'ΒΟΗΘ'!D134","v":"#VALUE!"},{"$f":"IF((F140<='ΒΟΗΘ'!B134),\"ΕΠΙΤΥΧΙΑ\",\"\")","v":"#VALUE!"}]
[1251.0,"Ψυχολογίας, Ιωαννίνων, ΝΕΟ","Ιωάννινα",90.0,0.8,{"$f":"E141*'ΒΟΗΘ'!D135","v":9600},{"$f":"IF((F141<='ΒΟΗΘ'!B135),\"ΕΠΙΤΥΧΙΑ\",\"\")","v":"ΕΠΙΤΥΧΙΑ"}]
[1284.0,"Ιστορίας - Αρχαιολογίας, Πατρών, ΝΕΟ","Αγρίνιο",180.0,0.8,{"$f":"E142*'ΒΟΗΘ'!D136","v":9600},{"$f":"IF((F142<='ΒΟΗΘ'!B136),\"ΕΠΙΤΥΧΙΑ\",\"\")","v":"ΕΠΙΤΥΧΙΑ"}]
[1286.0,"Επιστημών της Εκπαίδευσης & Κοινωνικής Εργασίας, Πατρών, ΝΕΟ (πρώην Παιδαγ. Δημοτικής Εκπ/σης)","Πάτρα",225.0,1.15,{"$f":"E143*'ΒΟΗΘ'!D137","v":13800},{"$f":"IF((F143<='ΒΟΗΘ'!B137),\"ΕΠΙΤΥΧΙΑ\",\"\")","v":""}]
[1301.0,"Κοινωνικής Εργασίας, ΔΠΘ, ΝΕΟ","Κομοτηνή",97.0,1.1,{"$f":"E144*'ΒΟΗΘ'!D138","v":13200},{"$f":"IF((F144<='ΒΟΗΘ'!B138),\"ΕΠΙΤΥΧΙΑ\",\"\")","v":""}]
[1302.0,"Κοινωνικής Πολιτικής, ΔΠΘ, ΝΕΟ (πρώην Εισ. Κατ. Κοινωνικής Διοίκησης, Τμ. Κοιν. Διοίκησης & Πολ. Επιστήμης)","Κομοτηνή",105.0,0.8,{"$f":"E145*'ΒΟΗΘ'!D139","v":9600},{"$f":"IF((F145<='ΒΟΗΘ'!B139),\"ΕΠΙΤΥΧΙΑ\",\"\")","v":"ΕΠΙΤΥΧΙΑ"}]
[1423.0,"Γλωσσικών & Διαπολιτισμικών Σπουδών, Θεσσαλίας, ΝΕΟ","Βόλος",90.0,0.8,{"$f":"E146*'ΒΟΗΘ'!D140","v":9600},{"$f":"IF((F146<='ΒΟΗΘ'!B140),\"ΕΠΙΤΥΧΙΑ\",\"\")","v":"ΕΠΙΤΥΧΙΑ"}]
[1435.0,"Πολιτισμού & Δημιουργικών Μέσων & Βιομηχανιών, Θεσσαλίας, ΝΕΟ","Βόλος",81.0,0.8,{"$f":"E147*'ΒΟΗΘ'!D141","v":9600},{"$f":"IF((F147<='ΒΟΗΘ'!B141),\"ΕΠΙΤΥΧΙΑ\",\"\")","v":"ΕΠΙΤΥΧΙΑ"}]
[1456.0,"Ψηφιακών Μέσων & Επικοινωνίας, Ιονίου, ΝΕΟ (πρώην Ψηφιακών Μέσων & Επικοινωνίας ΤΕ, ΤΕΙ Ιόνιων Νήσων)","Αργοστόλι",211.0,0.8,{"$f":"E148*'ΒΟΗΘ'!D142","v":9600},{"$f":"IF((F148<='ΒΟΗΘ'!B142),\"ΕΠΙΤΥΧΙΑ\",\"\")","v":"ΕΠΙΤΥΧΙΑ"}]
[1517.0,"Παραστατικών & Ψηφιακών Τεχνών, Πελοποννήσου, ΝΕΟ","Ναύπλιον",113.0,0.8,{"$f":"E149*'ΒΟΗΘ'!D143","v":9600},{"$f":"IF((F149<='ΒΟΗΘ'!B143),\"ΕΠΙΤΥΧΙΑ\",\"\")","v":"ΕΠΙΤΥΧΙΑ"}]
[1550.0,"Ψυχολογίας, Δυτ. Μακεδονίας, ΝΕΟ","Φλώρινα",135.0,1.0,{"$f":"E150*'ΒΟΗΘ'!D144","v":12000},{"$f":"IF((F150<='ΒΟΗΘ'!B144),\"ΕΠΙΤΥΧΙΑ\",\"\")","v":"ΕΠΙΤΥΧΙΑ"}]
[1551.0,"Επικοινωνίας & Ψηφιακών Μέσων, Δυτ. Μακεδονίας, ΝΕΟ (πρώην Ψηφιακών Μέσων & Επικοινωνίας ΤΕ, ΤΕΙ Δυτ. Μακεδονίας)","Καστοριά",178.0,0.96,{"$f":"E151*'ΒΟΗΘ'!D145","v":11520},{"$f":"IF((F151<='ΒΟΗΘ'!B145),\"ΕΠΙΤΥΧΙΑ\",\"\")","v":"ΕΠΙΤΥΧΙΑ"}]
[1609.0,"Βιβλιοθηκονομίας, Αρχειονομίας και Συστημάτων Πληροφόρησης, ΔΙ.ΠΑ.Ε., ΝΕΟ (πρώην Βιβλιοθηκονομίας & Συστημάτων Πληροφόρησης, ΤΕΙ Θεσσαλονίκης)","Θεσσαλονίκη",130.0,0.9,{"$f":"E152*'ΒΟΗΘ'!D146","v":10800},{"$f":"IF((F152<='ΒΟΗΘ'!B146),\"ΕΠΙΤΥΧΙΑ\",\"\")","v":"ΕΠΙΤΥΧΙΑ"}]
[1610.0,"Αγωγής & Φροντίδας στην Πρώιμη Παιδική Ηλικία, ΔΙ.ΠΑ.Ε., ΝΕΟ (πρώην Προσχολικής Αγωγής, ΤΕΙ Θεσσαλονίκης)","Θεσσαλονίκη",113.0,0.8,{"$f":"E153*'ΒΟΗΘ'!D147","v":9600},{"$f":"IF((F153<='ΒΟΗΘ'!B147),\"ΕΠΙΤΥΧΙΑ\",\"\")","v":"ΕΠΙΤΥΧΙΑ"}]
[1652.0,"Κοινωνικής Εργασίας, ΕΛ.ΜΕ.ΠΑ., ΝΕΟ (πρώην Κοινωνικής Εργασίας, ΤΕΙ Κρήτης)","Ηράκλειο",125.0,1.1,{"$f":"E154*'ΒΟΗΘ'!D148","v":13200},{"$f":"IF((F154<='ΒΟΗΘ'!B148),\"ΕΠΙΤΥΧΙΑ\",\"\")","v":""}]

{"sheet":"2ο ΠΕΔΙΟ-ΘΕΤ ΤΕΧΝ","index":4,"n_rows":247,"n_cols":7,"rows_kept":247,"cut":false,"hidden":false,"merged":[[1,0,1,6],[2,1,3,1],[2,2,3,2],[2,6,3,6]]}
[]
["ΠΕΔΙΟ 2ο :   ΘΕΤΙΚΕΣ - ΤΕΧΝΟΛΟΓΙΚΕΣ ΣΧΟΛΕΣ"]
["ΚΩΔΙΚΟΣ","ΣΧΟΛΗ/ΤΜΗΜΑ","ΠΟΛΗ","ΕΙΣΑΚΤΕΟΙ","ΣΕΒΕ   ","ΕΒΕ   ","ΑΠΟΤΕΛΕΣΜΑ"]
["ΜΗΧΑΝΟΓΡ",null,null,"2021 (90%)","2021   ","2021 (90%)   "]
[98.0,"Πληροφορικής & Τηλεπικοινωνιών, Πελοποννήσου","Τρίπολη",197.0,0.9,{"$f":"E5*'ΒΟΗΘ'!D3","v":10800},{"$f":"IF((F5<='ΒΟΗΘ'!B3),\"ΕΠΙΤΥΧΙΑ\",\"\")","v":"ΕΠΙΤΥΧΙΑ"}]
[99.0,"Πληροφορικής & Τηλεπικοινωνιών, Θεσσαλίας, ΝΕΟ (πρώην Πληροφορικής)","Λαμία",243.0,0.8,{"$f":"E6*'ΒΟΗΘ'!D4","v":9600},{"$f":"IF((F6<='ΒΟΗΘ'!B4),\"ΕΠΙΤΥΧΙΑ\",\"\")","v":"ΕΠΙΤΥΧΙΑ"}]
[128.0,"Παιδαγωγικό Δημοτικής Εκπ/σης, ΕΚΠΑ","Αθήνα",180.0,1.2,{"$f":"E7*'ΒΟΗΘ'!D5","v":14400},{"$f":"IF((F7<='ΒΟΗΘ'!B5),\"ΕΠΙΤΥΧΙΑ\",\"\")","v":""}]
[130.0,"Παιδαγωγικό Δημοτικής Εκπ/σης, Ιωαννίνων","Ιωάννινα",209.0,0.8,{"$f":"E8*'ΒΟΗΘ'!D6","v":9600},{"$f":"IF((F8<='ΒΟΗΘ'!B6),\"ΕΠΙΤΥΧΙΑ\",\"\")","v":"ΕΠΙΤΥΧΙΑ"}]
[132.0,"Παιδαγωγικό Δημοτικής Εκπ/σης, Κρήτης","Ρέθυμνο",169.0,1.0,{"$f":"E9*'ΒΟΗΘ'!D7","v":12000},{"$f":"IF((F9<='ΒΟΗΘ'!B7),\"ΕΠΙΤΥΧΙΑ\",\"\")","v":"ΕΠΙΤΥΧΙΑ"}]
[134.0,"Επιστημών Προσχολ. Αγωγής & Εκπ/σης, ΑΠΘ","Θεσσαλονίκη",130.0,0.8,{"$f":"E10*'ΒΟΗΘ'!D8","v":9600},{"$f":"IF((F10<='ΒΟΗΘ'!B8),\"ΕΠΙΤΥΧΙΑ\",\"\")","v":"ΕΠΙΤΥΧΙΑ"}]
[136.0,"Επιστημών της Εκπαίδευσης & της Αγωγής στην Προσχολική Ηλικία, Πατρών","Πάτρα",143.0,0.8,{"$f":"E11*'ΒΟΗΘ'!D9","v":9600},{"$f":"IF((F11<='ΒΟΗΘ'!B9),\"ΕΠΙΤΥΧΙΑ\",\"\")","v":"ΕΠΙΤΥΧΙΑ"}]
[140.0,"Παιδαγωγικό Δημοτικής Εκπ/σης, ΑΠΘ","Θεσσαλονίκη",180.0,0.8,{"$f":"E12*'ΒΟΗΘ'!D10","v":9600},{"$f":"IF((F12<='ΒΟΗΘ'!B10),\"ΕΠΙΤΥΧΙΑ\",\"\")","v":"ΕΠΙΤΥΧΙΑ"}]
[142.0,"Παιδαγωγικό Δημοτικής Εκπ/σης, Θράκης","Αλεξ/πολη",216.0,0.8,{"$f":"E13*'ΒΟΗΘ'!D11","v":9600},{"$f":"IF((F13<='ΒΟΗΘ'!B11),\"ΕΠΙΤΥΧΙΑ\",\"\")","v":"ΕΠΙΤΥΧΙΑ"}]
[143.0,"Παιδαγωγικό Δημοτικής Εκπ/σης, Αιγαίου","Ρόδος",306.0,0.8,{"$f":"E14*'ΒΟΗΘ'!D12","v":9600},{"$f":"IF((F14<='ΒΟΗΘ'!B12),\"ΕΠΙΤΥΧΙΑ\",\"\")","v":"ΕΠΙΤΥΧΙΑ"}]
[154.0,"Εκπαίδευσης & Αγωγής στην Προσχ. Ηλικία, ΕΚΠΑ","Αθήνα",105.0,0.8,{"$f":"E15*'ΒΟΗΘ'!D13","v":9600},{"$f":"IF((F15<='ΒΟΗΘ'!B13),\"ΕΠΙΤΥΧΙΑ\",\"\")","v":"ΕΠΙΤΥΧΙΑ"}]
[156.0,"Παιδαγωγικό Νηπιαγωγών","Ιωάννινα",223.0,0.8,{"$f":"E16*'ΒΟΗΘ'!D14","v":9600},{"$f":"IF((F16<='ΒΟΗΘ'!B14),\"ΕΠΙΤΥΧΙΑ\",\"\")","v":"ΕΠΙΤΥΧΙΑ"}]
[158.0,"Παιδαγωγικό Προσχολ. Εκπ/σης, Κρήτης","Ρέθυμνο",152.0,1.0,{"$f":"E17*'ΒΟΗΘ'!D15","v":12000},{"$f":"IF((F17<='ΒΟΗΘ'!B15),\"ΕΠΙΤΥΧΙΑ\",\"\")","v":"ΕΠΙΤΥΧΙΑ"}]
[160.0,"Επιστημών της Εκπαίδευσης στην Προσχολική Ηλικία, Θράκης","Αλεξ/πολη",193.0,1.0,{"$f":"E18*'ΒΟΗΘ'!D16","v":12000},{"$f":"IF((F18<='ΒΟΗΘ'!B16),\"ΕΠΙΤΥΧΙΑ\",\"\")","v":"ΕΠΙΤΥΧΙΑ"}]
[162.0,"Επιστημών της Προσχ. Αγωγής & του Εκπ/κού Σχεδιασμού, Αιγαίου","Ρόδος",259.0,0.8,{"$f":"E19*'ΒΟΗΘ'!D17","v":9600},{"$f":"IF((F19<='ΒΟΗΘ'!B17),\"ΕΠΙΤΥΧΙΑ\",\"\")","v":"ΕΠΙΤΥΧΙΑ"}]
[163.0,"Κινηματογράφου","Θεσσαλονίκη",73.0,1.0,{"$f":"E20*'ΒΟΗΘ'!D18","v":12000},{"$f":"IF((F20<='ΒΟΗΘ'!B18),\"ΕΠΙΤΥΧΙΑ\",\"\")","v":"ΕΠΙΤΥΧΙΑ"}]
[164.0,"Παιδαγωγικό Δημοτικής Εκπ/σης, Θεσσαλίας","Βόλος",141.0,0.8,{"$f":"E21*'ΒΟΗΘ'!D19","v":9600},{"$f":"IF((F21<='ΒΟΗΘ'!B19),\"ΕΠΙΤΥΧΙΑ\",\"\")","v":"ΕΠΙΤΥΧΙΑ"}]
[166.0,"Παιδαγωγικό Προσχολ. Εκπ/σης, Θεσσαλίας","Βόλος",125.0,0.8,{"$f":"E22*'ΒΟΗΘ'!D20","v":9600},{"$f":"IF((F22<='ΒΟΗΘ'!B20),\"ΕΠΙΤΥΧΙΑ\",\"\")","v":"ΕΠΙΤΥΧΙΑ"}]
[168.0,"Θεάτρου, ΑΠΘ","Θεσσαλονίκη",63.0,0.8,{"$f":"E23*'ΒΟΗΘ'!D21","v":9600},{"$f":"IF((F23<='ΒΟΗΘ'!B21),\"ΕΠΙΤΥΧΙΑ\",\"\")","v":"ΕΠΙΤΥΧΙΑ"}]
[173.0,"Ιστορίας & Φιλοσοφίας της Επιστήμης, ΕΚΠΑ","Αθήνα",114.0,1.05,{"$f":"E24*'ΒΟΗΘ'!D22","v":12600},{"$f":"IF((F24<='ΒΟΗΘ'!B22),\"ΕΠΙΤΥΧΙΑ\",\"\")","v":""}]
[178.0,"Παιδαγωγικό Ειδικής Αγωγής, Θεσσαλίας","Βόλος",114.0,1.0,{"$f":"E25*'ΒΟΗΘ'!D23","v":12000},{"$f":"IF((F25<='ΒΟΗΘ'!B23),\"ΕΠΙΤΥΧΙΑ\",\"\")","v":"ΕΠΙΤΥΧΙΑ"}]
[200.0,"Επιστήμης & Τεχνολογίας Υλικών, Κρήτης","Ηράκλειο",106.0,0.8,{"$f":"E26*'ΒΟΗΘ'!D24","v":9600},{"$f":"IF((F26<='ΒΟΗΘ'!B24),\"ΕΠΙΤΥΧΙΑ\",\"\")","v":"ΕΠΙΤΥΧΙΑ"}]
[201.0,"Πολιτικών Μηχανικών, ΕΜΠ","Αθήνα",113.0,1.2,{"$f":"E27*'ΒΟΗΘ'!D25","v":14400},{"$f":"IF((F27<='ΒΟΗΘ'!B25),\"ΕΠΙΤΥΧΙΑ\",\"\")","v":""}]
[203.0,"Πολιτικών Μηχανικών, ΑΠΘ","Θεσσαλονίκη",127.0,0.8,{"$f":"E28*'ΒΟΗΘ'!D26","v":9600},{"$f":"IF((F28<='ΒΟΗΘ'!B26),\"ΕΠΙΤΥΧΙΑ\",\"\")","v":"ΕΠΙΤΥΧΙΑ"}]
[205.0,"Πολιτικών Μηχανικών, Πατρών","Πάτρα",162.0,1.2,{"$f":"E29*'ΒΟΗΘ'!D27","v":14400},{"$f":"IF((F29<='ΒΟΗΘ'!B27),\"ΕΠΙΤΥΧΙΑ\",\"\")","v":""}]
[207.0,"Πολιτικών Μηχανικών, Θράκης","Ξάνθη",191.0,1.1,{"$f":"E30*'ΒΟΗΘ'!D28","v":13200},{"$f":"IF((F30<='ΒΟΗΘ'!B28),\"ΕΠΙΤΥΧΙΑ\",\"\")","v":""}]
[208.0,"Πολιτικών Μηχανικών, Θεσσαλίας","Βόλος",94.0,1.0,{"$f":"E31*'ΒΟΗΘ'!D29","v":12000},{"$f":"IF((F31<='ΒΟΗΘ'!B29),\"ΕΠΙΤΥΧΙΑ\",\"\")","v":"ΕΠΙΤΥΧΙΑ"}]
[209.0,"Μηχανολόγων Μηχανικών, ΕΜΠ","Αθήνα",113.0,1.2,{"$f":"E32*'ΒΟΗΘ'!D30","v":14400},{"$f":"IF((F32<='ΒΟΗΘ'!B30),\"ΕΠΙΤΥΧΙΑ\",\"\")","v":""}]
[210.0,"Μηχανολόγων Μηχανικών, Δυτ. Μακεδονίας","Κοζάνη",136.0,1.2,{"$f":"E33*'ΒΟΗΘ'!D31","v":14400},{"$f":"IF((F33<='ΒΟΗΘ'!B31),\"ΕΠΙΤΥΧΙΑ\",\"\")","v":""}]
[211.0,"Μηχανολόγων Μηχανικών, ΑΠΘ","Θεσσαλονίκη",94.0,1.2,{"$f":"E34*'ΒΟΗΘ'!D32","v":14400},{"$f":"IF((F34<='ΒΟΗΘ'!B32),\"ΕΠΙΤΥΧΙΑ\",\"\")","v":""}]
[212.0,"Δασολογίας & Διαχείρισης Περ/ντος & Φ.Πόρων, Θράκης","Ορεστιάδα",190.0,0.8,{"$f":"E35*'ΒΟΗΘ'!D33","v":9600},{"$f":"IF((F35<='ΒΟΗΘ'!B33),\"ΕΠΙΤΥΧΙΑ\",\"\")","v":"ΕΠΙΤΥΧΙΑ"}]
[213.0,"Μηχανολόγων & Αεροναυπηγών Μηχανικών, Πατρών","Πάτρα",136.0,1.2,{"$f":"E36*'ΒΟΗΘ'!D34","v":14400},{"$f":"IF((F36<='ΒΟΗΘ'!B34),\"ΕΠΙΤΥΧΙΑ\",\"\")","v":""}]
[214.0,"Χημικών Μηχανικών και Μηχανικών Περιβάλλοντος (πρώην Μηχανικών Περιβάλλοντος), Πολυτεχν. Κρήτης","Χανιά",113.0,1.0,{"$f":"E37*'ΒΟΗΘ'!D35","v":12000},{"$f":"IF((F37<='ΒΟΗΘ'!B35),\"ΕΠΙΤΥΧΙΑ\",\"\")","v":"ΕΠΙΤΥΧΙΑ"}]
[215.0,"Μηχανικών Η/Υ & Πληροφορικής","Πάτρα",183.0,1.2,{"$f":"E38*'ΒΟΗΘ'!D36","v":14400},{"$f":"IF((F38<='ΒΟΗΘ'!B36),\"ΕΠΙΤΥΧΙΑ\",\"\")","v":""}]
[216.0,"Επιστήμης Υπολογιστών, Κρήτης","Ηράκλειο",148.0,1.2,{"$f":"E39*'ΒΟΗΘ'!D37","v":14400},{"$f":"IF((F39<='ΒΟΗΘ'!B37),\"ΕΠΙΤΥΧΙΑ\",\"\")","v":""}]
[217.0,"Ηλεκτρολόγων Μηχανικών & Μηχανικών Υπολογιστών, ΕΜΠ","Αθήνα",221.0,1.2,{"$f":"E40*'ΒΟΗΘ'!D38","v":14400},{"$f":"IF((F40<='ΒΟΗΘ'!B38),\"ΕΠΙΤΥΧΙΑ\",\"\")","v":""}]
[218.0,"Στατιστικής & Αναλογιστικών-Χρηματοοικονομικών Μαθηματικών, Αιγαίου","Σάμος",243.0,0.8,{"$f":"E41*'ΒΟΗΘ'!D39","v":9600},{"$f":"IF((F41<='ΒΟΗΘ'!B39),\"ΕΠΙΤΥΧΙΑ\",\"\")","v":"ΕΠΙΤΥΧΙΑ"}]
[219.0,"Ηλεκτρολόγων Μηχανικών & Μηχανικών Υπολογιστών","Θεσσαλονίκη",168.0,1.2,{"$f":"E42*'ΒΟΗΘ'!D40","v":14400},{"$f":"IF((F42<='ΒΟΗΘ'!B40),\"ΕΠΙΤΥΧΙΑ\",\"\")","v":""}]
[220.0,"Ηλεκτρολόγων Μηχανικών & Μηχανικών Υπολογιστών, Θεσσαλίας","Βόλος",168.0,1.0,{"$f":"E43*'ΒΟΗΘ'!D41","v":12000},{"$f":"IF((F43<='ΒΟΗΘ'!B41),\"ΕΠΙΤΥΧΙΑ\",\"\")","v":"ΕΠΙΤΥΧΙΑ"}]
[221.0,"Ηλεκτρολόγων Μηχανικών & Τεχνολογίας Υπολογιστών","Πάτρα",265.0,1.2,{"$f":"E44*'ΒΟΗΘ'!D42","v":14400},{"$f":"IF((F44<='ΒΟΗΘ'!B42),\"ΕΠΙΤΥΧΙΑ\",\"\")","v":""}]
[222.0,"Μηχανικών Οικονομίας & Διοίκησης, Αιγαίου","Χίος",113.0,0.8,{"$f":"E45*'ΒΟΗΘ'!D43","v":9600},{"$f":"IF((F45<='ΒΟΗΘ'!B43),\"ΕΠΙΤΥΧΙΑ\",\"\")","v":"ΕΠΙΤΥΧΙΑ"}]
[223.0,"Ηλεκτρολόγων Μηχανικών & Μηχανικών Υπολογιστών, Θράκης","Ξάνθη",216.0,1.2,{"$f":"E46*'ΒΟΗΘ'!D44","v":14400},{"$f":"IF((F46<='ΒΟΗΘ'!B44),\"ΕΠΙΤΥΧΙΑ\",\"\")","v":""}]
[224.0,"Μηχανικών Παραγωγής & Διοίκησης, Θράκης","Ξάνθη",118.0,1.1,{"$f":"E47*'ΒΟΗΘ'!D45","v":13200},{"$f":"IF((F47<='ΒΟΗΘ'!B45),\"ΕΠΙΤΥΧΙΑ\",\"\")","v":""}]
[225.0,"Αγρονόμων και Τοπογράφων Μηχανικών - Μηχανικών Γεωπληροφορικής (πρώην Αγρονόμων & Τοπογράφων Μηχανικών), ΕΜΠ","Αθήνα",106.0,1.2,{"$f":"E48*'ΒΟΗΘ'!D46","v":14400},{"$f":"IF((F48<='ΒΟΗΘ'!B46),\"ΕΠΙΤΥΧΙΑ\",\"\")","v":""}]
[227.0,"Αγρονόμων & Τοπογράφων Μηχανικών, ΑΠΘ","Θεσσαλονίκη",106.0,1.05,{"$f":"E49*'ΒΟΗΘ'!D47","v":12600},{"$f":"IF((F49<='ΒΟΗΘ'!B47),\"ΕΠΙΤΥΧΙΑ\",\"\")","v":""}]
[228.0,"Μηχανικών Χωροταξίας, Πολεοδομίας & Περιφερειακής Ανάπτ., Θεσσαλίας","Βόλος",86.0,0.8,{"$f":"E50*'ΒΟΗΘ'!D48","v":9600},{"$f":"IF((F50<='ΒΟΗΘ'!B48),\"ΕΠΙΤΥΧΙΑ\",\"\")","v":"ΕΠΙΤΥΧΙΑ"}]
[229.0,"Ναυπηγών Μηχανολόγων Μηχανικών, ΕΜΠ","Αθήνα",86.0,1.2,{"$f":"E51*'ΒΟΗΘ'!D49","v":14400},{"$f":"IF((F51<='ΒΟΗΘ'!B49),\"ΕΠΙΤΥΧΙΑ\",\"\")","v":""}]
[230.0,"Μηχανικών Παραγωγής & Διοίκησης, Πολυτ. Κρήτης","Χανιά",154.0,1.2,{"$f":"E52*'ΒΟΗΘ'!D50","v":14400},{"$f":"IF((F52<='ΒΟΗΘ'!B50),\"ΕΠΙΤΥΧΙΑ\",\"\")","v":""}]
[231.0,"Αρχιτεκτόνων Μηχανικών, ΕΜΠ","Αθήνα",86.0,1.0,{"$f":"E53*'ΒΟΗΘ'!D51","v":12000},{"$f":"IF((F53<='ΒΟΗΘ'!B51),\"ΕΠΙΤΥΧΙΑ\",\"\")","v":"ΕΠΙΤΥΧΙΑ"}]
[232.0,"Αρχιτεκτόνων Μηχανικών, Πατρών","Πάτρα",94.0,1.2,{"$f":"E54*'ΒΟΗΘ'!D52","v":14400},{"$f":"IF((F54<='ΒΟΗΘ'!B52),\"ΕΠΙΤΥΧΙΑ\",\"\")","v":""}]
[233.0,"Αρχιτεκτόνων Μηχανικών, ΑΠΘ","Θεσσαλονίκη",94.0,1.0,{"$f":"E55*'ΒΟΗΘ'!D53","v":12000},{"$f":"IF((F55<='ΒΟΗΘ'!B53),\"ΕΠΙΤΥΧΙΑ\",\"\")","v":"ΕΠΙΤΥΧΙΑ"}]
[234.0,"Αρχιτεκτόνων Μηχανικών, ΔΠΘ","Ξάνθη",100.0,1.1,{"$f":"E56*'ΒΟΗΘ'!D54","v":13200},{"$f":"IF((F56<='ΒΟΗΘ'!B54),\"ΕΠΙΤΥΧΙΑ\",\"\")","v":""}]
[235.0,"Χημικών Μηχανικών, ΕΜΠ","Αθήνα",116.0,1.2,{"$f":"E57*'ΒΟΗΘ'!D55","v":14400},{"$f":"IF((F57<='ΒΟΗΘ'!B55),\"ΕΠΙΤΥΧΙΑ\",\"\")","v":""}]
[236.0,"Αρχιτεκτόνων Μηχανικών, Θεσσαλίας","Βόλος",104.0,1.0,{"$f":"E58*'ΒΟΗΘ'!D56","v":12000},{"$f":"IF((F58<='ΒΟΗΘ'!B56),\"ΕΠΙΤΥΧΙΑ\",\"\")","v":"ΕΠΙΤΥΧΙΑ"}]
[237.0,"Χημικών Μηχανικών, ΑΠΘ","Θεσσαλονίκη",96.0,1.2,{"$f":"E59*'ΒΟΗΘ'!D57","v":14400},{"$f":"IF((F59<='ΒΟΗΘ'!B57),\"ΕΠΙΤΥΧΙΑ\",\"\")","v":""}]
[238.0,"Μηχανικών Σχεδίασης Προϊόντων & Συστημάτων, Αιγαίου","Σύρος",113.0,1.0,{"$f":"E60*'ΒΟΗΘ'!D58","v":12000},{"$f":"IF((F60<='ΒΟΗΘ'!B58),\"ΕΠΙΤΥΧΙΑ\",\"\")","v":"ΕΠΙΤΥΧΙΑ"}]
[239.0,"Χημικών Μηχανικών, Πατρών","Πάτρα",137.0,1.2,{"$f":"E61*'ΒΟΗΘ'!D59","v":14400},{"$f":"IF((F61<='ΒΟΗΘ'!B59),\"ΕΠΙΤΥΧΙΑ\",\"\")","v":""}]
[241.0,"Μηχανικών Μεταλλείων Μεταλλουργών, ΕΜΠ","Αθήνα",91.0,0.8,{"$f":"E62*'ΒΟΗΘ'!D60","v":9600},{"$f":"IF((F62<='ΒΟΗΘ'!B60),\"ΕΠΙΤΥΧΙΑ\",\"\")","v":"ΕΠΙΤΥΧΙΑ"}]
[242.0,"Μηχανικών Ορυκτών Πόρων, Πολυτ. Κρήτης","Χανιά",109.0,0.8,{"$f":"E63*'ΒΟΗΘ'!D61","v":9600},{"$f":"IF((F63<='ΒΟΗΘ'!B61),\"ΕΠΙΤΥΧΙΑ\",\"\")","v":"ΕΠΙΤΥΧΙΑ"}]
[243.0,"Μαθηματικών, ΕΚΠΑ","Αθήνα",180.0,1.2,{"$f":"E64*'ΒΟΗΘ'!D62","v":14400},{"$f":"IF((F64<='ΒΟΗΘ'!B62),\"ΕΠΙΤΥΧΙΑ\",\"\")","v":""}]
[245.0,"Μαθηματικών","Θεσσαλονίκη",131.0,1.2,{"$f":"E65*'ΒΟΗΘ'!D63","v":14400},{"$f":"IF((F65<='ΒΟΗΘ'!B63),\"ΕΠΙΤΥΧΙΑ\",\"\")","v":""}]
[246.0,"Εφαρμοσμένων Μαθημ. & Φυσ. Επιστημών, ΕΜΠ","Αθήνα",144.0,1.2,{"$f":"E66*'ΒΟΗΘ'!D64","v":14400},{"$f":"IF((F66<='ΒΟΗΘ'!B64),\"ΕΠΙΤΥΧΙΑ\",\"\")","v":""}]
[247.0,"Μαθηματικών","Πάτρα",300.0,0.9,{"$f":"E67*'ΒΟΗΘ'!D65","v":10800},{"$f":"IF((F67<='ΒΟΗΘ'!B65),\"ΕΠΙΤΥΧΙΑ\",\"\")","v":"ΕΠΙΤΥΧΙΑ"}]
[248.0,"Εφαρμοσμένων Μαθηματικών, Κρήτης / Εισαγωγική Κατεύθυνση (Τμ. Μαθηματικών & Εφαρμοσμένων Μαθηματικών)","Ηράκλειο",148.0,0.9,{"$f":"E68*'ΒΟΗΘ'!D66","v":10800},{"$f":"IF((F68<='ΒΟΗΘ'!B66),\"ΕΠΙΤΥΧΙΑ\",\"\")","v":"ΕΠΙΤΥΧΙΑ"}]
[249.0,"Μαθηματικών","Ιωάννινα",246.0,0.8,{"$f":"E69*'ΒΟΗΘ'!D67","v":9600},{"$f":"IF((F69<='ΒΟΗΘ'!B67),\"ΕΠΙΤΥΧΙΑ\",\"\")","v":"ΕΠΙΤΥΧΙΑ"}]
[251.0,"Μαθηματικών, Κρήτης / Εισαγ. Κατ/νση (Τμ. Μαθηματικών & Εφαρμοσμένων Μαθηματικών)","Ηράκλειο",158.0,0.9,{"$f":"E70*'ΒΟΗΘ'!D68","v":10800},{"$f":"IF((F70<='ΒΟΗΘ'!B68),\"ΕΠΙΤΥΧΙΑ\",\"\")","v":"ΕΠΙΤΥΧΙΑ"}]
[252.0,"Μαθηματικών, Αιγαίου","Σάμος",278.0,0.8,{"$f":"E71*'ΒΟΗΘ'!D69","v":9600},{"$f":"IF((F71<='ΒΟΗΘ'!B69),\"ΕΠΙΤΥΧΙΑ\",\"\")","v":"ΕΠΙΤΥΧΙΑ"}]
[253.0,"Φυσικής, ΕΚΠΑ","Αθήνα",158.0,1.2,{"$f":"E72*'ΒΟΗΘ'!D70","v":14400},{"$f":"IF((F72<='ΒΟΗΘ'!B70),\"ΕΠΙΤΥΧΙΑ\",\"\")","v":""}]
[255.0,"Φυσικής, ΑΠΘ","Θεσσαλονίκη",162.0,1.2,{"$f":"E73*'ΒΟΗΘ'!D71","v":14400},{"$f":"IF((F73<='ΒΟΗΘ'!B71),\"ΕΠΙΤΥΧΙΑ\",\"\")","v":""}]
[257.0,"Φυσικής, Πατρών","Πάτρα",181.0,1.0,{"$f":"E74*'ΒΟΗΘ'!D72","v":12000},{"$f":"IF((F74<='ΒΟΗΘ'!B72),\"ΕΠΙΤΥΧΙΑ\",\"\")","v":"ΕΠΙΤΥΧΙΑ"}]
[259.0,"Φυσικής, Ιωαννίνων","Ιωάννινα",201.0,0.8,{"$f":"E75*'ΒΟΗΘ'!D73","v":9600},{"$f":"IF((F75<='ΒΟΗΘ'!B73),\"ΕΠΙΤΥΧΙΑ\",\"\")","v":"ΕΠΙΤΥΧΙΑ"}]
[261.0,"Φυσικής, Κρήτης","Ηράκλειο",150.0,1.2,{"$f":"E76*'ΒΟΗΘ'!D74","v":14400},{"$f":"IF((F76<='ΒΟΗΘ'!B74),\"ΕΠΙΤΥΧΙΑ\",\"\")","v":""}]
[262.0,"Ψηφιακών Συστημάτων, Πειραιώς","Πειραιάς",163.0,1.2,{"$f":"E77*'ΒΟΗΘ'!D75","v":14400},{"$f":"IF((F77<='ΒΟΗΘ'!B75),\"ΕΠΙΤΥΧΙΑ\",\"\")","v":""}]
[263.0,"Χημείας, ΕΚΠΑ","Αθήνα",94.0,1.2,{"$f":"E78*'ΒΟΗΘ'!D76","v":14400},{"$f":"IF((F78<='ΒΟΗΘ'!B76),\"ΕΠΙΤΥΧΙΑ\",\"\")","v":""}]
[265.0,"Χημείας, ΑΠΘ","Θεσσαλονίκη",167.0,0.8,{"$f":"E79*'ΒΟΗΘ'!D77","v":9600},{"$f":"IF((F79<='ΒΟΗΘ'!B77),\"ΕΠΙΤΥΧΙΑ\",\"\")","v":"ΕΠΙΤΥΧΙΑ"}]
[267.0,"Χημείας, Πατρών","Πάτρα",170.0,0.8,{"$f":"E80*'ΒΟΗΘ'!D78","v":9600},{"$f":"IF((F80<='ΒΟΗΘ'!B78),\"ΕΠΙΤΥΧΙΑ\",\"\")","v":"ΕΠΙΤΥΧΙΑ"}]
[269.0,"Χημείας, Ιωαννίνων","Ιωάννινα",199.0,0.8,{"$f":"E81*'ΒΟΗΘ'!D79","v":9600},{"$f":"IF((F81<='ΒΟΗΘ'!B79),\"ΕΠΙΤΥΧΙΑ\",\"\")","v":"ΕΠΙΤΥΧΙΑ"}]
[270.0,"Χημείας, Κρήτης","Ηράκλειο",129.0,1.2,{"$f":"E82*'ΒΟΗΘ'!D80","v":14400},{"$f":"IF((F82<='ΒΟΗΘ'!B80),\"ΕΠΙΤΥΧΙΑ\",\"\")","v":""}]
[272.0,"Μηχανικών Επιστήμης Υλικών","Ιωάννινα",121.0,0.85,{"$f":"E83*'ΒΟΗΘ'!D81","v":10200},{"$f":"IF((F83<='ΒΟΗΘ'!B81),\"ΕΠΙΤΥΧΙΑ\",\"\")","v":"ΕΠΙΤΥΧΙΑ"}]
[273.0,"Γεωπονίας, ΑΠΘ","Θεσσαλονίκη",200.0,1.1,{"$f":"E84*'ΒΟΗΘ'!D82","v":13200},{"$f":"IF((F84<='ΒΟΗΘ'!B82),\"ΕΠΙΤΥΧΙΑ\",\"\")","v":""}]
[274.0,"Γεωπονίας, Φυτικής Παραγ. & Αγροτ. Περιβ/ντος, Θεσσαλίας","Βόλος",139.0,0.9,{"$f":"E85*'ΒΟΗΘ'!D83","v":10800},{"$f":"IF((F85<='ΒΟΗΘ'!B83),\"ΕΠΙΤΥΧΙΑ\",\"\")","v":"ΕΠΙΤΥΧΙΑ"}]
[275.0,"Δασολογίας & Φυσικού Περιβάλλοντος","Θεσσαλονίκη",81.0,1.0,{"$f":"E86*'ΒΟΗΘ'!D84","v":12000},{"$f":"IF((F86<='ΒΟΗΘ'!B84),\"ΕΠΙΤΥΧΙΑ\",\"\")","v":"ΕΠΙΤΥΧΙΑ"}]
[276.0,"Περιβάλλοντος, Αιγαίου","Μυτιλήνη",138.0,0.8,{"$f":"E87*'ΒΟΗΘ'!D85","v":9600},{"$f":"IF((F87<='ΒΟΗΘ'!B85),\"ΕΠΙΤΥΧΙΑ\",\"\")","v":"ΕΠΙΤΥΧΙΑ"}]
[277.0,"Βιολογίας, ΕΚΠΑ","Αθήνα",93.0,1.2,{"$f":"E88*'ΒΟΗΘ'!D86","v":14400},{"$f":"IF((F88<='ΒΟΗΘ'!B86),\"ΕΠΙΤΥΧΙΑ\",\"\")","v":""}]
[279.0,"Βιολογίας, ΑΠΘ","Θεσσαλονίκη",101.0,1.2,{"$f":"E89*'ΒΟΗΘ'!D87","v":14400},{"$f":"IF((F89<='ΒΟΗΘ'!B87),\"ΕΠΙΤΥΧΙΑ\",\"\")","v":""}]
[280.0,"Βιολογικών Εφαρμογών & Τεχνολογιών","Ιωάννινα",112.0,0.8,{"$f":"E90*'ΒΟΗΘ'!D88","v":9600},{"$f":"IF((F90<='ΒΟΗΘ'!B88),\"ΕΠΙΤΥΧΙΑ\",\"\")","v":"ΕΠΙΤΥΧΙΑ"}]
[281.0,"Βιολογίας, Πατρών","Πάτρα",134.0,1.2,{"$f":"E91*'ΒΟΗΘ'!D89","v":14400},{"$f":"IF((F91<='ΒΟΗΘ'!B89),\"ΕΠΙΤΥΧΙΑ\",\"\")","v":""}]
[282.0,"Βιολογίας, Κρήτης","Ηράκλειο",114.0,1.0,{"$f":"E92*'ΒΟΗΘ'!D90","v":12000},{"$f":"IF((F92<='ΒΟΗΘ'!B90),\"ΕΠΙΤΥΧΙΑ\",\"\")","v":"ΕΠΙΤΥΧΙΑ"}]
[283.0,"Γεωλογίας & Γεωπεριβάλλοντος, ΕΚΠΑ","Αθήνα",113.0,0.95,{"$f":"E93*'ΒΟΗΘ'!D91","v":11400},{"$f":"IF((F93<='ΒΟΗΘ'!B91),\"ΕΠΙΤΥΧΙΑ\",\"\")","v":"ΕΠΙΤΥΧΙΑ"}]
[284.0,"Βιοχημείας & Βιοτεχνολογίας, Θεσσαλίας","Λάρισα",103.0,0.8,{"$f":"E94*'ΒΟΗΘ'!D92","v":9600},{"$f":"IF((F94<='ΒΟΗΘ'!B92),\"ΕΠΙΤΥΧΙΑ\",\"\")","v":"ΕΠΙΤΥΧΙΑ"}]
[285.0,"Γεωλογίας, ΑΠΘ","Θεσσαλονίκη",104.0,0.82,{"$f":"E95*'ΒΟΗΘ'!D93","v":9840},{"$f":"IF((F95<='ΒΟΗΘ'!B93),\"ΕΠΙΤΥΧΙΑ\",\"\")","v":"ΕΠΙΤΥΧΙΑ"}]
[287.0,"Γεωλογίας, Πατρών","Πάτρα",164.0,0.85,{"$f":"E96*'ΒΟΗΘ'!D94","v":10200},{"$f":"IF((F96<='ΒΟΗΘ'!B94),\"ΕΠΙΤΥΧΙΑ\",\"\")","v":"ΕΠΙΤΥΧΙΑ"}]
[288.0,"Επιστήμης των Υλικών","Πάτρα",118.0,0.8,{"$f":"E97*'ΒΟΗΘ'!D95","v":9600},{"$f":"IF((F97<='ΒΟΗΘ'!B95),\"ΕΠΙΤΥΧΙΑ\",\"\")","v":"ΕΠΙΤΥΧΙΑ"}]
[290.0,"Μοριακής Βιολογίας & Γενετικής, Θράκης","Αλεξ/πολη",117.0,1.2,{"$f":"E98*'ΒΟΗΘ'!D96","v":14400},{"$f":"IF((F98<='ΒΟΗΘ'!B96),\"ΕΠΙΤΥΧΙΑ\",\"\")","v":""}]
[310.0,"Γεωγραφίας, Αιγαίου","Μυτιλήνη",177.0,0.8,{"$f":"E99*'ΒΟΗΘ'!D97","v":9600},{"$f":"IF((F99<='ΒΟΗΘ'!B97),\"ΕΠΙΤΥΧΙΑ\",\"\")","v":"ΕΠΙΤΥΧΙΑ"}]
[318.0,"Στατιστικής & Ασφαλιστικής Επιστήμης, Πειραιώς","Πειραιάς",146.0,1.2,{"$f":"E100*'ΒΟΗΘ'!D98","v":14400},{"$f":"IF((F100<='ΒΟΗΘ'!B98),\"ΕΠΙΤΥΧΙΑ\",\"\")","v":""}]
[323.0,"Επιστήμης Φυτικής Παραγωγής, Γεωπονικού","Αθήνα",167.0,1.0,{"$f":"E101*'ΒΟΗΘ'!D99","v":12000},{"$f":"IF((F101<='ΒΟΗΘ'!B99),\"ΕΠΙΤΥΧΙΑ\",\"\")","v":"ΕΠΙΤΥΧΙΑ"}]
[324.0,"Επιστήμης Ζωικής Παραγωγής, Γεωπονικού (πρώην Επιστήμης Ζωικής Παραγωγής & Υδατοκαλλιεργειών)","Αθήνα",109.0,1.0,{"$f":"E102*'ΒΟΗΘ'!D100","v":12000},{"$f":"IF((F102<='ΒΟΗΘ'!B100),\"ΕΠΙΤΥΧΙΑ\",\"\")","v":"ΕΠΙΤΥΧΙΑ"}]
[325.0,"Βιοτεχνολογίας, Γεωπονικού","Αθήνα",109.0,1.01,{"$f":"E103*'ΒΟΗΘ'!D101","v":12120},{"$f":"IF((F103<='ΒΟΗΘ'!B101),\"ΕΠΙΤΥΧΙΑ\",\"\")","v":"ΕΠΙΤΥΧΙΑ"}]
[327.0,"Αξιοποίησης Φυσ. Πόρων & Γεωργ. Μηχανικής, Γεωπονικού","Αθήνα",118.0,1.04,{"$f":"E104*'ΒΟΗΘ'!D102","v":12480},{"$f":"IF((F104<='ΒΟΗΘ'!B102),\"ΕΠΙΤΥΧΙΑ\",\"\")","v":"ΕΠΙΤΥΧΙΑ"}]
[328.0,"Επιστήμης Τροφίμων & Διατροφής του Ανθρώπου, Γεωπονικού","Αθήνα",101.0,1.2,{"$f":"E105*'ΒΟΗΘ'!D103","v":14400},{"$f":"IF((F105<='ΒΟΗΘ'!B103),\"ΕΠΙΤΥΧΙΑ\",\"\")","v":""}]
[329.0,"Στατιστικής, Ο.Π.Α.","Αθήνα",97.0,1.2,{"$f":"E106*'ΒΟΗΘ'!D104","v":14400},{"$f":"IF((F106<='ΒΟΗΘ'!B104),\"ΕΠΙΤΥΧΙΑ\",\"\")","v":""}]
[330.0,"Πληροφορικής & Τηλεπικοινωνιών, ΕΚΠΑ","Αθήνα",174.0,1.2,{"$f":"E107*'ΒΟΗΘ'!D105","v":14400},{"$f":"IF((F107<='ΒΟΗΘ'!B105),\"ΕΠΙΤΥΧΙΑ\",\"\")","v":""}]
[331.0,"Ηλεκτρολόγων Μηχ/κών & Μηχ/κών Υπολογιστών, Πολυτ. Κρήτης","Χανιά",174.0,1.2,{"$f":"E108*'ΒΟΗΘ'!D106","v":14400},{"$f":"IF((F108<='ΒΟΗΘ'!B106),\"ΕΠΙΤΥΧΙΑ\",\"\")","v":""}]
[332.0,"Μηχανολόγων Μηχανικών, Θεσσαλίας","Βόλος",104.0,1.2,{"$f":"E109*'ΒΟΗΘ'!D107","v":14400},{"$f":"IF((F109<='ΒΟΗΘ'!B107),\"ΕΠΙΤΥΧΙΑ\",\"\")","v":""}]
[333.0,"Πληροφορικής, Ο.Π.Α.","Αθήνα",182.0,1.2,{"$f":"E110*'ΒΟΗΘ'!D108","v":14400},{"$f":"IF((F110<='ΒΟΗΘ'!B108),\"ΕΠΙΤΥΧΙΑ\",\"\")","v":""}]
[334.0,"Παιδαγωγικό Δημοτικής Εκπ/σης, Δυτ. Μακεδονίας","Φλώρινα",180.0,0.8,{"$f":"E111*'ΒΟΗΘ'!D109","v":9600},{"$f":"IF((F111<='ΒΟΗΘ'!B109),\"ΕΠΙΤΥΧΙΑ\",\"\")","v":"ΕΠΙΤΥΧΙΑ"}]
[336.0,"Βιομηχανικής Διοίκησης & Τεχνολογίας","Πειραιάς",133.0,1.2,{"$f":"E112*'ΒΟΗΘ'!D110","v":14400},{"$f":"IF((F112<='ΒΟΗΘ'!B110),\"ΕΠΙΤΥΧΙΑ\",\"\")","v":""}]
[338.0,"Πληροφορικής, ΑΠΘ","Θεσσαλονίκη",118.0,1.2,{"$f":"E113*'ΒΟΗΘ'!D111","v":14400},{"$f":"IF((F113<='ΒΟΗΘ'!B111),\"ΕΠΙΤΥΧΙΑ\",\"\")","v":""}]
[339.0,"Πληροφορικής, Πειραιά","Πειραιάς",157.0,1.2,{"$f":"E114*'ΒΟΗΘ'!D112","v":14400},{"$f":"IF((F114<='ΒΟΗΘ'!B112),\"ΕΠΙΤΥΧΙΑ\",\"\")","v":""}]
[340.0,"Μηχανικών Η/Υ & Πληροφορικής","Ιωάννινα",193.0,0.8,{"$f":"E115*'ΒΟΗΘ'!D113","v":9600},{"$f":"IF((F115<='ΒΟΗΘ'!B113),\"ΕΠΙΤΥΧΙΑ\",\"\")","v":"ΕΠΙΤΥΧΙΑ"}]
[341.0,"Παιδαγωγικό Νηπιαγωγών, Δυτ. Μακεδονίας","Φλώρινα",178.0,1.0,{"$f":"E116*'ΒΟΗΘ'!D114","v":12000},{"$f":"IF((F116<='ΒΟΗΘ'!B114),\"ΕΠΙΤΥΧΙΑ\",\"\")","v":"ΕΠΙΤΥΧΙΑ"}]
[344.0,"Μηχανικών Πληροφοριακών & Επικοινωνιακών Συστημάτων, Αιγαίου","Σάμος",212.0,0.8,{"$f":"E117*'ΒΟΗΘ'!D115","v":9600},{"$f":"IF((F117<='ΒΟΗΘ'!B115),\"ΕΠΙΤΥΧΙΑ\",\"\")","v":"ΕΠΙΤΥΧΙΑ"}]
[353.0,"Αγροτικής Ανάπτυξης, ΔΠΘ","Ορεστιάδα",283.0,0.8,{"$f":"E118*'ΒΟΗΘ'!D116","v":9600},{"$f":"IF((F118<='ΒΟΗΘ'!B116),\"ΕΠΙΤΥΧΙΑ\",\"\")","v":"ΕΠΙΤΥΧΙΑ"}]
[356.0,"Γεωγραφίας, Χαροκοπείου","Αθήνα",62.0,0.9,{"$f":"E119*'ΒΟΗΘ'!D117","v":10800},{"$f":"IF((F119<='ΒΟΗΘ'!B117),\"ΕΠΙΤΥΧΙΑ\",\"\")","v":"ΕΠΙΤΥΧΙΑ"}]
[360.0,"Γεωπονίας, Ιχθυολογίας & Υδάτινου Περιβ/ντος, Θεσσαλίας","Βόλος",157.0,0.9,{"$f":"E120*'ΒΟΗΘ'!D118","v":10800},{"$f":"IF((F120<='ΒΟΗΘ'!B118),\"ΕΠΙΤΥΧΙΑ\",\"\")","v":"ΕΠΙΤΥΧΙΑ"}]
[363.0,"Μηχανικών Χωροταξίας & Ανάπτυξης","Θεσσαλονίκη",94.0,0.88,{"$f":"E121*'ΒΟΗΘ'!D119","v":10560},{"$f":"IF((F121<='ΒΟΗΘ'!B119),\"ΕΠΙΤΥΧΙΑ\",\"\")","v":"ΕΠΙΤΥΧΙΑ"}]
[366.0,"Πληροφορικής, Ιονίου","Κέρκυρα",202.0,1.0,{"$f":"E122*'ΒΟΗΘ'!D120","v":12000},{"$f":"IF((F122<='ΒΟΗΘ'!B120),\"ΕΠΙΤΥΧΙΑ\",\"\")","v":"ΕΠΙΤΥΧΙΑ"}]
[367.0,"Τεχνών Ήχου & Εικόνας, Ιονίου","Κέρκυρα",86.0,0.8,{"$f":"E123*'ΒΟΗΘ'!D121","v":9600},{"$f":"IF((F123<='ΒΟΗΘ'!B121),\"ΕΠΙΤΥΧΙΑ\",\"\")","v":"ΕΠΙΤΥΧΙΑ"}]
[369.0,"Πληροφορικής με Εφαρμογές στη Βιοϊατρική, Θεσσαλίας","Λαμία",167.0,0.8,{"$f":"E124*'ΒΟΗΘ'!D122","v":9600},{"$f":"IF((F124<='ΒΟΗΘ'!B122),\"ΕΠΙΤΥΧΙΑ\",\"\")","v":"ΕΠΙΤΥΧΙΑ"}]
[370.0,"Αρχιτεκτόνων Μηχανικών, Πολυτεχνείου Κρήτης","Χανιά",104.0,0.9,{"$f":"E125*'ΒΟΗΘ'!D123","v":10800},{"$f":"IF((F125<='ΒΟΗΘ'!B123),\"ΕΠΙΤΥΧΙΑ\",\"\")","v":"ΕΠΙΤΥΧΙΑ"}]
[372.0,"Επιστήμης Τροφίμων & Διατροφής, Αιγαίου","Λήμνος",162.0,0.8,{"$f":"E126*'ΒΟΗΘ'!D124","v":9600},{"$f":"IF((F126<='ΒΟΗΘ'!B124),\"ΕΠΙΤΥΧΙΑ\",\"\")","v":"ΕΠΙΤΥΧΙΑ"}]
[387.0,"Ηλεκτρολόγων & Ηλεκτρονικών Μηχανικών, Δυτ. Αττικής","Αιγάλεω",247.0,1.0,{"$f":"E127*'ΒΟΗΘ'!D125","v":12000},{"$f":"IF((F127<='ΒΟΗΘ'!B125),\"ΕΠΙΤΥΧΙΑ\",\"\")","v":"ΕΠΙΤΥΧΙΑ"}]
[388.0,"Μηχανικών Βιοϊατρικής, Δυτ. Αττικής","Αιγάλεω",94.0,0.8,{"$f":"E128*'ΒΟΗΘ'!D126","v":9600},{"$f":"IF((F128<='ΒΟΗΘ'!B126),\"ΕΠΙΤΥΧΙΑ\",\"\")","v":"ΕΠΙΤΥΧΙΑ"}]
[389.0,"Μηχανικών Βιομηχανικής Σχεδίασης & Παραγωγής, Δυτ. Αττικής","Αιγάλεω",243.0,1.0,{"$f":"E129*'ΒΟΗΘ'!D127","v":12000},{"$f":"IF((F129<='ΒΟΗΘ'!B127),\"ΕΠΙΤΥΧΙΑ\",\"\")","v":"ΕΠΙΤΥΧΙΑ"}]
[390.0,"Μηχανικών Πληροφορικής & Υπολογιστών, Δυτ. Αττικής","Αιγάλεω",213.0,1.2,{"$f":"E130*'ΒΟΗΘ'!D128","v":14400},{"$f":"IF((F130<='ΒΟΗΘ'!B128),\"ΕΠΙΤΥΧΙΑ\",\"\")","v":""}]
[391.0,"Μηχανικών Τοπογραφίας & Γεωπληροφορικής, Δυτ. Αττικής","Αιγάλεω",85.0,0.8,{"$f":"E131*'ΒΟΗΘ'!D129","v":9600},{"$f":"IF((F131<='ΒΟΗΘ'!B129),\"ΕΠΙΤΥΧΙΑ\",\"\")","v":"ΕΠΙΤΥΧΙΑ"}]
[392.0,"Μηχανολόγων Μηχανικών, Δυτ. Αττικής","Αιγάλεω",137.0,1.11,{"$f":"E132*'ΒΟΗΘ'!D130","v":13320},{"$f":"IF((F132<='ΒΟΗΘ'!B130),\"ΕΠΙΤΥΧΙΑ\",\"\")","v":""}]
[393.0,"Ναυπηγών Μηχανικών, Δυτ. Αττικής","Αιγάλεω",85.0,0.9,{"$f":"E133*'ΒΟΗΘ'!D131","v":10800},{"$f":"IF((F133<='ΒΟΗΘ'!B131),\"ΕΠΙΤΥΧΙΑ\",\"\")","v":"ΕΠΙΤΥΧΙΑ"}]
[394.0,"Πολιτικών Μηχανικών, Δυτ. Αττικής","Αιγάλεω",184.0,0.93,{"$f":"E134*'ΒΟΗΘ'!D132","v":11160},{"$f":"IF((F134<='ΒΟΗΘ'!B132),\"ΕΠΙΤΥΧΙΑ\",\"\")","v":"ΕΠΙΤΥΧΙΑ"}]
[401.0,"Επιστήμης Φυσ. Αγωγής & Αθλητισμού, ΕΚΠΑ","Αθήνα",121.0,0.8,{"$f":"E135*'ΒΟΗΘ'!D133","v":9600},{"$f":"IF((F135<='ΒΟΗΘ'!B133),\"ΕΠΙΤΥΧΙΑ\",\"\")","v":"ΕΠΙΤΥΧΙΑ"}]
[402.0,"Επιστήμης Φυσ. Αγωγής & Αθλητισμού, ΑΠΘ / Εισαγ. Κατ/νση","Σέρρες",113.0,0.8,{"$f":"E136*'ΒΟΗΘ'!D134","v":9600},{"$f":"IF((F136<='ΒΟΗΘ'!B134),\"ΕΠΙΤΥΧΙΑ\",\"\")","v":"ΕΠΙΤΥΧΙΑ"}]
[403.0,"Επιστήμης Φυσ. Αγωγής & Αθλητισμού, ΑΠΘ / Εισαγ. Κατ/νση","Θεσσαλονίκη",121.0,1.0,{"$f":"E137*'ΒΟΗΘ'!D135","v":12000},{"$f":"IF((F137<='ΒΟΗΘ'!B135),\"ΕΠΙΤΥΧΙΑ\",\"\")","v":"ΕΠΙΤΥΧΙΑ"}]
[404.0,"Επιστήμης Φυσ. Αγωγής & Αθλητισμού, Θράκης","Κομοτηνή",324.0,0.8,{"$f":"E138*'ΒΟΗΘ'!D136","v":9600},{"$f":"IF((F138<='ΒΟΗΘ'!B136),\"ΕΠΙΤΥΧΙΑ\",\"\")","v":"ΕΠΙΤΥΧΙΑ"}]
[405.0,"Επιστήμης Φυσ. Αγωγής & Αθλητισμού, Θεσσαλίας","Τρίκαλα",151.0,1.0,{"$f":"E139*'ΒΟΗΘ'!D137","v":12000},{"$f":"IF((F139<='ΒΟΗΘ'!B137),\"ΕΠΙΤΥΧΙΑ\",\"\")","v":"ΕΠΙΤΥΧΙΑ"}]
[406.0,"Μουσικών Σπουδών, ΑΠΘ","Θεσσαλονίκη",55.0,0.9,{"$f":"E140*'ΒΟΗΘ'!D138","v":10800},{"$f":"IF((F140<='ΒΟΗΘ'!B138),\"ΕΠΙΤΥΧΙΑ\",\"\")","v":"ΕΠΙΤΥΧΙΑ"}]
[407.0,"Μουσικών Σπουδών, Ιονίου (ΕΙΔΙΚΕΣ ΕΞΕΤΑΣΕΙΣ)","Κέρκυρα",91.0,"(***)",{"$f":"E141*'ΒΟΗΘ'!D139","v":"#VALUE!"},{"$f":"IF((F141<='ΒΟΗΘ'!B139),\"ΕΠΙΤΥΧΙΑ\",\"\")","v":"#VALUE!"}]
[408.0,"Μουσικών Σπουδών, ΕΚΠΑ","Αθήνα",63.0,0.9,{"$f":"E142*'ΒΟΗΘ'!D140","v":10800},{"$f":"IF((F142<='ΒΟΗΘ'!B140),\"ΕΠΙΤΥΧΙΑ\",\"\")","v":"ΕΠΙΤΥΧΙΑ"}]
[409.0,"Μουσικής Επιστήμης & Τέχνης, Μακεδονίας (ΕΙΔΙΚΕΣ ΕΞΕΤΑΣΕΙΣ)","Θεσσαλονίκη",73.0,"(***)",{"$f":"E143*'ΒΟΗΘ'!D141","v":"#VALUE!"},{"$f":"IF((F143<='ΒΟΗΘ'!B141),\"ΕΠΙΤΥΧΙΑ\",\"\")","v":"#VALUE!"}]
[412.0,"Πληροφορικής & Τηλεματικής, Χαροκοπείου","Αθήνα",89.0,1.2,{"$f":"E144*'ΒΟΗΘ'!D142","v":14400},{"$f":"IF((F144<='ΒΟΗΘ'!B142),\"ΕΠΙΤΥΧΙΑ\",\"\")","v":""}]
[419.0,"Πρόγραμμα Διαχείρισης Εκκλησιαστικών Κειμηλίων, Αν. Εκκλ. Ακαδ. Αθήνας","Αθήνα",9.0,0.8,{"$f":"E145*'ΒΟΗΘ'!D143","v":9600},{"$f":"IF((F145<='ΒΟΗΘ'!B143),\"ΕΠΙΤΥΧΙΑ\",\"\")","v":"ΕΠΙΤΥΧΙΑ"}]
[420.0,"Πρόγραμμα Διαχείρισης Εκκλησιαστικών Κειμηλίων, Αν. Εκκλ. Ακαδ. Θεσ/κης","Θεσσαλονίκη",8.0,0.8,{"$f":"E146*'ΒΟΗΘ'!D144","v":9600},{"$f":"IF((F146<='ΒΟΗΘ'!B144),\"ΕΠΙΤΥΧΙΑ\",\"\")","v":"ΕΠΙΤΥΧΙΑ"}]
[476.0,"Μηχανικών Περιβάλλοντος, ΔΠΘ","Ξάνθη",113.0,0.8,{"$f":"E147*'ΒΟΗΘ'!D145","v":9600},{"$f":"IF((F147<='ΒΟΗΘ'!B145),\"ΕΠΙΤΥΧΙΑ\",\"\")","v":"ΕΠΙΤΥΧΙΑ"}]
[477.0,"Εκπαιδευτικών Μηχανολόγων Μηχανικών, Α.Σ.ΠΑΙ.Τ.Ε.","Αθήνα",86.0,0.85,{"$f":"E148*'ΒΟΗΘ'!D146","v":10200},{"$f":"IF((F148<='ΒΟΗΘ'!B146),\"ΕΠΙΤΥΧΙΑ\",\"\")","v":"ΕΠΙΤΥΧΙΑ"}]
[497.0,"Εκπαιδευτικών Ηλεκτρολόγων Μηχανικών, Α.Σ.ΠΑΙ.Τ.Ε. / Εισαγ. Κατ/νση","Αθήνα",86.0,0.8,{"$f":"E149*'ΒΟΗΘ'!D147","v":9600},{"$f":"IF((F149<='ΒΟΗΘ'!B147),\"ΕΠΙΤΥΧΙΑ\",\"\")","v":"ΕΠΙΤΥΧΙΑ"}]
[507.0,"Εκπαιδευτικών Ηλεκτρονικών Μηχανικών, Α.Σ.ΠΑΙ.Τ.Ε. / Εισαγ. Κατ/νση","Αθήνα",86.0,0.8,{"$f":"E150*'ΒΟΗΘ'!D148","v":9600},{"$f":"IF((F150<='ΒΟΗΘ'!B148),\"ΕΠΙΤΥΧΙΑ\",\"\")","v":"ΕΠΙΤΥΧΙΑ"}]
[673.0,"Αγωγής & Φροντίδας στην Πρώιμη Παιδική Ηλικία, Δυτ. Αττικής","Ίλιον",113.0,1.0,{"$f":"E151*'ΒΟΗΘ'!D149","v":12000},{"$f":"IF((F151<='ΒΟΗΘ'!B149),\"ΕΠΙΤΥΧΙΑ\",\"\")","v":"ΕΠΙΤΥΧΙΑ"}]
[674.0,"Γραφιστικής & Οπτικής Επικοινωνίας, Δυτ. Αττικής","Αιγάλεω",174.0,1.0,{"$f":"E152*'ΒΟΗΘ'!D150","v":12000},{"$f":"IF((F152<='ΒΟΗΘ'!B150),\"ΕΠΙΤΥΧΙΑ\",\"\")","v":"ΕΠΙΤΥΧΙΑ"}]
[675.0,"Εσωτερικής Αρχιτεκτονικής, Δυτ. Αττικής","Αιγάλεω",94.0,0.9,{"$f":"E153*'ΒΟΗΘ'!D151","v":10800},{"$f":"IF((F153<='ΒΟΗΘ'!B151),\"ΕΠΙΤΥΧΙΑ\",\"\")","v":"ΕΠΙΤΥΧΙΑ"}]
[676.0,"Συντήρησης Αρχαιοτήτων & Έργων Τέχνης, Δυτ. Αττικής","Αιγάλεω",67.0,0.8,{"$f":"E154*'ΒΟΗΘ'!D152","v":9600},{"$f":"IF((F154<='ΒΟΗΘ'!B152),\"ΕΠΙΤΥΧΙΑ\",\"\")","v":"ΕΠΙΤΥΧΙΑ"}]
[677.0,"Φωτογραφίας & Οπτικοακουστικών Τεχνών, Δυτ. Αττικής","Αιγάλεω",92.0,1.0,{"$f":"E155*'ΒΟΗΘ'!D153","v":12000},{"$f":"IF((F155<='ΒΟΗΘ'!B153),\"ΕΠΙΤΥΧΙΑ\",\"\")","v":"ΕΠΙΤΥΧΙΑ"}]
[684.0,"Επιστήμης & Τεχνολογίας Τροφίμων, Δυτ. Αττικής","Αιγάλεω",81.0,1.1,{"$f":"E156*'ΒΟΗΘ'!D154","v":13200},{"$f":"IF((F156<='ΒΟΗΘ'!B154),\"ΕΠΙΤΥΧΙΑ\",\"\")","v":""}]
[685.0,"Επιστημών Οίνου, Αμπέλου & Ποτών, Δυτ. Αττικής","Αιγάλεω",109.0,1.0,{"$f":"E157*'ΒΟΗΘ'!D155","v":12000},{"$f":"IF((F157<='ΒΟΗΘ'!B155),\"ΕΠΙΤΥΧΙΑ\",\"\")","v":"ΕΠΙΤΥΧΙΑ"}]
[776.0,"Εκπαιδευτικών Πολιτικών Μηχανικών, Α.Σ.ΠΑΙ.Τ.Ε.","Αθήνα",86.0,0.85,{"$f":"E158*'ΒΟΗΘ'!D156","v":10200},{"$f":"IF((F158<='ΒΟΗΘ'!B156),\"ΕΠΙΤΥΧΙΑ\",\"\")","v":"ΕΠΙΤΥΧΙΑ"}]
[779.0,"Αρχιτεκτόνων Μηχανικών, Ιωαννίνων","Ιωάννινα",45.0,0.8,{"$f":"E159*'ΒΟΗΘ'!D157","v":9600},{"$f":"IF((F159<='ΒΟΗΘ'!B157),\"ΕΠΙΤΥΧΙΑ\",\"\")","v":"ΕΠΙΤΥΧΙΑ"}]
[801.0,"Ευελπίδων (ΣΣΕ)- Όπλα Γεν. Σειρά","Αθήνα",140.0,1.2,{"$f":"E160*'ΒΟΗΘ'!D158","v":14400},{"$f":"IF((F160<='ΒΟΗΘ'!B158),\"ΕΠΙΤΥΧΙΑ\",\"\")","v":""}]
[806.0,"Ευελπίδων (ΣΣΕ)- Σώματα Γεν. Σειρά","Αθήνα",34.0,1.2,{"$f":"E161*'ΒΟΗΘ'!D159","v":14400},{"$f":"IF((F161<='ΒΟΗΘ'!B159),\"ΕΠΙΤΥΧΙΑ\",\"\")","v":""}]
[811.0,"Ναυτικών Δοκίμων (ΣΝΔ)- Μάχιμοι Γεν. Σειρά","Αθήνα",22.0,1.2,{"$f":"E162*'ΒΟΗΘ'!D160","v":14400},{"$f":"IF((F162<='ΒΟΗΘ'!B160),\"ΕΠΙΤΥΧΙΑ\",\"\")","v":""}]
[816.0,"Ναυτικών Δοκίμων (ΣΝΔ)- Μηχανικοί Γεν. Σειρά","Αθήνα",11.0,1.2,{"$f":"E163*'ΒΟΗΘ'!D161","v":14400},{"$f":"IF((F163<='ΒΟΗΘ'!B161),\"ΕΠΙΤΥΧΙΑ\",\"\")","v":""}]
[817.0,"Σχολή Πλοιάρχων Εμπορικού Ναυτικού Γεν.Σειρά","Διάφορες",0.0,0.8,{"$f":"E164*'ΒΟΗΘ'!D162","v":9600},{"$f":"IF((F164<='ΒΟΗΘ'!B162),\"ΕΠΙΤΥΧΙΑ\",\"\")","v":"ΕΠΙΤΥΧΙΑ"}]
[818.0,"Σχολή Μηχανικών Εμπορικού Ναυτικού Γεν.Σειρά","Διάφορες",0.0,0.8,{"$f":"E165*'ΒΟΗΘ'!D163","v":9600},{"$f":"IF((F165<='ΒΟΗΘ'!B163),\"ΕΠΙΤΥΧΙΑ\",\"\")","v":"ΕΠΙΤΥΧΙΑ"}]
[821.0,"Ικάρων (ΣΙ)- Ιπτάμενοι Γεν. Σειρά","Αθήνα",37.0,1.2,{"$f":"E166*'ΒΟΗΘ'!D164","v":14400},{"$f":"IF((F166<='ΒΟΗΘ'!B164),\"ΕΠΙΤΥΧΙΑ\",\"\")","v":""}]
[826.0,"Ικάρων- Μηχανικοί (ΣΜΑ) Γεν. Σειρά","Αθήνα",23.0,1.2,{"$f":"E167*'ΒΟΗΘ'!D165","v":14400},{"$f":"IF((F167<='ΒΟΗΘ'!B165),\"ΕΠΙΤΥΧΙΑ\",\"\")","v":""}]
[827.0,"Ικάρων (ΣΙ)- Ελεγκτές Αεράμυνας Γεν. Σειρά","Αθήνα",26.0,1.2,{"$f":"E168*'ΒΟΗΘ'!D166","v":14400},{"$f":"IF((F168<='ΒΟΗΘ'!B166),\"ΕΠΙΤΥΧΙΑ\",\"\")","v":""}]
[862.0,"Μονίμων Υπαξ/κών Στρατού (Σ.Μ.Υ) - Όπλα Γεν. Σειρά","Τρίκαλα",103.0,1.0,{"$f":"E169*'ΒΟΗΘ'!D167","v":12000},{"$f":"IF((F169<='ΒΟΗΘ'!B167),\"ΕΠΙΤΥΧΙΑ\",\"\")","v":"ΕΠΙΤΥΧΙΑ"}]
[863.0,"Μονίμων Υπαξ/κών Στρατού (Σ.Μ.Υ) - Σώματα Γεν. Σειρά","Τρίκαλα",35.0,1.0,{"$f":"E170*'ΒΟΗΘ'!D168","v":12000},{"$f":"IF((F170<='ΒΟΗΘ'!B168),\"ΕΠΙΤΥΧΙΑ\",\"\")","v":"ΕΠΙΤΥΧΙΑ"}]
[864.0,"Μονίμων Υπαξ/κών Ναυτικού (Σ.Μ.Υ.Ν) Γεν. Σειρά","Αθήνα",65.0,1.0,{"$f":"E171*'ΒΟΗΘ'!D169","v":12000},{"$f":"IF((F171<='ΒΟΗΘ'!B169),\"ΕΠΙΤΥΧΙΑ\",\"\")","v":"ΕΠΙΤΥΧΙΑ"}]
[869.0,"Αξιωματικών Ελλ. Αστυνομίας Γεν. Σειρά","Αθήνα",31.0,0.8,{"$f":"E172*'ΒΟΗΘ'!D170","v":9600},{"$f":"IF((F172<='ΒΟΗΘ'!B170),\"ΕΠΙΤΥΧΙΑ\",\"\")","v":"ΕΠΙΤΥΧΙΑ"}]
[870.0,"Αστυφυλάκων Γεν. Σειρά","Αθήνα",221.0,0.8,{"$f":"E173*'ΒΟΗΘ'!D171","v":9600},{"$f":"IF((F173<='ΒΟΗΘ'!B171),\"ΕΠΙΤΥΧΙΑ\",\"\")","v":"ΕΠΙΤΥΧΙΑ"}]
[871.0,"Τμήμα Ανθυποπυραγών (Πυροσβέστες) Γεν. Σειρά","Αθήνα",4.0,0.8,{"$f":"E174*'ΒΟΗΘ'!D172","v":9600},{"$f":"IF((F174<='ΒΟΗΘ'!B172),\"ΕΠΙΤΥΧΙΑ\",\"\")","v":"ΕΠΙΤΥΧΙΑ"}]
[872.0,"Αξιωματικών Ελλ. Αστυνομίας (Αστυνομικοί) Γεν. Σειρά","Αθήνα",22.0,0.8,{"$f":"E175*'ΒΟΗΘ'!D173","v":9600},{"$f":"IF((F175<='ΒΟΗΘ'!B173),\"ΕΠΙΤΥΧΙΑ\",\"\")","v":"ΕΠΙΤΥΧΙΑ"}]
[876.0,"Σχολή Πυροσβεστών Γεν. Σειρά","Αθήνα",131.0,0.8,{"$f":"E176*'ΒΟΗΘ'!D174","v":9600},{"$f":"IF((F176<='ΒΟΗΘ'!B174),\"ΕΠΙΤΥΧΙΑ\",\"\")","v":"ΕΠΙΤΥΧΙΑ"}]
[877.0,"Σχολή Αξιωματικών Πυροσβεστικής Ακαδημίας Γεν. Σειρά","Αθήνα",16.0,0.8,{"$f":"E177*'ΒΟΗΘ'!D175","v":9600},{"$f":"IF((F177<='ΒΟΗΘ'!B175),\"ΕΠΙΤΥΧΙΑ\",\"\")","v":"ΕΠΙΤΥΧΙΑ"}]
[878.0,"ΣΜΥΑ - Κατεύθυνση Τεχνολογικής Υποστήριξης Γεν. Σειρά","Αθήνα",65.0,1.0,{"$f":"E178*'ΒΟΗΘ'!D176","v":12000},{"$f":"IF((F178<='ΒΟΗΘ'!B176),\"ΕΠΙΤΥΧΙΑ\",\"\")","v":"ΕΠΙΤΥΧΙΑ"}]
[879.0,"ΣΜΥΑ - Κατεύθυνση Επιχειρησιακής Υποστήριξης Γεν. Σειρά","Αθήνα",16.0,1.0,{"$f":"E179*'ΒΟΗΘ'!D177","v":12000},{"$f":"IF((F179<='ΒΟΗΘ'!B177),\"ΕΠΙΤΥΧΙΑ\",\"\")","v":"ΕΠΙΤΥΧΙΑ"}]
[880.0,"ΣΜΥΑ - Κατ/νση Διοικητικής και Εφοδιαστικής Υποστήριξης Γεν. Σειρά","Αθήνα",18.0,1.0,{"$f":"E180*'ΒΟΗΘ'!D178","v":12000},{"$f":"IF((F180<='ΒΟΗΘ'!B178),\"ΕΠΙΤΥΧΙΑ\",\"\")","v":"ΕΠΙΤΥΧΙΑ"}]
[881.0,"Σχολή Δοκίμων Σημαιοφόρων Λιμενικού Σώματος - Ελληνικής Ακτοφυλακής (Σ.Δ.Σ.Λ.Σ. -ΕΛ.ΑΚΤ.), ΝΕΟ","Αθήνα",21.0,0.9,{"$f":"E181*'ΒΟΗΘ'!D179","v":10800},{"$f":"IF((F181<='ΒΟΗΘ'!B179),\"ΕΠΙΤΥΧΙΑ\",\"\")","v":"ΕΠΙΤΥΧΙΑ"}]
[882.0,"Σχολή Δοκίμων Λιμενοφυλάκων, ΝΕΟ","Αθήνα",74.0,0.9,{"$f":"E182*'ΒΟΗΘ'!D180","v":10800},{"$f":"IF((F182<='ΒΟΗΘ'!B180),\"ΕΠΙΤΥΧΙΑ\",\"\")","v":"ΕΠΙΤΥΧΙΑ"}]
[1002.0,"Αεροδιαστημικής Επιστήμης & Τεχνολογίας, ΕΚΠΑ, ΝΕΟ (πρώην Μηχανικών Τεχνολογίας Αεροσκαφών ΤΕ, ΤΕΙ Στερεάς Ελλάδας)","Ψαχνά",81.0,0.9,{"$f":"E183*'ΒΟΗΘ'!D181","v":10800},{"$f":"IF((F183<='ΒΟΗΘ'!B181),\"ΕΠΙΤΥΧΙΑ\",\"\")","v":"ΕΠΙΤΥΧΙΑ"}]
[1008.0,"Τεχνολογιών Ψηφιακής Βιομηχανίας, ΕΚΠΑ, ΝΕΟ","Ψαχνά",186.0,0.85,{"$f":"E184*'ΒΟΗΘ'!D182","v":10200},{"$f":"IF((F184<='ΒΟΗΘ'!B182),\"ΕΠΙΤΥΧΙΑ\",\"\")","v":"ΕΠΙΤΥΧΙΑ"}]
[1011.0,"Ψηφιακών Τεχνών & Κινηματογράφου, ΕΚΠΑ, ΝΕΟ","Ψαχνά",81.0,0.8,{"$f":"E185*'ΒΟΗΘ'!D183","v":9600},{"$f":"IF((F185<='ΒΟΗΘ'!B183),\"ΕΠΙΤΥΧΙΑ\",\"\")","v":"ΕΠΙΤΥΧΙΑ"}]
[1061.0,"Δασολογίας & Διαχείρισης Φυσικού Περιβάλλοντος, Γεωπονικού, ΝΕΟ (πρώην Δασοπονίας & Διαχείρισης Φυσικού Περιβάλλοντος, ΤΕΙ Στερ. Ελλάδας)","Καρπενήσι",154.0,0.8,{"$f":"E186*'ΒΟΗΘ'!D184","v":9600},{"$f":"IF((F186<='ΒΟΗΘ'!B184),\"ΕΠΙΤΥΧΙΑ\",\"\")","v":"ΕΠΙΤΥΧΙΑ"}]
[1211.0,"Επιστήμη & Τεχνολογία Υπολογιστών, Μακεδονίας, ΝΕΟ / Εισαγ. Κατ/νση (Τμ. Εφαρμοσμένης Πληροφορικής)","Θεσσαλονίκη",109.0,1.2,{"$f":"E187*'ΒΟΗΘ'!D185","v":14400},{"$f":"IF((F187<='ΒΟΗΘ'!B185),\"ΕΠΙΤΥΧΙΑ\",\"\")","v":""}]
[1212.0,"Πληροφοριακά Συστήματα, Μακεδονίας, ΝΕΟ / Εισαγ. Κατ/νση (Τμ. Εφαρμοσμένης Πληροφορικής)","Θεσσαλονίκη",109.0,1.2,{"$f":"E188*'ΒΟΗΘ'!D186","v":14400},{"$f":"IF((F188<='ΒΟΗΘ'!B186),\"ΕΠΙΤΥΧΙΑ\",\"\")","v":""}]
[1241.0,"Αγωγής & Φροντίδας στην Πρώιμη Παιδική Ηλικία, Ιωαννίνων, ΝΕΟ (πρώην Προσχολικής Αγωγής, ΤΕΙ Ηπείρου)","Ιωάννινα",138.0,0.8,{"$f":"E189*'ΒΟΗΘ'!D187","v":9600},{"$f":"IF((F189<='ΒΟΗΘ'!B187),\"ΕΠΙΤΥΧΙΑ\",\"\")","v":"ΕΠΙΤΥΧΙΑ"}]
[1242.0,"Γεωπονίας, Ιωαννίνων, ΝΕΟ (πρώην Τεχνολόγων Γεωπόνων, ΤΕΙ Ηπείρου)","Άρτα",174.0,0.8,{"$f":"E190*'ΒΟΗΘ'!D188","v":9600},{"$f":"IF((F190<='ΒΟΗΘ'!B188),\"ΕΠΙΤΥΧΙΑ\",\"\")","v":"ΕΠΙΤΥΧΙΑ"}]
[1248.0,"Μουσικών Σπουδών, Ιωαννίνων (ΕΙΔΙΚΕΣ ΕΞΕΤΑΣΕΙΣ)","Αρτα",135.0,"(***)",{"$f":"E191*'ΒΟΗΘ'!D189","v":"#VALUE!"},{"$f":"IF((F191<='ΒΟΗΘ'!B189),\"ΕΠΙΤΥΧΙΑ\",\"\")","v":"#VALUE!"}]
[1250.0,"Πληροφορικής & Τηλεπικοινωνιών, Ιωαννίνων, ΝΕΟ (πρώην Μηχανικών Πληροφορικής ΤΕ, ΤΕΙ Ηπείρου)","Άρτα",214.0,0.8,{"$f":"E192*'ΒΟΗΘ'!D190","v":9600},{"$f":"IF((F192<='ΒΟΗΘ'!B190),\"ΕΠΙΤΥΧΙΑ\",\"\")","v":"ΕΠΙΤΥΧΙΑ"}]
[1276.0,"Ζωικής Παραγωγής, Αλιείας & Υδατοκαλλιεργειών, Πατρών, ΝΕΟ (πρώην Τεχνολογίας Αλιείας - Υδατοκαλλιεργειών, ΤΕΙ Δυτ. Ελλάδας)","Μεσολόγγι",154.0,0.8,{"$f":"E193*'ΒΟΗΘ'!D191","v":9600},{"$f":"IF((F193<='ΒΟΗΘ'!B191),\"ΕΠΙΤΥΧΙΑ\",\"\")","v":"ΕΠΙΤΥΧΙΑ"}]
[1278.0,"Επιστήμης & Τεχνολογίας Τροφίμων, Πατρών, ΝΕΟ","Αγρίνιο",227.0,0.82,{"$f":"E194*'ΒΟΗΘ'!D192","v":9840},{"$f":"IF((F194<='ΒΟΗΘ'!B192),\"ΕΠΙΤΥΧΙΑ\",\"\")","v":"ΕΠΙΤΥΧΙΑ"}]
[1280.0,"Επιστήμης Φυτικής Παραγωγής, Πατρών, ΝΕΟ","Μεσολόγγι",202.0,0.8,{"$f":"E195*'ΒΟΗΘ'!D193","v":9600},{"$f":"IF((F195<='ΒΟΗΘ'!B193),\"ΕΠΙΤΥΧΙΑ\",\"\")","v":"ΕΠΙΤΥΧΙΑ"}]
[1286.0,"Επιστημών της Εκπαίδευσης & Κοινωνικής Εργασίας, Πατρών, ΝΕΟ (πρώην Παιδαγ. Δημοτικής Εκπ/σης)","Πάτρα",225.0,1.15,{"$f":"E196*'ΒΟΗΘ'!D194","v":13800},{"$f":"IF((F196<='ΒΟΗΘ'!B194),\"ΕΠΙΤΥΧΙΑ\",\"\")","v":""}]
[1287.0,"Μηχανικών Περιβάλλοντος, Πατρών, ΝΕΟ (πρώην Διαχείρισης Περιβάλλοντος & Φυσικών Πόρων)","Αγρίνιο",148.0,0.82,{"$f":"E197*'ΒΟΗΘ'!D195","v":9840},{"$f":"IF((F197<='ΒΟΗΘ'!B195),\"ΕΠΙΤΥΧΙΑ\",\"\")","v":"ΕΠΙΤΥΧΙΑ"}]
[1391.0,"Ωκεανογραφίας & Θαλάσσιων Βιοεπιστημών, Αιγαίου, ΝΕΟ (πρώην Επιστημών της Θάλασσας)","Μυτιλήνη",103.0,0.8,{"$f":"E198*'ΒΟΗΘ'!D196","v":9600},{"$f":"IF((F198<='ΒΟΗΘ'!B196),\"ΕΠΙΤΥΧΙΑ\",\"\")","v":"ΕΠΙΤΥΧΙΑ"}]
[1422.0,"Γεωπονίας - Αγροτεχνολογίας, Θεσσαλίας, ΝΕΟ (πρώην Τεχνολόγων Γεωπόνων, ΤΕΙ Θεσσαλίας)","Λάρισα",138.0,0.8,{"$f":"E199*'ΒΟΗΘ'!D197","v":9600},{"$f":"IF((F199<='ΒΟΗΘ'!B197),\"ΕΠΙΤΥΧΙΑ\",\"\")","v":"ΕΠΙΤΥΧΙΑ"}]
[1424.0,"Δασολογίας, Επιστημών Ξύλου & Σχεδιασμού, Θεσσαλίας, ΝΕΟ (πρώην Σχεδιασμού & Τεχνολογίας Ξύλου & Επίπλου ΤΕ, ΤΕΙ Θεσσαλίας)","Καρδίτσα",186.0,0.8,{"$f":"E200*'ΒΟΗΘ'!D198","v":9600},{"$f":"IF((F200<='ΒΟΗΘ'!B198),\"ΕΠΙΤΥΧΙΑ\",\"\")","v":"ΕΠΙΤΥΧΙΑ"}]
[1428.0,"Επιστήμης Ζωικής Παραγωγής, Θεσσαλίας, ΝΕΟ","Λάρισα",105.0,0.8,{"$f":"E201*'ΒΟΗΘ'!D199","v":9600},{"$f":"IF((F201<='ΒΟΗΘ'!B199),\"ΕΠΙΤΥΧΙΑ\",\"\")","v":"ΕΠΙΤΥΧΙΑ"}]
[1429.0,"Επιστήμης Τροφίμων & Διατροφής, Θεσσαλίας, ΝΕΟ (πρώην Τεχνολογίας Τροφίμων, ΤΕΙ Θεσσαλίας)","Καρδίτσα",121.0,0.8,{"$f":"E202*'ΒΟΗΘ'!D200","v":9600},{"$f":"IF((F202<='ΒΟΗΘ'!B200),\"ΕΠΙΤΥΧΙΑ\",\"\")","v":"ΕΠΙΤΥΧΙΑ"}]
[1432.0,"Μαθηματικών, Θεσσαλίας, ΝΕΟ","Λαμία",90.0,0.8,{"$f":"E203*'ΒΟΗΘ'!D201","v":9600},{"$f":"IF((F203<='ΒΟΗΘ'!B201),\"ΕΠΙΤΥΧΙΑ\",\"\")","v":"ΕΠΙΤΥΧΙΑ"}]
[1434.0,"Περιβάλλοντος, Θεσσαλίας, ΝΕΟ","Λάρισα",112.0,0.8,{"$f":"E204*'ΒΟΗΘ'!D202","v":9600},{"$f":"IF((F204<='ΒΟΗΘ'!B202),\"ΕΠΙΤΥΧΙΑ\",\"\")","v":"ΕΠΙΤΥΧΙΑ"}]
[1436.0,"Συστημάτων Ενέργειας, Θεσσαλίας, ΝΕΟ","Λάρισα",130.0,0.8,{"$f":"E205*'ΒΟΗΘ'!D203","v":9600},{"$f":"IF((F205<='ΒΟΗΘ'!B203),\"ΕΠΙΤΥΧΙΑ\",\"\")","v":"ΕΠΙΤΥΧΙΑ"}]
[1437.0,"Φυσικής, Θεσσαλίας, ΝΕΟ","Λαμία",94.0,0.8,{"$f":"E206*'ΒΟΗΘ'!D204","v":9600},{"$f":"IF((F206<='ΒΟΗΘ'!B204),\"ΕΠΙΤΥΧΙΑ\",\"\")","v":"ΕΠΙΤΥΧΙΑ"}]
[1439.0,"Ψηφιακών Συστημάτων, Θεσσαλίας, ΝΕΟ (πρώην Μηχανικών Πληροφορικής ΤΕ, ΤΕΙ Θεσσαλίας)","Λάρισα",227.0,0.8,{"$f":"E207*'ΒΟΗΘ'!D205","v":9600},{"$f":"IF((F207<='ΒΟΗΘ'!B205),\"ΕΠΙΤΥΧΙΑ\",\"\")","v":"ΕΠΙΤΥΧΙΑ"}]
[1452.0,"Επιστήμης & Τεχνολογίας Τροφίμων, Ιονίου, ΝΕΟ (πρώην Τεχνολογίας Τροφίμων, ΤΕΙ Ιόνιων Νήσων)","Αργοστόλι",202.0,0.8,{"$f":"E208*'ΒΟΗΘ'!D206","v":9600},{"$f":"IF((F208<='ΒΟΗΘ'!B206),\"ΕΠΙΤΥΧΙΑ\",\"\")","v":"ΕΠΙΤΥΧΙΑ"}]
[1453.0,"Περιβάλλοντος, Ιονίου, ΝΕΟ (πρώην Τεχνολογιών Φυσικού Περιβάλλοντος ΤΕ, ΤΕΙ Ιόνιων Νήσων / Εισαγωγική Κατεύθυνση)","Ζάκυνθος",146.0,0.8,{"$f":"E209*'ΒΟΗΘ'!D207","v":9600},{"$f":"IF((F209<='ΒΟΗΘ'!B207),\"ΕΠΙΤΥΧΙΑ\",\"\")","v":"ΕΠΙΤΥΧΙΑ"}]
[1511.0,"Γεωπονίας, Πελοποννήσου, ΝΕΟ (πρώην Τεχνολόγων Γεωπόνων, ΤΕΙ Πελοποννήσου)","Καλαμάτα",186.0,0.8,{"$f":"E210*'ΒΟΗΘ'!D208","v":9600},{"$f":"IF((F210<='ΒΟΗΘ'!B208),\"ΕΠΙΤΥΧΙΑ\",\"\")","v":"ΕΠΙΤΥΧΙΑ"}]
[1512.0,"Επιστήμης & Τεχνολογίας Τροφίμων, Πελοποννήσου, ΝΕΟ (πρώην Τεχνολογίας Τροφίμων, ΤΕΙ Πελοποννήσου)","Καλαμάτα",130.0,0.8,{"$f":"E211*'ΒΟΗΘ'!D209","v":9600},{"$f":"IF((F211<='ΒΟΗΘ'!B209),\"ΕΠΙΤΥΧΙΑ\",\"\")","v":"ΕΠΙΤΥΧΙΑ"}]
[1517.0,"Παραστατικών & Ψηφιακών Τεχνών, Πελοποννήσου, ΝΕΟ","Ναύπλιον",113.0,0.8,{"$f":"E212*'ΒΟΗΘ'!D210","v":9600},{"$f":"IF((F212<='ΒΟΗΘ'!B210),\"ΕΠΙΤΥΧΙΑ\",\"\")","v":"ΕΠΙΤΥΧΙΑ"}]
[1519.0,"Ψηφιακών Συστημάτων, Πελοποννήσου, ΝΕΟ (πρώην Μηχανικών Πληροφορικής ΤΕ, ΤΕΙ Πελοποννήσου)","Σπάρτη",162.0,0.8,{"$f":"E213*'ΒΟΗΘ'!D211","v":9600},{"$f":"IF((F213<='ΒΟΗΘ'!B211),\"ΕΠΙΤΥΧΙΑ\",\"\")","v":"ΕΠΙΤΥΧΙΑ"}]
[1522.0,"Ηλεκτρολόγων Μηχανικών & Μηχανικών Υπολογιστών, Πελοποννήσου, ΝΕΟ (πρώην Ηλεκτρολόγων Μηχανικών ΤΕ, ΤΕΙ Δυτ. Ελλάδας)","Πάτρα",194.0,0.85,{"$f":"E214*'ΒΟΗΘ'!D212","v":10200},{"$f":"IF((F214<='ΒΟΗΘ'!B212),\"ΕΠΙΤΥΧΙΑ\",\"\")","v":"ΕΠΙΤΥΧΙΑ"}]
[1523.0,"Μηχανολόγων Μηχανικών, Πελοποννήσου, ΝΕΟ (πρώην Μηχανολόγων Μηχανικών ΤΕ, ΤΕΙ Δυτ. Ελλάδας)","Πάτρα",125.0,0.9,{"$f":"E215*'ΒΟΗΘ'!D213","v":10800},{"$f":"IF((F215<='ΒΟΗΘ'!B213),\"ΕΠΙΤΥΧΙΑ\",\"\")","v":"ΕΠΙΤΥΧΙΑ"}]
[1524.0,"Πολιτικών Μηχανικών, Πελοποννήσου, ΝΕΟ (πρώην Πολιτικών Μηχανικών ΤΕ, ΤΕΙ Δυτ. Ελλάδας)","Πάτρα",117.0,0.8,{"$f":"E216*'ΒΟΗΘ'!D214","v":9600},{"$f":"IF((F216<='ΒΟΗΘ'!B214),\"ΕΠΙΤΥΧΙΑ\",\"\")","v":"ΕΠΙΤΥΧΙΑ"}]
[1541.0,"Μηχανικών Ορυκτών Πόρων, Δυτ. Μακεδονίας, ΝΕΟ","Κοζάνη",171.0,0.8,{"$f":"E217*'ΒΟΗΘ'!D215","v":9600},{"$f":"IF((F217<='ΒΟΗΘ'!B215),\"ΕΠΙΤΥΧΙΑ\",\"\")","v":"ΕΠΙΤΥΧΙΑ"}]
[1542.0,"Μηχανικών Σχεδίασης Προϊόντων & Συστημάτων, Δυτ. Μακεδονίας, ΝΕΟ","Κοζάνη",171.0,0.8,{"$f":"E218*'ΒΟΗΘ'!D216","v":9600},{"$f":"IF((F218<='ΒΟΗΘ'!B216),\"ΕΠΙΤΥΧΙΑ\",\"\")","v":"ΕΠΙΤΥΧΙΑ"}]
[1547.0,"Στατιστικής & Ασφαλιστικής Επιστήμης, Δυτ. Μακεδονίας, ΝΕΟ","Γρεβενά",266.0,0.8,{"$f":"E219*'ΒΟΗΘ'!D217","v":9600},{"$f":"IF((F219<='ΒΟΗΘ'!B217),\"ΕΠΙΤΥΧΙΑ\",\"\")","v":"ΕΠΙΤΥΧΙΑ"}]
[1552.0,"Γεωπονίας, Δυτ. Μακεδονίας, ΝΕΟ (πρώην Τεχνολόγων Γεωπόνων, ΤΕΙ Δυτ. Μακεδονίας)","Φλώρινα",283.0,0.8,{"$f":"E220*'ΒΟΗΘ'!D218","v":9600},{"$f":"IF((F220<='ΒΟΗΘ'!B218),\"ΕΠΙΤΥΧΙΑ\",\"\")","v":"ΕΠΙΤΥΧΙΑ"}]
[1554.0,"Πληροφορικής, Δυτ. Μακεδονίας, ΝΕΟ (πρώην Μηχανικών Πληροφορικής ΤΕ, ΤΕΙ Δυτ. Μακεδονίας)","Καστοριά",202.0,0.8,{"$f":"E221*'ΒΟΗΘ'!D219","v":9600},{"$f":"IF((F221<='ΒΟΗΘ'!B219),\"ΕΠΙΤΥΧΙΑ\",\"\")","v":"ΕΠΙΤΥΧΙΑ"}]
[1555.0,"Μαθηματικών, Δυτ. Μακεδονίας, ΝΕΟ","Καστοριά",135.0,0.8,{"$f":"E222*'ΒΟΗΘ'!D220","v":9600},{"$f":"IF((F222<='ΒΟΗΘ'!B220),\"ΕΠΙΤΥΧΙΑ\",\"\")","v":"ΕΠΙΤΥΧΙΑ"}]
[1563.0,"Χημικών Μηχανικών, Δυτ. Μακεδονίας, ΝΕΟ (πρώην Μηχανικών Περιβάλλοντος)","Κοζάνη",90.0,1.2,{"$f":"E223*'ΒΟΗΘ'!D221","v":14400},{"$f":"IF((F223<='ΒΟΗΘ'!B221),\"ΕΠΙΤΥΧΙΑ\",\"\")","v":""}]
[1564.0,"Ηλεκτρολόγων Μηχανικών & Μηχανικών Υπολογιστών, Δυτ. Μακεδονίας, ΝΕΟ (πρώην Μηχανικών Πληρ/κής & Τηλ/νιών)","Κοζάνη",130.0,1.2,{"$f":"E224*'ΒΟΗΘ'!D222","v":14400},{"$f":"IF((F224<='ΒΟΗΘ'!B222),\"ΕΠΙΤΥΧΙΑ\",\"\")","v":""}]
[1603.0,"Διοίκησης Εφοδιαστικής Αλυσίδας, ΔΙ.ΠΑ.Ε., ΝΕΟ (πρώην Διοίκησης Συστημάτων Εφοδιασμού,ΤΕΙ Κεντρ. Μακεδονίας)","Κατερίνη",146.0,0.8,{"$f":"E225*'ΒΟΗΘ'!D223","v":9600},{"$f":"IF((F225<='ΒΟΗΘ'!B223),\"ΕΠΙΤΥΧΙΑ\",\"\")","v":"ΕΠΙΤΥΧΙΑ"}]
[1610.0,"Αγωγής & Φροντίδας στην Πρώιμη Παιδική Ηλικία, ΔΙ.ΠΑ.Ε., ΝΕΟ (πρώην Προσχολικής Αγωγής, ΤΕΙ Θεσσαλονίκης)","Θεσσαλονίκη",113.0,0.8,{"$f":"E226*'ΒΟΗΘ'!D224","v":9600},{"$f":"IF((F226<='ΒΟΗΘ'!B224),\"ΕΠΙΤΥΧΙΑ\",\"\")","v":"ΕΠΙΤΥΧΙΑ"}]
[1619.0,"Μηχανολόγων Μηχανικών, ΔΙ.ΠΑ.Ε., ΝΕΟ (πρώην Μηχανολόγων Μηχανικών ΤΕ, ΤΕΙ Κεντρ. Μακεδονίας)","Σέρρες",104.0,0.8,{"$f":"E227*'ΒΟΗΘ'!D225","v":9600},{"$f":"IF((F227<='ΒΟΗΘ'!B225),\"ΕΠΙΤΥΧΙΑ\",\"\")","v":"ΕΠΙΤΥΧΙΑ"}]
[1620.0,"Μηχανικών Τοπογραφίας & Γεωπληροφορικής, ΔΙ.ΠΑ.Ε., ΝΕΟ (πρώην Μηχανικών Τοπογραφίας & Γεωπληροφορικής ΤΕ, ΤΕΙ Κεντρ. Μακεδονίας / Εισ. Κατ/νση)","Σέρρες",103.0,0.8,{"$f":"E228*'ΒΟΗΘ'!D226","v":9600},{"$f":"IF((F228<='ΒΟΗΘ'!B226),\"ΕΠΙΤΥΧΙΑ\",\"\")","v":"ΕΠΙΤΥΧΙΑ"}]
[1621.0,"Πολιτικών Μηχανικών, ΔΙ.ΠΑ.Ε., ΝΕΟ (πρώην Πολιτικών Μηχανικών ΤΕ, ΤΕΙ Κεντρ. Μακεδονίας / Εισ. Κατ/νση)","Σέρρες",93.0,0.8,{"$f":"E229*'ΒΟΗΘ'!D227","v":9600},{"$f":"IF((F229<='ΒΟΗΘ'!B227),\"ΕΠΙΤΥΧΙΑ\",\"\")","v":"ΕΠΙΤΥΧΙΑ"}]
[1622.0,"Μηχανικών Πληροφορικής, Υπολογιστών & Τηλεπικοινωνιών, ΔΙ.ΠΑ.Ε., ΝΕΟ (πρώην Μηχανικών Πληροφορικής ΤΕ, ΤΕΙ Κεντρ. Μακεδονίας)","Σέρρες",130.0,1.0,{"$f":"E230*'ΒΟΗΘ'!D228","v":12000},{"$f":"IF((F230<='ΒΟΗΘ'!B228),\"ΕΠΙΤΥΧΙΑ\",\"\")","v":"ΕΠΙΤΥΧΙΑ"}]
[1623.0,"Μηχανικών Περιβάλλοντος, ΔΙ.ΠΑ.Ε., ΝΕΟ","Θεσσαλονίκη",101.0,0.8,{"$f":"E231*'ΒΟΗΘ'!D229","v":9600},{"$f":"IF((F231<='ΒΟΗΘ'!B229),\"ΕΠΙΤΥΧΙΑ\",\"\")","v":"ΕΠΙΤΥΧΙΑ"}]
[1624.0,"Μηχανικών Παραγωγής & Διοίκησης, ΔΙ.ΠΑ.Ε., ΝΕΟ","Θεσσαλονίκη",178.0,1.1,{"$f":"E232*'ΒΟΗΘ'!D230","v":13200},{"$f":"IF((F232<='ΒΟΗΘ'!B230),\"ΕΠΙΤΥΧΙΑ\",\"\")","v":""}]
[1625.0,"Μηχανικών Πληροφορικής & Ηλεκτρονικών Συστημάτων, ΔΙ.ΠΑ.Ε., ΝΕΟ (πρώην Μηχανικών Πληροφορικής ΤΕ, ΤΕΙ Θεσσαλονίκης)","Θεσσαλονίκη",162.0,1.2,{"$f":"E233*'ΒΟΗΘ'!D231","v":14400},{"$f":"IF((F233<='ΒΟΗΘ'!B231),\"ΕΠΙΤΥΧΙΑ\",\"\")","v":""}]
[1626.0,"Εσωτερικής Αρχιτεκτονικής, ΔΙ.ΠΑ.Ε., ΝΕΟ (πρώην Εσωτερικής Αρχιτεκτονικής, Διακόσμησης & Σχεδιασμού Αντικειμένων, ΤΕΙ Κεντρ. Μακεδονίας)","Σέρρες",84.0,0.8,{"$f":"E234*'ΒΟΗΘ'!D232","v":9600},{"$f":"IF((F234<='ΒΟΗΘ'!B232),\"ΕΠΙΤΥΧΙΑ\",\"\")","v":"ΕΠΙΤΥΧΙΑ"}]
[1627.0,"Δημιουργικού Σχεδιασμού & Ένδυσης, ΔΙ.ΠΑ.Ε. ΝΕΟ (πρώην Σχεδιασμού & Τεχνολογίας Ένδυσης, ΤΕΙ Κεντρ. Μακεδονίας)","Κιλκίς",133.0,0.8,{"$f":"E235*'ΒΟΗΘ'!D233","v":9600},{"$f":"IF((F235<='ΒΟΗΘ'!B233),\"ΕΠΙΤΥΧΙΑ\",\"\")","v":"ΕΠΙΤΥΧΙΑ"}]
[1628.0,"Φυσικής, ΔΙ.ΠΑ.Ε., ΝΕΟ","Καβάλα",188.0,0.8,{"$f":"E236*'ΒΟΗΘ'!D234","v":9600},{"$f":"IF((F236<='ΒΟΗΘ'!B234),\"ΕΠΙΤΥΧΙΑ\",\"\")","v":"ΕΠΙΤΥΧΙΑ"}]
[1629.0,"Χημείας, ΔΙ.ΠΑ.Ε., ΝΕΟ","Καβάλα",180.0,1.2,{"$f":"E237*'ΒΟΗΘ'!D235","v":14400},{"$f":"IF((F237<='ΒΟΗΘ'!B235),\"ΕΠΙΤΥΧΙΑ\",\"\")","v":""}]
[1630.0,"Πληροφορικής, ΔΙ.ΠΑ.Ε., ΝΕΟ (πρώην Μηχανικών Πληροφορικής ΤΕ, ΤΕΙ Ανατ. Μακεδ. & Θράκης)","Καβάλα",194.0,1.1,{"$f":"E238*'ΒΟΗΘ'!D236","v":13200},{"$f":"IF((F238<='ΒΟΗΘ'!B236),\"ΕΠΙΤΥΧΙΑ\",\"\")","v":""}]
[1632.0,"Δασολογίας & Φυσικού Περιβάλλοντος, ΔΙ.ΠΑ.Ε., ΝΕΟ (πρώην Δασοπονίας & Διαχείρισης Φυσικού Περιβάλλοντος, ΤΕΙ Ανατ. Μακεδ. & Θράκης)","Δράμα",149.0,0.8,{"$f":"E239*'ΒΟΗΘ'!D237","v":9600},{"$f":"IF((F239<='ΒΟΗΘ'!B237),\"ΕΠΙΤΥΧΙΑ\",\"\")","v":"ΕΠΙΤΥΧΙΑ"}]
[1633.0,"Αγροτικής Βιοτεχνολογίας & Οινολογίας, ΔΙ.ΠΑ.Ε., ΝΕΟ (πρώην Οινολογίας & Τεχνολογίας Ποτών, ΤΕΙ Ανατ. Μακεδονίας & Θράκης)","Δράμα",186.0,0.8,{"$f":"E240*'ΒΟΗΘ'!D238","v":9600},{"$f":"IF((F240<='ΒΟΗΘ'!B238),\"ΕΠΙΤΥΧΙΑ\",\"\")","v":"ΕΠΙΤΥΧΙΑ"}]
[1634.0,"Γεωπονίας, ΔΙ.ΠΑ.Ε., ΝΕΟ (πρώην Τεχνολόγων Γεωπόνων, ΤΕΙ Θεσσαλονίκης)","Θεσσαλονίκη",243.0,0.9,{"$f":"E241*'ΒΟΗΘ'!D239","v":10800},{"$f":"IF((F241<='ΒΟΗΘ'!B239),\"ΕΠΙΤΥΧΙΑ\",\"\")","v":"ΕΠΙΤΥΧΙΑ"}]
[1635.0,"Επιστήμης & Τεχνολογίας Τροφίμων, ΔΙ.ΠΑ.Ε., ΝΕΟ (πρώην Τεχνολογίας Τροφίμων, ΤΕΙ Θεσσαλονίκης)","Θεσσαλονίκη",101.0,1.0,{"$f":"E242*'ΒΟΗΘ'!D240","v":12000},{"$f":"IF((F242<='ΒΟΗΘ'!B240),\"ΕΠΙΤΥΧΙΑ\",\"\")","v":"ΕΠΙΤΥΧΙΑ"}]
[1657.0,"Γεωπονίας, ΕΛ.ΜΕ.ΠΑ., ΝΕΟ (πρώην Τεχνολόγων Γεωπόνων, ΤΕΙ Κρήτης)","Ηράκλειο",166.0,0.8,{"$f":"E243*'ΒΟΗΘ'!D241","v":9600},{"$f":"IF((F243<='ΒΟΗΘ'!B241),\"ΕΠΙΤΥΧΙΑ\",\"\")","v":"ΕΠΙΤΥΧΙΑ"}]
[1659.0,"Μηχανολόγων Μηχανικών, ΕΛ.ΜΕ.ΠΑ., ΝΕΟ (πρώην Μηχανολόγων Μηχανικών ΤΕ, ΤΕΙ Κρήτης)","Ηράκλειο",113.0,0.8,{"$f":"E244*'ΒΟΗΘ'!D242","v":9600},{"$f":"IF((F244<='ΒΟΗΘ'!B242),\"ΕΠΙΤΥΧΙΑ\",\"\")","v":"ΕΠΙΤΥΧΙΑ"}]
[1660.0,"Ηλεκτρολόγων Μηχανικών & Μηχανικών Υπολογιστών, ΕΛ.ΜΕ.ΠΑ., ΝΕΟ (πρώην Ηλεκτρολόγων Μηχανικών ΤΕ, ΤΕΙ Κρήτης)","Ηράκλειο",211.0,0.8,{"$f":"E245*'ΒΟΗΘ'!D243","v":9600},{"$f":"IF((F245<='ΒΟΗΘ'!B243),\"ΕΠΙΤΥΧΙΑ\",\"\")","v":"ΕΠΙΤΥΧΙΑ"}]
[1662.0,"Ηλεκτρονικών Μηχανικών, ΕΛ.ΜΕ.ΠΑ., ΝΕΟ (πρώην Ηλεκτρονικών Μηχανικών ΤΕ, ΤΕΙ Κρήτης)","Χανιά",150.0,0.8,{"$f":"E246*'ΒΟΗΘ'!D244","v":9600},{"$f":"IF((F246<='ΒΟΗΘ'!B244),\"ΕΠΙΤΥΧΙΑ\",\"\")","v":"ΕΠΙΤΥΧΙΑ"}]
[1664.0,"Μουσικής Τεχνολογίας & Ακουστικής, ΕΛ.ΜΕ.ΠΑ., ΝΕΟ (πρώην Μηχανικών Μουσικής Τεχνολογίας & Ακουστικής ΤΕ, ΤΕΙ Κρήτης)","Ρέθυμνο",130.0,0.8,{"$f":"E247*'ΒΟΗΘ'!D245","v":9600},{"$f":"IF((F247<='ΒΟΗΘ'!B245),\"ΕΠΙΤΥΧΙΑ\",\"\")","v":"ΕΠΙΤΥΧΙΑ"}]

{"sheet":"3ο ΠΕΔΙΟ-ΥΓΕΙΑΣ","index":5,"n_rows":149,"n_cols":7,"rows_kept":149,"cut":false,"hidden":false,"merged":[[1,0,1,6],[2,1,3,1],[2,2,3,2],[2,6,3,6]]}
[]
["ΠΕΔΙΟ 3ο :   ΣΧΟΛΕΣ  ΥΓΕΙΑΣ"]
["ΚΩΔΙΚΟΣ","ΣΧΟΛΗ/ΤΜΗΜΑ","ΠΟΛΗ","ΕΙΣΑΚΤΕΟΙ","ΣΕΒΕ   ","ΕΒΕ   ","ΑΠΟΤΕΛΕΣΜΑ"]
["ΜΗΧΑΝΟΓΡ",null,null,"2021 (90%)","2021   ","2021 (90%)   "]
[128.0,"Παιδαγωγικό Δημοτικής Εκπ/σης, ΕΚΠΑ","Αθήνα",180.0,1.2,{"$f":"E5*'ΒΟΗΘ'!D3","v":14400},{"$f":"IF((F5<='ΒΟΗΘ'!B3),\"ΕΠΙΤΥΧΙΑ\",\"\")","v":""}]
[130.0,"Παιδαγωγικό Δημοτικής Εκπ/σης, Ιωαννίνων","Ιωάννινα",209.0,0.8,{"$f":"E6*'ΒΟΗΘ'!D4","v":9600},{"$f":"IF((F6<='ΒΟΗΘ'!B4),\"ΕΠΙΤΥΧΙΑ\",\"\")","v":"ΕΠΙΤΥΧΙΑ"}]
[132.0,"Παιδαγωγικό Δημοτικής Εκπ/σης, Κρήτης","Ρέθυμνο",169.0,1.0,{"$f":"E7*'ΒΟΗΘ'!D5","v":12000},{"$f":"IF((F7<='ΒΟΗΘ'!B5),\"ΕΠΙΤΥΧΙΑ\",\"\")","v":"ΕΠΙΤΥΧΙΑ"}]
[134.0,"Επιστημών Προσχολ. Αγωγής & Εκπ/σης, ΑΠΘ","Θεσσαλονίκη",130.0,0.8,{"$f":"E8*'ΒΟΗΘ'!D6","v":9600},{"$f":"IF((F8<='ΒΟΗΘ'!B6),\"ΕΠΙΤΥΧΙΑ\",\"\")","v":"ΕΠΙΤΥΧΙΑ"}]
[136.0,"Επιστημών της Εκπαίδευσης & της Αγωγής στην Προσχολική Ηλικία, Πατρών","Πάτρα",143.0,0.8,{"$f":"E9*'ΒΟΗΘ'!D7","v":9600},{"$f":"IF((F9<='ΒΟΗΘ'!B7),\"ΕΠΙΤΥΧΙΑ\",\"\")","v":"ΕΠΙΤΥΧΙΑ"}]
[140.0,"Παιδαγωγικό Δημοτικής Εκπ/σης, ΑΠΘ","Θεσσαλονίκη",180.0,0.8,{"$f":"E10*'ΒΟΗΘ'!D8","v":9600},{"$f":"IF((F10<='ΒΟΗΘ'!B8),\"ΕΠΙΤΥΧΙΑ\",\"\")","v":"ΕΠΙΤΥΧΙΑ"}]
[142.0,"Παιδαγωγικό Δημοτικής Εκπ/σης, Θράκης","Αλεξ/πολη",216.0,0.8,{"$f":"E11*'ΒΟΗΘ'!D9","v":9600},{"$f":"IF((F11<='ΒΟΗΘ'!B9),\"ΕΠΙΤΥΧΙΑ\",\"\")","v":"ΕΠΙΤΥΧΙΑ"}]
[143.0,"Παιδαγωγικό Δημοτικής Εκπ/σης, Αιγαίου","Ρόδος",306.0,0.8,{"$f":"E12*'ΒΟΗΘ'!D10","v":9600},{"$f":"IF((F12<='ΒΟΗΘ'!B10),\"ΕΠΙΤΥΧΙΑ\",\"\")","v":"ΕΠΙΤΥΧΙΑ"}]
[154.0,"Εκπαίδευσης & Αγωγής στην Προσχ. Ηλικία, ΕΚΠΑ","Αθήνα",105.0,0.8,{"$f":"E13*'ΒΟΗΘ'!D11","v":9600},{"$f":"IF((F13<='ΒΟΗΘ'!B11),\"ΕΠΙΤΥΧΙΑ\",\"\")","v":"ΕΠΙΤΥΧΙΑ"}]
[156.0,"Παιδαγωγικό Νηπιαγωγών","Ιωάννινα",223.0,0.8,{"$f":"E14*'ΒΟΗΘ'!D12","v":9600},{"$f":"IF((F14<='ΒΟΗΘ'!B12),\"ΕΠΙΤΥΧΙΑ\",\"\")","v":"ΕΠΙΤΥΧΙΑ"}]
[158.0,"Παιδαγωγικό Προσχολ. Εκπ/σης, Κρήτης","Ρέθυμνο",152.0,1.0,{"$f":"E15*'ΒΟΗΘ'!D13","v":12000},{"$f":"IF((F15<='ΒΟΗΘ'!B13),\"ΕΠΙΤΥΧΙΑ\",\"\")","v":"ΕΠΙΤΥΧΙΑ"}]
[160.0,"Επιστημών της Εκπαίδευσης στην Προσχολική Ηλικία, Θράκης","Αλεξ/πολη",193.0,1.0,{"$f":"E16*'ΒΟΗΘ'!D14","v":12000},{"$f":"IF((F16<='ΒΟΗΘ'!B14),\"ΕΠΙΤΥΧΙΑ\",\"\")","v":"ΕΠΙΤΥΧΙΑ"}]
[162.0,"Επιστημών της Προσχ. Αγωγής & του Εκπ/κού Σχεδιασμού, Αιγαίου","Ρόδος",259.0,0.8,{"$f":"E17*'ΒΟΗΘ'!D15","v":9600},{"$f":"IF((F17<='ΒΟΗΘ'!B15),\"ΕΠΙΤΥΧΙΑ\",\"\")","v":"ΕΠΙΤΥΧΙΑ"}]
[163.0,"Κινηματογράφου","Θεσσαλονίκη",73.0,1.0,{"$f":"E18*'ΒΟΗΘ'!D16","v":12000},{"$f":"IF((F18<='ΒΟΗΘ'!B16),\"ΕΠΙΤΥΧΙΑ\",\"\")","v":"ΕΠΙΤΥΧΙΑ"}]
[164.0,"Παιδαγωγικό Δημοτικής Εκπ/σης, Θεσσαλίας","Βόλος",141.0,0.8,{"$f":"E19*'ΒΟΗΘ'!D17","v":9600},{"$f":"IF((F19<='ΒΟΗΘ'!B17),\"ΕΠΙΤΥΧΙΑ\",\"\")","v":"ΕΠΙΤΥΧΙΑ"}]
[166.0,"Παιδαγωγικό Προσχολ. Εκπ/σης, Θεσσαλίας","Βόλος",125.0,0.8,{"$f":"E20*'ΒΟΗΘ'!D18","v":9600},{"$f":"IF((F20<='ΒΟΗΘ'!B18),\"ΕΠΙΤΥΧΙΑ\",\"\")","v":"ΕΠΙΤΥΧΙΑ"}]
[168.0,"Θεάτρου, ΑΠΘ","Θεσσαλονίκη",63.0,0.8,{"$f":"E21*'ΒΟΗΘ'!D19","v":9600},{"$f":"IF((F21<='ΒΟΗΘ'!B19),\"ΕΠΙΤΥΧΙΑ\",\"\")","v":"ΕΠΙΤΥΧΙΑ"}]
[173.0,"Ιστορίας & Φιλοσοφίας της Επιστήμης, ΕΚΠΑ","Αθήνα",114.0,1.05,{"$f":"E22*'ΒΟΗΘ'!D20","v":12600},{"$f":"IF((F22<='ΒΟΗΘ'!B20),\"ΕΠΙΤΥΧΙΑ\",\"\")","v":""}]
[178.0,"Παιδαγωγικό Ειδικής Αγωγής, Θεσσαλίας","Βόλος",114.0,1.0,{"$f":"E23*'ΒΟΗΘ'!D21","v":12000},{"$f":"IF((F23<='ΒΟΗΘ'!B21),\"ΕΠΙΤΥΧΙΑ\",\"\")","v":"ΕΠΙΤΥΧΙΑ"}]
[190.0,"Νοσηλευτικής, Πελοποννήσου","Τρίπολη",166.0,0.86,{"$f":"E24*'ΒΟΗΘ'!D22","v":10320},{"$f":"IF((F24<='ΒΟΗΘ'!B22),\"ΕΠΙΤΥΧΙΑ\",\"\")","v":"ΕΠΙΤΥΧΙΑ"}]
[212.0,"Δασολογίας & Διαχείρισης Περ/ντος & Φ.Πόρων, Θράκης","Ορεστιάδα",190.0,0.8,{"$f":"E25*'ΒΟΗΘ'!D23","v":9600},{"$f":"IF((F25<='ΒΟΗΘ'!B23),\"ΕΠΙΤΥΧΙΑ\",\"\")","v":"ΕΠΙΤΥΧΙΑ"}]
[263.0,"Χημείας, ΕΚΠΑ","Αθήνα",94.0,1.2,{"$f":"E26*'ΒΟΗΘ'!D24","v":14400},{"$f":"IF((F26<='ΒΟΗΘ'!B24),\"ΕΠΙΤΥΧΙΑ\",\"\")","v":""}]
[265.0,"Χημείας, ΑΠΘ","Θεσσαλονίκη",167.0,0.8,{"$f":"E27*'ΒΟΗΘ'!D25","v":9600},{"$f":"IF((F27<='ΒΟΗΘ'!B25),\"ΕΠΙΤΥΧΙΑ\",\"\")","v":"ΕΠΙΤΥΧΙΑ"}]
[267.0,"Χημείας, Πατρών","Πάτρα",170.0,0.8,{"$f":"E28*'ΒΟΗΘ'!D26","v":9600},{"$f":"IF((F28<='ΒΟΗΘ'!B26),\"ΕΠΙΤΥΧΙΑ\",\"\")","v":"ΕΠΙΤΥΧΙΑ"}]
[269.0,"Χημείας, Ιωαννίνων","Ιωάννινα",199.0,0.8,{"$f":"E29*'ΒΟΗΘ'!D27","v":9600},{"$f":"IF((F29<='ΒΟΗΘ'!B27),\"ΕΠΙΤΥΧΙΑ\",\"\")","v":"ΕΠΙΤΥΧΙΑ"}]
[270.0,"Χημείας, Κρήτης","Ηράκλειο",129.0,1.2,{"$f":"E30*'ΒΟΗΘ'!D28","v":14400},{"$f":"IF((F30<='ΒΟΗΘ'!B28),\"ΕΠΙΤΥΧΙΑ\",\"\")","v":""}]
[273.0,"Γεωπονίας, ΑΠΘ","Θεσσαλονίκη",200.0,1.1,{"$f":"E31*'ΒΟΗΘ'!D29","v":13200},{"$f":"IF((F31<='ΒΟΗΘ'!B29),\"ΕΠΙΤΥΧΙΑ\",\"\")","v":""}]
[274.0,"Γεωπονίας, Φυτικής Παραγ. & Αγροτ. Περιβ/ντος, Θεσσαλίας","Βόλος",139.0,0.9,{"$f":"E32*'ΒΟΗΘ'!D30","v":10800},{"$f":"IF((F32<='ΒΟΗΘ'!B30),\"ΕΠΙΤΥΧΙΑ\",\"\")","v":"ΕΠΙΤΥΧΙΑ"}]
[275.0,"Δασολογίας & Φυσικού Περιβάλλοντος","Θεσσαλονίκη",81.0,1.0,{"$f":"E33*'ΒΟΗΘ'!D31","v":12000},{"$f":"IF((F33<='ΒΟΗΘ'!B31),\"ΕΠΙΤΥΧΙΑ\",\"\")","v":"ΕΠΙΤΥΧΙΑ"}]
[276.0,"Περιβάλλοντος, Αιγαίου","Μυτιλήνη",138.0,0.8,{"$f":"E34*'ΒΟΗΘ'!D32","v":9600},{"$f":"IF((F34<='ΒΟΗΘ'!B32),\"ΕΠΙΤΥΧΙΑ\",\"\")","v":"ΕΠΙΤΥΧΙΑ"}]
[277.0,"Βιολογίας, ΕΚΠΑ","Αθήνα",93.0,1.2,{"$f":"E35*'ΒΟΗΘ'!D33","v":14400},{"$f":"IF((F35<='ΒΟΗΘ'!B33),\"ΕΠΙΤΥΧΙΑ\",\"\")","v":""}]
[279.0,"Βιολογίας, ΑΠΘ","Θεσσαλονίκη",101.0,1.2,{"$f":"E36*'ΒΟΗΘ'!D34","v":14400},{"$f":"IF((F36<='ΒΟΗΘ'!B34),\"ΕΠΙΤΥΧΙΑ\",\"\")","v":""}]
[280.0,"Βιολογικών Εφαρμογών & Τεχνολογιών","Ιωάννινα",112.0,0.8,{"$f":"E37*'ΒΟΗΘ'!D35","v":9600},{"$f":"IF((F37<='ΒΟΗΘ'!B35),\"ΕΠΙΤΥΧΙΑ\",\"\")","v":"ΕΠΙΤΥΧΙΑ"}]
[281.0,"Βιολογίας, Πατρών","Πάτρα",134.0,1.2,{"$f":"E38*'ΒΟΗΘ'!D36","v":14400},{"$f":"IF((F38<='ΒΟΗΘ'!B36),\"ΕΠΙΤΥΧΙΑ\",\"\")","v":""}]
[282.0,"Βιολογίας, Κρήτης","Ηράκλειο",114.0,1.0,{"$f":"E39*'ΒΟΗΘ'!D37","v":12000},{"$f":"IF((F39<='ΒΟΗΘ'!B37),\"ΕΠΙΤΥΧΙΑ\",\"\")","v":"ΕΠΙΤΥΧΙΑ"}]
[284.0,"Βιοχημείας & Βιοτεχνολογίας, Θεσσαλίας","Λάρισα",103.0,0.8,{"$f":"E40*'ΒΟΗΘ'!D38","v":9600},{"$f":"IF((F40<='ΒΟΗΘ'!B38),\"ΕΠΙΤΥΧΙΑ\",\"\")","v":"ΕΠΙΤΥΧΙΑ"}]
[289.0,"Φαρμακευτικής, ΕΚΠΑ","Αθήνα",97.0,1.2,{"$f":"E41*'ΒΟΗΘ'!D39","v":14400},{"$f":"IF((F41<='ΒΟΗΘ'!B39),\"ΕΠΙΤΥΧΙΑ\",\"\")","v":""}]
[290.0,"Μοριακής Βιολογίας & Γενετικής, Θράκης","Αλεξ/πολη",117.0,1.2,{"$f":"E42*'ΒΟΗΘ'!D40","v":14400},{"$f":"IF((F42<='ΒΟΗΘ'!B40),\"ΕΠΙΤΥΧΙΑ\",\"\")","v":""}]
[291.0,"Φαρμακευτικής, ΑΠΘ","Θεσσαλονίκη",76.0,1.2,{"$f":"E43*'ΒΟΗΘ'!D41","v":14400},{"$f":"IF((F43<='ΒΟΗΘ'!B41),\"ΕΠΙΤΥΧΙΑ\",\"\")","v":""}]
[293.0,"Φαρμακευτικής, Πατρών","Πάτρα",139.0,1.2,{"$f":"E44*'ΒΟΗΘ'!D42","v":14400},{"$f":"IF((F44<='ΒΟΗΘ'!B42),\"ΕΠΙΤΥΧΙΑ\",\"\")","v":""}]
[294.0,"Επιστήμης Διαιτολογίας & Διατροφής, Χαροκοπείου","Αθήνα",57.0,1.2,{"$f":"E45*'ΒΟΗΘ'!D43","v":14400},{"$f":"IF((F45<='ΒΟΗΘ'!B43),\"ΕΠΙΤΥΧΙΑ\",\"\")","v":""}]
[295.0,"Ιατρικής, ΕΚΠΑ","Αθήνα",141.0,1.2,{"$f":"E46*'ΒΟΗΘ'!D44","v":14400},{"$f":"IF((F46<='ΒΟΗΘ'!B44),\"ΕΠΙΤΥΧΙΑ\",\"\")","v":""}]
[297.0,"Ιατρικής, ΑΠΘ","Θεσσαλονίκη",132.0,1.2,{"$f":"E47*'ΒΟΗΘ'!D45","v":14400},{"$f":"IF((F47<='ΒΟΗΘ'!B45),\"ΕΠΙΤΥΧΙΑ\",\"\")","v":""}]
[299.0,"Ιατρικής, Πατρών","Πάτρα",137.0,1.2,{"$f":"E48*'ΒΟΗΘ'!D46","v":14400},{"$f":"IF((F48<='ΒΟΗΘ'!B46),\"ΕΠΙΤΥΧΙΑ\",\"\")","v":""}]
[300.0,"Ιατρικής, Θεσσαλίας","Λάρισα",76.0,1.2,{"$f":"E49*'ΒΟΗΘ'!D47","v":14400},{"$f":"IF((F49<='ΒΟΗΘ'!B47),\"ΕΠΙΤΥΧΙΑ\",\"\")","v":""}]
[301.0,"Ιατρικής, Ιωαννίνων","Ιωάννινα",111.0,0.8,{"$f":"E50*'ΒΟΗΘ'!D48","v":9600},{"$f":"IF((F50<='ΒΟΗΘ'!B48),\"ΕΠΙΤΥΧΙΑ\",\"\")","v":"ΕΠΙΤΥΧΙΑ"}]
[302.0,"Ιατρικής, Θράκης","Αλεξ/πολη",115.0,1.2,{"$f":"E51*'ΒΟΗΘ'!D49","v":14400},{"$f":"IF((F51<='ΒΟΗΘ'!B49),\"ΕΠΙΤΥΧΙΑ\",\"\")","v":""}]
[303.0,"Οδοντιατρικής, ΕΚΠΑ","Αθήνα",85.0,1.2,{"$f":"E52*'ΒΟΗΘ'!D50","v":14400},{"$f":"IF((F52<='ΒΟΗΘ'!B50),\"ΕΠΙΤΥΧΙΑ\",\"\")","v":""}]
[304.0,"Ιατρικής, Κρήτης","Ηράκλειο",94.0,1.2,{"$f":"E53*'ΒΟΗΘ'!D51","v":14400},{"$f":"IF((F53<='ΒΟΗΘ'!B51),\"ΕΠΙΤΥΧΙΑ\",\"\")","v":""}]
[305.0,"Οδοντιατρικής, ΑΠΘ","Θεσσαλονίκη",65.0,1.0,{"$f":"E54*'ΒΟΗΘ'!D52","v":12000},{"$f":"IF((F54<='ΒΟΗΘ'!B52),\"ΕΠΙΤΥΧΙΑ\",\"\")","v":"ΕΠΙΤΥΧΙΑ"}]
[306.0,"Νοσηλευτικής, ΕΚΠΑ","Αθήνα",129.0,1.2,{"$f":"E55*'ΒΟΗΘ'!D53","v":14400},{"$f":"IF((F55<='ΒΟΗΘ'!B53),\"ΕΠΙΤΥΧΙΑ\",\"\")","v":""}]
[307.0,"Κτηνιατρικής, ΑΠΘ","Θεσσαλονίκη",85.0,1.2,{"$f":"E56*'ΒΟΗΘ'!D54","v":14400},{"$f":"IF((F56<='ΒΟΗΘ'!B54),\"ΕΠΙΤΥΧΙΑ\",\"\")","v":""}]
[308.0,"Κτηνιατρικής, Θεσσαλίας","Καρδίτσα",76.0,1.2,{"$f":"E57*'ΒΟΗΘ'!D55","v":14400},{"$f":"IF((F57<='ΒΟΗΘ'!B55),\"ΕΠΙΤΥΧΙΑ\",\"\")","v":""}]
[323.0,"Επιστήμης Φυτικής Παραγωγής, Γεωπονικού","Αθήνα",167.0,1.0,{"$f":"E58*'ΒΟΗΘ'!D56","v":12000},{"$f":"IF((F58<='ΒΟΗΘ'!B56),\"ΕΠΙΤΥΧΙΑ\",\"\")","v":"ΕΠΙΤΥΧΙΑ"}]
[324.0,"Επιστήμης Ζωικής Παραγωγής, Γεωπονικού (πρώην Επιστήμης Ζωικής Παραγωγής & Υδατοκαλλιεργειών)","Αθήνα",109.0,1.0,{"$f":"E59*'ΒΟΗΘ'!D57","v":12000},{"$f":"IF((F59<='ΒΟΗΘ'!B57),\"ΕΠΙΤΥΧΙΑ\",\"\")","v":"ΕΠΙΤΥΧΙΑ"}]
[325.0,"Βιοτεχνολογίας, Γεωπονικού","Αθήνα",109.0,1.01,{"$f":"E60*'ΒΟΗΘ'!D58","v":12120},{"$f":"IF((F60<='ΒΟΗΘ'!B58),\"ΕΠΙΤΥΧΙΑ\",\"\")","v":"ΕΠΙΤΥΧΙΑ"}]
[326.0,"Αγροτικής Οικονομίας & Ανάπτυξης, Γεωπονικού","Αθήνα",61.0,1.2,{"$f":"E61*'ΒΟΗΘ'!D59","v":14400},{"$f":"IF((F61<='ΒΟΗΘ'!B59),\"ΕΠΙΤΥΧΙΑ\",\"\")","v":""}]
[327.0,"Αξιοποίησης Φυσ. Πόρων & Γεωργ. Μηχανικής, Γεωπονικού","Αθήνα",118.0,1.04,{"$f":"E62*'ΒΟΗΘ'!D60","v":12480},{"$f":"IF((F62<='ΒΟΗΘ'!B60),\"ΕΠΙΤΥΧΙΑ\",\"\")","v":"ΕΠΙΤΥΧΙΑ"}]
[328.0,"Επιστήμης Τροφίμων & Διατροφής του Ανθρώπου, Γεωπονικού","Αθήνα",101.0,1.2,{"$f":"E63*'ΒΟΗΘ'!D61","v":14400},{"$f":"IF((F63<='ΒΟΗΘ'!B61),\"ΕΠΙΤΥΧΙΑ\",\"\")","v":""}]
[334.0,"Παιδαγωγικό Δημοτικής Εκπ/σης, Δυτ. Μακεδονίας","Φλώρινα",180.0,0.8,{"$f":"E64*'ΒΟΗΘ'!D62","v":9600},{"$f":"IF((F64<='ΒΟΗΘ'!B62),\"ΕΠΙΤΥΧΙΑ\",\"\")","v":"ΕΠΙΤΥΧΙΑ"}]
[341.0,"Παιδαγωγικό Νηπιαγωγών, Δυτ. Μακεδονίας","Φλώρινα",178.0,1.0,{"$f":"E65*'ΒΟΗΘ'!D63","v":12000},{"$f":"IF((F65<='ΒΟΗΘ'!B63),\"ΕΠΙΤΥΧΙΑ\",\"\")","v":"ΕΠΙΤΥΧΙΑ"}]
[353.0,"Αγροτικής Ανάπτυξης, ΔΠΘ","Ορεστιάδα",283.0,0.8,{"$f":"E66*'ΒΟΗΘ'!D64","v":9600},{"$f":"IF((F66<='ΒΟΗΘ'!B64),\"ΕΠΙΤΥΧΙΑ\",\"\")","v":"ΕΠΙΤΥΧΙΑ"}]
[360.0,"Γεωπονίας, Ιχθυολογίας & Υδάτινου Περιβ/ντος, Θεσσαλίας","Βόλος",157.0,0.9,{"$f":"E67*'ΒΟΗΘ'!D65","v":10800},{"$f":"IF((F67<='ΒΟΗΘ'!B65),\"ΕΠΙΤΥΧΙΑ\",\"\")","v":"ΕΠΙΤΥΧΙΑ"}]
[367.0,"Τεχνών Ήχου & Εικόνας, Ιονίου","Κέρκυρα",86.0,0.8,{"$f":"E68*'ΒΟΗΘ'!D66","v":9600},{"$f":"IF((F68<='ΒΟΗΘ'!B66),\"ΕΠΙΤΥΧΙΑ\",\"\")","v":"ΕΠΙΤΥΧΙΑ"}]
[369.0,"Πληροφορικής με Εφαρμογές στη Βιοϊατρική, Θεσσαλίας","Λαμία",167.0,0.8,{"$f":"E69*'ΒΟΗΘ'!D67","v":9600},{"$f":"IF((F69<='ΒΟΗΘ'!B67),\"ΕΠΙΤΥΧΙΑ\",\"\")","v":"ΕΠΙΤΥΧΙΑ"}]
[372.0,"Επιστήμης Τροφίμων & Διατροφής, Αιγαίου","Λήμνος",162.0,0.8,{"$f":"E70*'ΒΟΗΘ'!D68","v":9600},{"$f":"IF((F70<='ΒΟΗΘ'!B68),\"ΕΠΙΤΥΧΙΑ\",\"\")","v":"ΕΠΙΤΥΧΙΑ"}]
[388.0,"Μηχανικών Βιοϊατρικής, Δυτ. Αττικής","Αιγάλεω",94.0,0.8,{"$f":"E71*'ΒΟΗΘ'!D69","v":9600},{"$f":"IF((F71<='ΒΟΗΘ'!B69),\"ΕΠΙΤΥΧΙΑ\",\"\")","v":"ΕΠΙΤΥΧΙΑ"}]
[401.0,"Επιστήμης Φυσ. Αγωγής & Αθλητισμού, ΕΚΠΑ","Αθήνα",121.0,0.8,{"$f":"E72*'ΒΟΗΘ'!D70","v":9600},{"$f":"IF((F72<='ΒΟΗΘ'!B70),\"ΕΠΙΤΥΧΙΑ\",\"\")","v":"ΕΠΙΤΥΧΙΑ"}]
[402.0,"Επιστήμης Φυσ. Αγωγής & Αθλητισμού, ΑΠΘ / Εισαγ. Κατ/νση","Σέρρες",113.0,0.8,{"$f":"E73*'ΒΟΗΘ'!D71","v":9600},{"$f":"IF((F73<='ΒΟΗΘ'!B71),\"ΕΠΙΤΥΧΙΑ\",\"\")","v":"ΕΠΙΤΥΧΙΑ"}]
[403.0,"Επιστήμης Φυσ. Αγωγής & Αθλητισμού, ΑΠΘ / Εισαγ. Κατ/νση","Θεσσαλονίκη",121.0,1.0,{"$f":"E74*'ΒΟΗΘ'!D72","v":12000},{"$f":"IF((F74<='ΒΟΗΘ'!B72),\"ΕΠΙΤΥΧΙΑ\",\"\")","v":"ΕΠΙΤΥΧΙΑ"}]
[404.0,"Επιστήμης Φυσ. Αγωγής & Αθλητισμού, Θράκης","Κομοτηνή",324.0,0.8,{"$f":"E75*'ΒΟΗΘ'!D73","v":9600},{"$f":"IF((F75<='ΒΟΗΘ'!B73),\"ΕΠΙΤΥΧΙΑ\",\"\")","v":"ΕΠΙΤΥΧΙΑ"}]
[405.0,"Επιστήμης Φυσ. Αγωγής & Αθλητισμού, Θεσσαλίας","Τρίκαλα",151.0,1.0,{"$f":"E76*'ΒΟΗΘ'!D74","v":12000},{"$f":"IF((F76<='ΒΟΗΘ'!B74),\"ΕΠΙΤΥΧΙΑ\",\"\")","v":"ΕΠΙΤΥΧΙΑ"}]
[406.0,"Μουσικών Σπουδών, ΑΠΘ","Θεσσαλονίκη",55.0,0.9,{"$f":"E77*'ΒΟΗΘ'!D75","v":10800},{"$f":"IF((F77<='ΒΟΗΘ'!B75),\"ΕΠΙΤΥΧΙΑ\",\"\")","v":"ΕΠΙΤΥΧΙΑ"}]
[407.0,"Μουσικών Σπουδών, Ιονίου (ΕΙΔΙΚΕΣ ΕΞΕΤΑΣΕΙΣ)","Κέρκυρα",91.0,"(***)",{"$f":"E78*'ΒΟΗΘ'!D76","v":"#VALUE!"},{"$f":"IF((F78<='ΒΟΗΘ'!B76),\"ΕΠΙΤΥΧΙΑ\",\"\")","v":"#VALUE!"}]
[408.0,"Μουσικών Σπουδών, ΕΚΠΑ","Αθήνα",63.0,0.9,{"$f":"E79*'ΒΟΗΘ'!D77","v":10800},{"$f":"IF((F79<='ΒΟΗΘ'!B77),\"ΕΠΙΤΥΧΙΑ\",\"\")","v":"ΕΠΙΤΥΧΙΑ"}]
[409.0,"Μουσικής Επιστήμης & Τέχνης, Μακεδονίας (ΕΙΔΙΚΕΣ ΕΞΕΤΑΣΕΙΣ)","Θεσσαλονίκη",73.0,"(***)",{"$f":"E80*'ΒΟΗΘ'!D78","v":"#VALUE!"},{"$f":"IF((F80<='ΒΟΗΘ'!B78),\"ΕΠΙΤΥΧΙΑ\",\"\")","v":"#VALUE!"}]
[673.0,"Αγωγής & Φροντίδας στην Πρώιμη Παιδική Ηλικία, Δυτ. Αττικής","Ίλιον",113.0,1.0,{"$f":"E81*'ΒΟΗΘ'!D79","v":12000},{"$f":"IF((F81<='ΒΟΗΘ'!B79),\"ΕΠΙΤΥΧΙΑ\",\"\")","v":"ΕΠΙΤΥΧΙΑ"}]
[678.0,"Βιοϊατρικών Επιστημών, Δυτ. Αττικής","Αιγάλεω",292.0,1.0,{"$f":"E82*'ΒΟΗΘ'!D80","v":12000},{"$f":"IF((F82<='ΒΟΗΘ'!B80),\"ΕΠΙΤΥΧΙΑ\",\"\")","v":"ΕΠΙΤΥΧΙΑ"}]
[679.0,"Δημόσιας & Κοινοτικής Υγείας, Δυτ. Αττικής","Αιγάλεω",169.0,0.9,{"$f":"E83*'ΒΟΗΘ'!D81","v":10800},{"$f":"IF((F83<='ΒΟΗΘ'!B81),\"ΕΠΙΤΥΧΙΑ\",\"\")","v":"ΕΠΙΤΥΧΙΑ"}]
[680.0,"Εργοθεραπείας, Δυτ. Αττικής","Αιγάλεω",101.0,1.2,{"$f":"E84*'ΒΟΗΘ'!D82","v":14400},{"$f":"IF((F84<='ΒΟΗΘ'!B82),\"ΕΠΙΤΥΧΙΑ\",\"\")","v":""}]
[681.0,"Μαιευτικής, Δυτ. Αττικής","Αιγάλεω",95.0,1.0,{"$f":"E85*'ΒΟΗΘ'!D83","v":12000},{"$f":"IF((F85<='ΒΟΗΘ'!B83),\"ΕΠΙΤΥΧΙΑ\",\"\")","v":"ΕΠΙΤΥΧΙΑ"}]
[682.0,"Νοσηλευτικής, Δυτ. Αττικής","Αιγάλεω",179.0,1.0,{"$f":"E86*'ΒΟΗΘ'!D84","v":12000},{"$f":"IF((F86<='ΒΟΗΘ'!B84),\"ΕΠΙΤΥΧΙΑ\",\"\")","v":"ΕΠΙΤΥΧΙΑ"}]
[683.0,"Φυσικοθεραπείας, Δυτ. Αττικής","Αιγάλεω",101.0,1.2,{"$f":"E87*'ΒΟΗΘ'!D85","v":14400},{"$f":"IF((F87<='ΒΟΗΘ'!B85),\"ΕΠΙΤΥΧΙΑ\",\"\")","v":""}]
[684.0,"Επιστήμης & Τεχνολογίας Τροφίμων, Δυτ. Αττικής","Αιγάλεω",81.0,1.1,{"$f":"E88*'ΒΟΗΘ'!D86","v":13200},{"$f":"IF((F88<='ΒΟΗΘ'!B86),\"ΕΠΙΤΥΧΙΑ\",\"\")","v":""}]
[685.0,"Επιστημών Οίνου, Αμπέλου & Ποτών, Δυτ. Αττικής","Αιγάλεω",109.0,1.0,{"$f":"E89*'ΒΟΗΘ'!D87","v":12000},{"$f":"IF((F89<='ΒΟΗΘ'!B87),\"ΕΠΙΤΥΧΙΑ\",\"\")","v":"ΕΠΙΤΥΧΙΑ"}]
[831.0,"Ιατρικό (ΣΣΑΣ) Γεν. Σειρά","Θεσσαλονίκη",30.0,1.2,{"$f":"E90*'ΒΟΗΘ'!D88","v":14400},{"$f":"IF((F90<='ΒΟΗΘ'!B88),\"ΕΠΙΤΥΧΙΑ\",\"\")","v":""}]
[836.0,"Οδοντιατρικό (ΣΣΑΣ) Γεν. Σειρά","Θεσσαλονίκη",3.0,1.2,{"$f":"E91*'ΒΟΗΘ'!D89","v":14400},{"$f":"IF((F91<='ΒΟΗΘ'!B89),\"ΕΠΙΤΥΧΙΑ\",\"\")","v":""}]
[841.0,"Κτηνιατρικό (ΣΣΑΣ) Γεν. Σειρά","Θεσσαλονίκη",4.0,1.2,{"$f":"E92*'ΒΟΗΘ'!D90","v":14400},{"$f":"IF((F92<='ΒΟΗΘ'!B90),\"ΕΠΙΤΥΧΙΑ\",\"\")","v":""}]
[846.0,"Φαρμακευτικό (ΣΣΑΣ) Γεν. Σειρά","Θεσσαλονίκη",4.0,1.2,{"$f":"E93*'ΒΟΗΘ'!D91","v":14400},{"$f":"IF((F93<='ΒΟΗΘ'!B91),\"ΕΠΙΤΥΧΙΑ\",\"\")","v":""}]
[851.0,"Αξιωματικών Νοσηλ. (ΣΑΝ) Γεν. Σειρά","Αθήνα",26.0,1.2,{"$f":"E94*'ΒΟΗΘ'!D92","v":14400},{"$f":"IF((F94<='ΒΟΗΘ'!B92),\"ΕΠΙΤΥΧΙΑ\",\"\")","v":""}]
[876.0,"Σχολή Πυροσβεστών Γεν. Σειρά","Αθήνα",131.0,0.8,{"$f":"E95*'ΒΟΗΘ'!D93","v":9600},{"$f":"IF((F95<='ΒΟΗΘ'!B93),\"ΕΠΙΤΥΧΙΑ\",\"\")","v":"ΕΠΙΤΥΧΙΑ"}]
[877.0,"Σχολή Αξιωματικών Πυροσβεστικής Ακαδημίας Γεν. Σειρά","Αθήνα",16.0,0.8,{"$f":"E96*'ΒΟΗΘ'!D94","v":9600},{"$f":"IF((F96<='ΒΟΗΘ'!B94),\"ΕΠΙΤΥΧΙΑ\",\"\")","v":"ΕΠΙΤΥΧΙΑ"}]
[881.0,"Σχολή Δοκίμων Σημαιοφόρων Λιμεν. Σώματος - Ελλην.Ακτοφυλ.(Σ.Δ.Σ.Λ.Σ. -ΕΛ.ΑΚΤ.), ΝΕΟ","Αθήνα",21.0,0.9,{"$f":"E97*'ΒΟΗΘ'!D95","v":10800},{"$f":"IF((F97<='ΒΟΗΘ'!B95),\"ΕΠΙΤΥΧΙΑ\",\"\")","v":"ΕΠΙΤΥΧΙΑ"}]
[882.0,"Σχολή Δοκίμων Λιμενοφυλάκων, ΝΕΟ","Αθήνα",74.0,0.9,{"$f":"E98*'ΒΟΗΘ'!D96","v":10800},{"$f":"IF((F98<='ΒΟΗΘ'!B96),\"ΕΠΙΤΥΧΙΑ\",\"\")","v":"ΕΠΙΤΥΧΙΑ"}]
[1001.0,"Αγροτικής Ανάπτυξης, Αγροδιατροφής & Διαχείρισης Φυσικών Πόρων, ΕΚΠΑ, ΝΕΟ","Ψαχνά",65.0,0.8,{"$f":"E99*'ΒΟΗΘ'!D97","v":9600},{"$f":"IF((F99<='ΒΟΗΘ'!B97),\"ΕΠΙΤΥΧΙΑ\",\"\")","v":"ΕΠΙΤΥΧΙΑ"}]
[1011.0,"Ψηφιακών Τεχνών & Κινηματογράφου, ΕΚΠΑ, ΝΕΟ","Ψαχνά",81.0,0.8,{"$f":"E100*'ΒΟΗΘ'!D98","v":9600},{"$f":"IF((F100<='ΒΟΗΘ'!B98),\"ΕΠΙΤΥΧΙΑ\",\"\")","v":"ΕΠΙΤΥΧΙΑ"}]
[1061.0,"Δασολογίας & Διαχείρισης Φυσικού Περιβάλλοντος, Γεωπονικού, ΝΕΟ (πρώην Δασ & Διαχείρισης Φυσ Περιβάλλοντος, ΤΕΙ Στερ. Ελλάδας)","Καρπενήσι",154.0,0.8,{"$f":"E101*'ΒΟΗΘ'!D99","v":9600},{"$f":"IF((F101<='ΒΟΗΘ'!B99),\"ΕΠΙΤΥΧΙΑ\",\"\")","v":"ΕΠΙΤΥΧΙΑ"}]
[1241.0,"Αγωγής & Φροντίδας στην Πρώιμη Παιδική Ηλικία, Ιωαννίνων, ΝΕΟ (πρώην Προσχολικής Αγωγής, ΤΕΙ Ηπείρου)","Ιωάννινα",138.0,0.8,{"$f":"E102*'ΒΟΗΘ'!D100","v":9600},{"$f":"IF((F102<='ΒΟΗΘ'!B100),\"ΕΠΙΤΥΧΙΑ\",\"\")","v":"ΕΠΙΤΥΧΙΑ"}]
[1242.0,"Γεωπονίας, Ιωαννίνων, ΝΕΟ (πρώην Τεχνολόγων Γεωπόνων, ΤΕΙ Ηπείρου)","Άρτα",174.0,0.8,{"$f":"E103*'ΒΟΗΘ'!D101","v":9600},{"$f":"IF((F103<='ΒΟΗΘ'!B101),\"ΕΠΙΤΥΧΙΑ\",\"\")","v":"ΕΠΙΤΥΧΙΑ"}]
[1245.0,"Λογοθεραπείας, Ιωαννίνων, ΝΕΟ (πρώην Λογοθεραπείας, ΤΕΙ Ηπείρου)","Ιωάννινα",117.0,0.8,{"$f":"E104*'ΒΟΗΘ'!D102","v":9600},{"$f":"IF((F104<='ΒΟΗΘ'!B102),\"ΕΠΙΤΥΧΙΑ\",\"\")","v":"ΕΠΙΤΥΧΙΑ"}]
[1248.0,"Μουσικών Σπουδών, Ιωαννίνων (ΕΙΔΙΚΕΣ ΕΞΕΤΑΣΕΙΣ)","Αρτα",135.0,"(***)",{"$f":"E105*'ΒΟΗΘ'!D103","v":"#VALUE!"},{"$f":"IF((F105<='ΒΟΗΘ'!B103),\"ΕΠΙΤΥΧΙΑ\",\"\")","v":"#VALUE!"}]
[1249.0,"Νοσηλευτικής, Ιωαννίνων, ΝΕΟ (πρώην Νοσηλευτικής, ΤΕΙ Ηπείρου)","Ιωάννινα",162.0,0.8,{"$f":"E106*'ΒΟΗΘ'!D104","v":9600},{"$f":"IF((F106<='ΒΟΗΘ'!B104),\"ΕΠΙΤΥΧΙΑ\",\"\")","v":"ΕΠΙΤΥΧΙΑ"}]
[1272.0,"Νοσηλευτικής, Πατρών, ΝΕΟ (πρώην Νοσηλευτικής, ΤΕΙ Δυτ. Ελλάδας)","Πάτρα",169.0,0.9,{"$f":"E107*'ΒΟΗΘ'!D105","v":10800},{"$f":"IF((F107<='ΒΟΗΘ'!B105),\"ΕΠΙΤΥΧΙΑ\",\"\")","v":"ΕΠΙΤΥΧΙΑ"}]
[1273.0,"Φυσικοθεραπείας, Πατρών, ΝΕΟ (πρώην Φυσικοθεραπείας, ΤΕΙ Δυτ. Ελλάδας)","Αίγιο",138.0,1.15,{"$f":"E108*'ΒΟΗΘ'!D106","v":13800},{"$f":"IF((F108<='ΒΟΗΘ'!B106),\"ΕΠΙΤΥΧΙΑ\",\"\")","v":""}]
[1274.0,"Λογοθεραπείας, Πατρών, ΝΕΟ (πρώην Λογοθεραπείας, ΤΕΙ Δυτ. Ελλάδας)","Πάτρα",89.0,1.15,{"$f":"E109*'ΒΟΗΘ'!D107","v":13800},{"$f":"IF((F109<='ΒΟΗΘ'!B107),\"ΕΠΙΤΥΧΙΑ\",\"\")","v":""}]
[1276.0,"Ζωικής Παραγωγής, Αλιείας & Υδατοκαλλιεργειών, Πατρών, ΝΕΟ (πρώην Τεχνολογίας Αλιείας - Υδατοκαλλιεργειών, ΤΕΙ Δυτ. Ελλάδας)","Μεσολόγγι",154.0,0.8,{"$f":"E110*'ΒΟΗΘ'!D108","v":9600},{"$f":"IF((F110<='ΒΟΗΘ'!B108),\"ΕΠΙΤΥΧΙΑ\",\"\")","v":"ΕΠΙΤΥΧΙΑ"}]
[1278.0,"Επιστήμης & Τεχνολογίας Τροφίμων, Πατρών, ΝΕΟ","Αγρίνιο",227.0,0.82,{"$f":"E111*'ΒΟΗΘ'!D109","v":9840},{"$f":"IF((F111<='ΒΟΗΘ'!B109),\"ΕΠΙΤΥΧΙΑ\",\"\")","v":"ΕΠΙΤΥΧΙΑ"}]
[1280.0,"Επιστήμης Φυτικής Παραγωγής, Πατρών, ΝΕΟ","Μεσολόγγι",202.0,0.8,{"$f":"E112*'ΒΟΗΘ'!D110","v":9600},{"$f":"IF((F112<='ΒΟΗΘ'!B110),\"ΕΠΙΤΥΧΙΑ\",\"\")","v":"ΕΠΙΤΥΧΙΑ"}]
[1286.0,"Επιστημών της Εκπαίδευσης & Κοινωνικής Εργασίας, Πατρών, ΝΕΟ (πρώην Παιδαγ. Δημοτικής Εκπ/σης)","Πάτρα",225.0,1.15,{"$f":"E113*'ΒΟΗΘ'!D111","v":13800},{"$f":"IF((F113<='ΒΟΗΘ'!B111),\"ΕΠΙΤΥΧΙΑ\",\"\")","v":""}]
[1391.0,"Ωκεανογραφίας & Θαλάσσιων Βιοεπιστημών, Αιγαίου, ΝΕΟ (πρώην Επιστημών της Θάλασσας)","Μυτιλήνη",103.0,0.8,{"$f":"E114*'ΒΟΗΘ'!D112","v":9600},{"$f":"IF((F114<='ΒΟΗΘ'!B112),\"ΕΠΙΤΥΧΙΑ\",\"\")","v":"ΕΠΙΤΥΧΙΑ"}]
[1422.0,"Γεωπονίας - Αγροτεχνολογίας, Θεσσαλίας, ΝΕΟ (πρώην Τεχνολόγων Γεωπόνων, ΤΕΙ Θεσσαλίας)","Λάρισα",138.0,0.8,{"$f":"E115*'ΒΟΗΘ'!D113","v":9600},{"$f":"IF((F115<='ΒΟΗΘ'!B113),\"ΕΠΙΤΥΧΙΑ\",\"\")","v":"ΕΠΙΤΥΧΙΑ"}]
[1424.0,"Δασολογίας, Επιστημών Ξύλου & Σχεδιασμού, Θεσσαλίας, ΝΕΟ (πρώην Σχεδιασμού & Τεχνολογίας Ξύλου & Επίπλου ΤΕ, ΤΕΙ Θεσσαλίας)","Καρδίτσα",186.0,0.8,{"$f":"E116*'ΒΟΗΘ'!D114","v":9600},{"$f":"IF((F116<='ΒΟΗΘ'!B114),\"ΕΠΙΤΥΧΙΑ\",\"\")","v":"ΕΠΙΤΥΧΙΑ"}]
[1425.0,"Δημόσιας & Ενιαίας Υγείας, Θεσσαλίας, ΝΕΟ","Καρδίτσα",97.0,0.8,{"$f":"E117*'ΒΟΗΘ'!D115","v":9600},{"$f":"IF((F117<='ΒΟΗΘ'!B115),\"ΕΠΙΤΥΧΙΑ\",\"\")","v":"ΕΠΙΤΥΧΙΑ"}]
[1426.0,"Διαιτολογίας & Διατροφολογίας, Θεσσαλίας, ΝΕΟ (πρώην Διατροφής & Διαιτολογίας, ΤΕΙ Θεσσαλίας)","Τρίκαλα",97.0,0.85,{"$f":"E118*'ΒΟΗΘ'!D116","v":10200},{"$f":"IF((F118<='ΒΟΗΘ'!B116),\"ΕΠΙΤΥΧΙΑ\",\"\")","v":"ΕΠΙΤΥΧΙΑ"}]
[1428.0,"Επιστήμης Ζωικής Παραγωγής, Θεσσαλίας, ΝΕΟ","Λάρισα",105.0,0.8,{"$f":"E119*'ΒΟΗΘ'!D117","v":9600},{"$f":"IF((F119<='ΒΟΗΘ'!B117),\"ΕΠΙΤΥΧΙΑ\",\"\")","v":"ΕΠΙΤΥΧΙΑ"}]
[1429.0,"Επιστήμης Τροφίμων & Διατροφής, Θεσσαλίας, ΝΕΟ (πρώην Τεχνολογίας Τροφίμων, ΤΕΙ Θεσσαλίας)","Καρδίτσα",121.0,0.8,{"$f":"E120*'ΒΟΗΘ'!D118","v":9600},{"$f":"IF((F120<='ΒΟΗΘ'!B118),\"ΕΠΙΤΥΧΙΑ\",\"\")","v":"ΕΠΙΤΥΧΙΑ"}]
[1433.0,"Νοσηλευτικής, Θεσσαλίας, ΝΕΟ (πρώην Νοσηλευτικής, ΤΕΙ Θεσσαλίας)","Λάρισα",133.0,0.8,{"$f":"E121*'ΒΟΗΘ'!D119","v":9600},{"$f":"IF((F121<='ΒΟΗΘ'!B119),\"ΕΠΙΤΥΧΙΑ\",\"\")","v":"ΕΠΙΤΥΧΙΑ"}]
[1434.0,"Περιβάλλοντος, Θεσσαλίας, ΝΕΟ","Λάρισα",112.0,0.8,{"$f":"E122*'ΒΟΗΘ'!D120","v":9600},{"$f":"IF((F122<='ΒΟΗΘ'!B120),\"ΕΠΙΤΥΧΙΑ\",\"\")","v":"ΕΠΙΤΥΧΙΑ"}]
[1438.0,"Φυσικοθεραπείας, Θεσσαλίας, ΝΕΟ (πρώην Φυσικοθεραπείας, ΤΕΙ Στερ. Ελλάδας)","Λαμία",130.0,1.2,{"$f":"E123*'ΒΟΗΘ'!D121","v":14400},{"$f":"IF((F123<='ΒΟΗΘ'!B121),\"ΕΠΙΤΥΧΙΑ\",\"\")","v":""}]
[1452.0,"Επιστήμης & Τεχνολογίας Τροφίμων, Ιονίου, ΝΕΟ (πρώην Τεχνολογίας Τροφίμων, ΤΕΙ Ιόνιων Νήσων)","Αργοστόλι",202.0,0.8,{"$f":"E124*'ΒΟΗΘ'!D122","v":9600},{"$f":"IF((F124<='ΒΟΗΘ'!B122),\"ΕΠΙΤΥΧΙΑ\",\"\")","v":"ΕΠΙΤΥΧΙΑ"}]
[1453.0,"Περιβάλλοντος, Ιονίου, ΝΕΟ (πρώην Τεχνολογιών Φυσικού Περιβάλλοντος ΤΕ, ΤΕΙ Ιόνιων Νήσων / Εισαγωγική Κατεύθυνση)","Ζάκυνθος",146.0,0.8,{"$f":"E125*'ΒΟΗΘ'!D123","v":9600},{"$f":"IF((F125<='ΒΟΗΘ'!B123),\"ΕΠΙΤΥΧΙΑ\",\"\")","v":"ΕΠΙΤΥΧΙΑ"}]
[1511.0,"Γεωπονίας, Πελοποννήσου, ΝΕΟ (πρώην Τεχνολόγων Γεωπόνων, ΤΕΙ Πελοποννήσου)","Καλαμάτα",186.0,0.8,{"$f":"E126*'ΒΟΗΘ'!D124","v":9600},{"$f":"IF((F126<='ΒΟΗΘ'!B124),\"ΕΠΙΤΥΧΙΑ\",\"\")","v":"ΕΠΙΤΥΧΙΑ"}]
[1512.0,"Επιστήμης & Τεχνολογίας Τροφίμων, Πελοποννήσου, ΝΕΟ (πρώην Τεχνολογίας Τροφίμων, ΤΕΙ Πελοποννήσου)","Καλαμάτα",130.0,0.8,{"$f":"E127*'ΒΟΗΘ'!D125","v":9600},{"$f":"IF((F127<='ΒΟΗΘ'!B125),\"ΕΠΙΤΥΧΙΑ\",\"\")","v":"ΕΠΙΤΥΧΙΑ"}]
[1515.0,"Λογοθεραπείας, Πελοποννήσου, ΝΕΟ (πρώην Λογοθεραπείας, ΤΕΙ Πελοποννήσου)","Καλαμάτα",89.0,0.9,{"$f":"E128*'ΒΟΗΘ'!D126","v":10800},{"$f":"IF((F128<='ΒΟΗΘ'!B126),\"ΕΠΙΤΥΧΙΑ\",\"\")","v":"ΕΠΙΤΥΧΙΑ"}]
[1516.0,"Επιστήμης Διατροφής & Διαιτολογίας, Πελοποννήσου, ΝΕΟ","Καλαμάτα",121.0,0.8,{"$f":"E129*'ΒΟΗΘ'!D127","v":9600},{"$f":"IF((F129<='ΒΟΗΘ'!B127),\"ΕΠΙΤΥΧΙΑ\",\"\")","v":"ΕΠΙΤΥΧΙΑ"}]
[1517.0,"Παραστατικών & Ψηφιακών Τεχνών, Πελοποννήσου, ΝΕΟ","Ναύπλιον",113.0,0.8,{"$f":"E130*'ΒΟΗΘ'!D128","v":9600},{"$f":"IF((F130<='ΒΟΗΘ'!B128),\"ΕΠΙΤΥΧΙΑ\",\"\")","v":"ΕΠΙΤΥΧΙΑ"}]
[1520.0,"Φυσικοθεραπείας, Πελοποννήσου, ΝΕΟ","Σπάρτη",114.0,1.0,{"$f":"E131*'ΒΟΗΘ'!D129","v":12000},{"$f":"IF((F131<='ΒΟΗΘ'!B129),\"ΕΠΙΤΥΧΙΑ\",\"\")","v":"ΕΠΙΤΥΧΙΑ"}]
[1552.0,"Γεωπονίας, Δυτ. Μακεδονίας, ΝΕΟ (πρώην Τεχνολόγων Γεωπόνων, ΤΕΙ Δυτ. Μακεδονίας)","Φλώρινα",283.0,0.8,{"$f":"E132*'ΒΟΗΘ'!D130","v":9600},{"$f":"IF((F132<='ΒΟΗΘ'!B130),\"ΕΠΙΤΥΧΙΑ\",\"\")","v":"ΕΠΙΤΥΧΙΑ"}]
[1553.0,"Μαιευτικής, Δυτ. Μακεδονίας, ΝΕΟ (πρώην Μαιευτικής, ΤΕΙ Δυτ. Μακεδονίας)","Πτολεμαΐδα",130.0,0.8,{"$f":"E133*'ΒΟΗΘ'!D131","v":9600},{"$f":"IF((F133<='ΒΟΗΘ'!B131),\"ΕΠΙΤΥΧΙΑ\",\"\")","v":"ΕΠΙΤΥΧΙΑ"}]
[1558.0,"Εργοθεραπείας, Δυτ. Μακεδονίας, ΝΕΟ","Πτολεμαΐδα",81.0,0.8,{"$f":"E134*'ΒΟΗΘ'!D132","v":9600},{"$f":"IF((F134<='ΒΟΗΘ'!B132),\"ΕΠΙΤΥΧΙΑ\",\"\")","v":"ΕΠΙΤΥΧΙΑ"}]
[1610.0,"Αγωγής & Φροντίδας στην Πρώιμη Παιδική Ηλικία, ΔΙ.ΠΑ.Ε., ΝΕΟ (πρώην Προσχολικής Αγωγής, ΤΕΙ Θεσσαλονίκης)","Θεσσαλονίκη",113.0,0.8,{"$f":"E135*'ΒΟΗΘ'!D133","v":9600},{"$f":"IF((F135<='ΒΟΗΘ'!B133),\"ΕΠΙΤΥΧΙΑ\",\"\")","v":"ΕΠΙΤΥΧΙΑ"}]
[1613.0,"Επιστημών Διατροφής και Διαιτολογίας, ΔΙ.ΠΑ.Ε., ΝΕΟ (πρώην Διατροφής & Διαιτολογίας, ΤΕΙ Θεσσαλονίκης)","Θεσσαλονίκη",93.0,1.2,{"$f":"E136*'ΒΟΗΘ'!D134","v":14400},{"$f":"IF((F136<='ΒΟΗΘ'!B134),\"ΕΠΙΤΥΧΙΑ\",\"\")","v":""}]
[1614.0,"Μαιευτικής, ΔΙ.ΠΑ.Ε., ΝΕΟ (πρώην Μαιευτικής ΤΕΙ Θεσσαλονίκης)","Θεσσαλονίκη",93.0,1.0,{"$f":"E137*'ΒΟΗΘ'!D135","v":12000},{"$f":"IF((F137<='ΒΟΗΘ'!B135),\"ΕΠΙΤΥΧΙΑ\",\"\")","v":"ΕΠΙΤΥΧΙΑ"}]
[1615.0,"Βιοϊατρικών Επιστημών ΔΙ.ΠΑ.Ε., ΝΕΟ (πρώην Ιατρικών Εργαστηρίων, ΤΕΙ Θεσσαλονίκης)","Θεσσαλονίκη",178.0,1.2,{"$f":"E138*'ΒΟΗΘ'!D136","v":14400},{"$f":"IF((F138<='ΒΟΗΘ'!B136),\"ΕΠΙΤΥΧΙΑ\",\"\")","v":""}]
[1616.0,"Φυσικοθεραπείας, ΔΙ.ΠΑ.Ε., ΝΕΟ (πρώην Φυσικοθεραπείας, ΤΕΙ Θεσσαλονίκης)","Θεσσαλονίκη",105.0,0.8,{"$f":"E139*'ΒΟΗΘ'!D137","v":9600},{"$f":"IF((F139<='ΒΟΗΘ'!B137),\"ΕΠΙΤΥΧΙΑ\",\"\")","v":"ΕΠΙΤΥΧΙΑ"}]
[1617.0,"Νοσηλευτικής, ΔΙ.ΠΑ.Ε., ΝΕΟ (πρώην Νοσηλευτικής, ΤΕΙ Ανατ. Μακεδ. & Θράκης)","Διδυμότειχο",103.0,1.0,{"$f":"E140*'ΒΟΗΘ'!D138","v":12000},{"$f":"IF((F140<='ΒΟΗΘ'!B138),\"ΕΠΙΤΥΧΙΑ\",\"\")","v":"ΕΠΙΤΥΧΙΑ"}]
[1618.0,"Νοσηλευτικής, ΔΙ.ΠΑ.Ε., ΝΕΟ (πρώην Νοσηλευτικής, ΤΕΙ Θεσσαλονίκης)","Θεσσαλονίκη",103.0,1.0,{"$f":"E141*'ΒΟΗΘ'!D139","v":12000},{"$f":"IF((F141<='ΒΟΗΘ'!B139),\"ΕΠΙΤΥΧΙΑ\",\"\")","v":"ΕΠΙΤΥΧΙΑ"}]
[1629.0,"Χημείας, ΔΙ.ΠΑ.Ε., ΝΕΟ","Καβάλα",180.0,1.2,{"$f":"E142*'ΒΟΗΘ'!D140","v":14400},{"$f":"IF((F142<='ΒΟΗΘ'!B140),\"ΕΠΙΤΥΧΙΑ\",\"\")","v":""}]
[1632.0,"Δασολογίας & Φυσικού Περιβάλλοντος, ΔΙ.ΠΑ.Ε., ΝΕΟ (πρώην Δασοπονίας & Διαχείρισης Φυσικού Περιβάλλοντος, ΤΕΙ Ανατ. Μακεδ. & Θράκης)","Δράμα",149.0,0.8,{"$f":"E143*'ΒΟΗΘ'!D141","v":9600},{"$f":"IF((F143<='ΒΟΗΘ'!B141),\"ΕΠΙΤΥΧΙΑ\",\"\")","v":"ΕΠΙΤΥΧΙΑ"}]
[1633.0,"Αγροτικής Βιοτεχνολογίας & Οινολογίας, ΔΙ.ΠΑ.Ε., ΝΕΟ (πρώην Οινολογίας & Τεχνολογίας Ποτών, ΤΕΙ Ανατ. Μακεδονίας & Θράκης)","Δράμα",186.0,0.8,{"$f":"E144*'ΒΟΗΘ'!D142","v":9600},{"$f":"IF((F144<='ΒΟΗΘ'!B142),\"ΕΠΙΤΥΧΙΑ\",\"\")","v":"ΕΠΙΤΥΧΙΑ"}]
[1634.0,"Γεωπονίας, ΔΙ.ΠΑ.Ε., ΝΕΟ (πρώην Τεχνολόγων Γεωπόνων, ΤΕΙ Θεσσαλονίκης)","Θεσσαλονίκη",243.0,0.9,{"$f":"E145*'ΒΟΗΘ'!D143","v":10800},{"$f":"IF((F145<='ΒΟΗΘ'!B143),\"ΕΠΙΤΥΧΙΑ\",\"\")","v":"ΕΠΙΤΥΧΙΑ"}]
[1635.0,"Επιστήμης & Τεχνολογίας Τροφίμων, ΔΙ.ΠΑ.Ε., ΝΕΟ (πρώην Τεχνολογίας Τροφίμων, ΤΕΙ Θεσσαλονίκης)","Θεσσαλονίκη",101.0,1.0,{"$f":"E146*'ΒΟΗΘ'!D144","v":12000},{"$f":"IF((F146<='ΒΟΗΘ'!B144),\"ΕΠΙΤΥΧΙΑ\",\"\")","v":"ΕΠΙΤΥΧΙΑ"}]
[1651.0,"Νοσηλευτικής, ΕΛ.ΜΕ.ΠΑ., ΝΕΟ (πρώην Νοσηλευτικής, ΤΕΙ Κρήτης)","Ηράκλειο",134.0,0.8,{"$f":"E147*'ΒΟΗΘ'!D145","v":9600},{"$f":"IF((F147<='ΒΟΗΘ'!B145),\"ΕΠΙΤΥΧΙΑ\",\"\")","v":"ΕΠΙΤΥΧΙΑ"}]
[1653.0,"Επιστημών Διατροφής & Διαιτολογίας, ΕΛ.ΜΕ.ΠΑ., ΝΕΟ (πρώην Διατροφής & Διαιτολογίας, ΤΕΙ Κρήτης)","Σητεία",121.0,0.8,{"$f":"E148*'ΒΟΗΘ'!D146","v":9600},{"$f":"IF((F148<='ΒΟΗΘ'!B146),\"ΕΠΙΤΥΧΙΑ\",\"\")","v":"ΕΠΙΤΥΧΙΑ"}]
[1657.0,"Γεωπονίας, ΕΛ.ΜΕ.ΠΑ., ΝΕΟ (πρώην Τεχνολόγων Γεωπόνων, ΤΕΙ Κρήτης)","Ηράκλειο",166.0,0.8,{"$f":"E149*'ΒΟΗΘ'!D147","v":9600},{"$f":"IF((F149<='ΒΟΗΘ'!B147),\"ΕΠΙΤΥΧΙΑ\",\"\")","v":"ΕΠΙΤΥΧΙΑ"}]

{"sheet":"4ο ΠΕΔΙΟ-ΟΙΚΟΝ ΠΛΗΡ","index":6,"n_rows":173,"n_cols":7,"rows_kept":173,"cut":false,"hidden":false,"merged":[[1,0,1,6],[2,1,3,1],[2,2,3,2],[2,6,3,6]]}
[]
["ΠΕΔΙΟ 4ο:  ΟΙΚΟΝΟΜΙΚΕΣ  &  ΣΧΟΛΕΣ  ΠΛΗΡΟΦΟΡΙΚΗΣ"]
["ΚΩΔΙΚΟΣ","ΣΧΟΛΗ/ΤΜΗΜΑ","ΠΟΛΗ","ΕΙΣΑΚΤΕΟΙ","ΣΕΒΕ   ","ΕΒΕ   ","ΑΠΟΤΕΛΕΣΜΑ"]
["ΜΗΧΑΝΟΓΡ",null,null,"2021 (90%)","2021   ","2021 (90%)   "]
[97.0,"Οικονομικών Επιστημών, Θράκης","Κομοτηνή",266.0,1.0,{"$f":"E5*'ΒΟΗΘ'!D3","v":12000},{"$f":"IF((F5<='ΒΟΗΘ'!B3),\"ΕΠΙΤΥΧΙΑ\",\"\")","v":"ΕΠΙΤΥΧΙΑ"}]
[98.0,"Πληροφορικής & Τηλεπικοινωνιών, Πελοποννήσου","Τρίπολη",197.0,0.9,{"$f":"E6*'ΒΟΗΘ'!D4","v":10800},{"$f":"IF((F6<='ΒΟΗΘ'!B4),\"ΕΠΙΤΥΧΙΑ\",\"\")","v":"ΕΠΙΤΥΧΙΑ"}]
[99.0,"Πληροφορικής & Τηλεπικοινωνιών, Θεσσαλίας, ΝΕΟ (πρώην Πληροφορικής)","Λαμία",243.0,0.8,{"$f":"E7*'ΒΟΗΘ'!D5","v":9600},{"$f":"IF((F7<='ΒΟΗΘ'!B5),\"ΕΠΙΤΥΧΙΑ\",\"\")","v":"ΕΠΙΤΥΧΙΑ"}]
[124.0,"Δημόσιας Διοίκησης, Παντείου","Αθήνα",265.0,1.2,{"$f":"E8*'ΒΟΗΘ'!D6","v":14400},{"$f":"IF((F8<='ΒΟΗΘ'!B6),\"ΕΠΙΤΥΧΙΑ\",\"\")","v":""}]
[128.0,"Παιδαγωγικό Δημοτικής Εκπ/σης, ΕΚΠΑ","Αθήνα",180.0,1.2,{"$f":"E9*'ΒΟΗΘ'!D7","v":14400},{"$f":"IF((F9<='ΒΟΗΘ'!B7),\"ΕΠΙΤΥΧΙΑ\",\"\")","v":""}]
[130.0,"Παιδαγωγικό Δημοτικής Εκπ/σης, Ιωαννίνων","Ιωάννινα",209.0,0.8,{"$f":"E10*'ΒΟΗΘ'!D8","v":9600},{"$f":"IF((F10<='ΒΟΗΘ'!B8),\"ΕΠΙΤΥΧΙΑ\",\"\")","v":"ΕΠΙΤΥΧΙΑ"}]
[132.0,"Παιδαγωγικό Δημοτικής Εκπ/σης, Κρήτης","Ρέθυμνο",169.0,1.0,{"$f":"E11*'ΒΟΗΘ'!D9","v":12000},{"$f":"IF((F11<='ΒΟΗΘ'!B9),\"ΕΠΙΤΥΧΙΑ\",\"\")","v":"ΕΠΙΤΥΧΙΑ"}]
[134.0,"Επιστημών Προσχολ. Αγωγής & Εκπ/σης, ΑΠΘ","Θεσσαλονίκη",130.0,0.8,{"$f":"E12*'ΒΟΗΘ'!D10","v":9600},{"$f":"IF((F12<='ΒΟΗΘ'!B10),\"ΕΠΙΤΥΧΙΑ\",\"\")","v":"ΕΠΙΤΥΧΙΑ"}]
[136.0,"Επιστημών της Εκπαίδευσης & της Αγωγής στην Προσχολική Ηλικία, Πατρών","Πάτρα",143.0,0.8,{"$f":"E13*'ΒΟΗΘ'!D11","v":9600},{"$f":"IF((F13<='ΒΟΗΘ'!B11),\"ΕΠΙΤΥΧΙΑ\",\"\")","v":"ΕΠΙΤΥΧΙΑ"}]
[140.0,"Παιδαγωγικό Δημοτικής Εκπ/σης, ΑΠΘ","Θεσσαλονίκη",180.0,0.8,{"$f":"E14*'ΒΟΗΘ'!D12","v":9600},{"$f":"IF((F14<='ΒΟΗΘ'!B12),\"ΕΠΙΤΥΧΙΑ\",\"\")","v":"ΕΠΙΤΥΧΙΑ"}]
[142.0,"Παιδαγωγικό Δημοτικής Εκπ/σης, Θράκης","Αλεξ/πολη",216.0,0.8,{"$f":"E15*'ΒΟΗΘ'!D13","v":9600},{"$f":"IF((F15<='ΒΟΗΘ'!B13),\"ΕΠΙΤΥΧΙΑ\",\"\")","v":"ΕΠΙΤΥΧΙΑ"}]
[143.0,"Παιδαγωγικό Δημοτικής Εκπ/σης, Αιγαίου","Ρόδος",306.0,0.8,{"$f":"E16*'ΒΟΗΘ'!D14","v":9600},{"$f":"IF((F16<='ΒΟΗΘ'!B14),\"ΕΠΙΤΥΧΙΑ\",\"\")","v":"ΕΠΙΤΥΧΙΑ"}]
[144.0,"Οικονομίας και Βιώσιμης Ανάπτυξης (πρώην Οικιακής Οικονομίας & Οικολογίας), Χαροκοπείου","Αθήνα",75.0,1.1,{"$f":"E17*'ΒΟΗΘ'!D15","v":13200},{"$f":"IF((F17<='ΒΟΗΘ'!B15),\"ΕΠΙΤΥΧΙΑ\",\"\")","v":""}]
[150.0,"Διεθνών & Ευρωπαϊκών Οικονομικών Σπουδών, Ο.Π.Α.","Αθήνα",112.0,1.2,{"$f":"E18*'ΒΟΗΘ'!D16","v":14400},{"$f":"IF((F18<='ΒΟΗΘ'!B16),\"ΕΠΙΤΥΧΙΑ\",\"\")","v":""}]
[152.0,"Οικονομικής & Περιφερειακής Ανάπτυξης, Παντείου","Αθήνα",198.0,1.2,{"$f":"E19*'ΒΟΗΘ'!D17","v":14400},{"$f":"IF((F19<='ΒΟΗΘ'!B17),\"ΕΠΙΤΥΧΙΑ\",\"\")","v":""}]
[154.0,"Εκπαίδευσης & Αγωγής στην Προσχ. Ηλικία, ΕΚΠΑ","Αθήνα",105.0,0.8,{"$f":"E20*'ΒΟΗΘ'!D18","v":9600},{"$f":"IF((F20<='ΒΟΗΘ'!B18),\"ΕΠΙΤΥΧΙΑ\",\"\")","v":"ΕΠΙΤΥΧΙΑ"}]
[155.0,"Χρηματοοικονομικής & Τραπεζικής Διοικητικής","Πειραιάς",158.0,1.2,{"$f":"E21*'ΒΟΗΘ'!D19","v":14400},{"$f":"IF((F21<='ΒΟΗΘ'!B19),\"ΕΠΙΤΥΧΙΑ\",\"\")","v":""}]
[156.0,"Παιδαγωγικό Νηπιαγωγών","Ιωάννινα",223.0,0.8,{"$f":"E22*'ΒΟΗΘ'!D20","v":9600},{"$f":"IF((F22<='ΒΟΗΘ'!B20),\"ΕΠΙΤΥΧΙΑ\",\"\")","v":"ΕΠΙΤΥΧΙΑ"}]
[157.0,"Ναυτιλιακών Σπουδών","Πειραιάς",204.0,1.2,{"$f":"E23*'ΒΟΗΘ'!D21","v":14400},{"$f":"IF((F23<='ΒΟΗΘ'!B21),\"ΕΠΙΤΥΧΙΑ\",\"\")","v":""}]
[158.0,"Παιδαγωγικό Προσχολ. Εκπ/σης, Κρήτης","Ρέθυμνο",152.0,1.0,{"$f":"E24*'ΒΟΗΘ'!D22","v":12000},{"$f":"IF((F24<='ΒΟΗΘ'!B22),\"ΕΠΙΤΥΧΙΑ\",\"\")","v":"ΕΠΙΤΥΧΙΑ"}]
[160.0,"Επιστημών της Εκπαίδευσης στην Προσχολική Ηλικία, Θράκης","Αλεξ/πολη",193.0,1.0,{"$f":"E25*'ΒΟΗΘ'!D23","v":12000},{"$f":"IF((F25<='ΒΟΗΘ'!B23),\"ΕΠΙΤΥΧΙΑ\",\"\")","v":"ΕΠΙΤΥΧΙΑ"}]
[161.0,"Διεθνών & Ευρωπαϊκών Σπουδών, Μακεδονίας","Θεσσαλονίκη",126.0,1.2,{"$f":"E26*'ΒΟΗΘ'!D24","v":14400},{"$f":"IF((F26<='ΒΟΗΘ'!B24),\"ΕΠΙΤΥΧΙΑ\",\"\")","v":""}]
[162.0,"Επιστημών της Προσχ. Αγωγής & του Εκπ/κού Σχεδιασμού, Αιγαίου","Ρόδος",259.0,0.8,{"$f":"E27*'ΒΟΗΘ'!D25","v":9600},{"$f":"IF((F27<='ΒΟΗΘ'!B25),\"ΕΠΙΤΥΧΙΑ\",\"\")","v":"ΕΠΙΤΥΧΙΑ"}]
[163.0,"Κινηματογράφου","Θεσσαλονίκη",73.0,1.0,{"$f":"E28*'ΒΟΗΘ'!D26","v":12000},{"$f":"IF((F28<='ΒΟΗΘ'!B26),\"ΕΠΙΤΥΧΙΑ\",\"\")","v":"ΕΠΙΤΥΧΙΑ"}]
[164.0,"Παιδαγωγικό Δημοτικής Εκπ/σης, Θεσσαλίας","Βόλος",141.0,0.8,{"$f":"E29*'ΒΟΗΘ'!D27","v":9600},{"$f":"IF((F29<='ΒΟΗΘ'!B27),\"ΕΠΙΤΥΧΙΑ\",\"\")","v":"ΕΠΙΤΥΧΙΑ"}]
[166.0,"Παιδαγωγικό Προσχολ. Εκπ/σης, Θεσσαλίας","Βόλος",125.0,0.8,{"$f":"E30*'ΒΟΗΘ'!D28","v":9600},{"$f":"IF((F30<='ΒΟΗΘ'!B28),\"ΕΠΙΤΥΧΙΑ\",\"\")","v":"ΕΠΙΤΥΧΙΑ"}]
[168.0,"Θεάτρου, ΑΠΘ","Θεσσαλονίκη",63.0,0.8,{"$f":"E31*'ΒΟΗΘ'!D29","v":9600},{"$f":"IF((F31<='ΒΟΗΘ'!B29),\"ΕΠΙΤΥΧΙΑ\",\"\")","v":"ΕΠΙΤΥΧΙΑ"}]
[173.0,"Ιστορίας & Φιλοσοφίας της Επιστήμης, ΕΚΠΑ","Αθήνα",114.0,1.05,{"$f":"E32*'ΒΟΗΘ'!D30","v":12600},{"$f":"IF((F32<='ΒΟΗΘ'!B30),\"ΕΠΙΤΥΧΙΑ\",\"\")","v":""}]
[176.0,"Βαλκανικών, Σλαβικών & Ανατολ. Σπουδών, Μακεδονίας","Θεσσαλονίκη",177.0,1.2,{"$f":"E33*'ΒΟΗΘ'!D31","v":14400},{"$f":"IF((F33<='ΒΟΗΘ'!B31),\"ΕΠΙΤΥΧΙΑ\",\"\")","v":""}]
[178.0,"Παιδαγωγικό Ειδικής Αγωγής, Θεσσαλίας","Βόλος",114.0,1.0,{"$f":"E34*'ΒΟΗΘ'!D32","v":12000},{"$f":"IF((F34<='ΒΟΗΘ'!B32),\"ΕΠΙΤΥΧΙΑ\",\"\")","v":"ΕΠΙΤΥΧΙΑ"}]
[179.0,"Διεθνών, Ευρωπαϊκών & Περιφερειακών Σπουδών, Παντείου","Αθήνα",138.0,1.0,{"$f":"E35*'ΒΟΗΘ'!D33","v":12000},{"$f":"IF((F35<='ΒΟΗΘ'!B33),\"ΕΠΙΤΥΧΙΑ\",\"\")","v":"ΕΠΙΤΥΧΙΑ"}]
[180.0,"Ναυτιλίας & Επιχειρηματικών Υπηρεσιών, Αιγαίου","Χίος",190.0,1.0,{"$f":"E36*'ΒΟΗΘ'!D34","v":12000},{"$f":"IF((F36<='ΒΟΗΘ'!B34),\"ΕΠΙΤΥΧΙΑ\",\"\")","v":"ΕΠΙΤΥΧΙΑ"}]
[216.0,"Επιστήμης Υπολογιστών, Κρήτης","Ηράκλειο",148.0,1.2,{"$f":"E37*'ΒΟΗΘ'!D35","v":14400},{"$f":"IF((F37<='ΒΟΗΘ'!B35),\"ΕΠΙΤΥΧΙΑ\",\"\")","v":""}]
[218.0,"Στατιστικής & Αναλογιστικών-Χρηματοοικονομικών Μαθηματικών, Αιγαίου","Σάμος",243.0,0.8,{"$f":"E38*'ΒΟΗΘ'!D36","v":9600},{"$f":"IF((F38<='ΒΟΗΘ'!B36),\"ΕΠΙΤΥΧΙΑ\",\"\")","v":"ΕΠΙΤΥΧΙΑ"}]
[222.0,"Μηχανικών Οικονομίας & Διοίκησης, Αιγαίου","Χίος",113.0,0.8,{"$f":"E39*'ΒΟΗΘ'!D37","v":9600},{"$f":"IF((F39<='ΒΟΗΘ'!B37),\"ΕΠΙΤΥΧΙΑ\",\"\")","v":"ΕΠΙΤΥΧΙΑ"}]
[224.0,"Μηχανικών Παραγωγής & Διοίκησης, Θράκης","Ξάνθη",118.0,1.1,{"$f":"E40*'ΒΟΗΘ'!D38","v":13200},{"$f":"IF((F40<='ΒΟΗΘ'!B38),\"ΕΠΙΤΥΧΙΑ\",\"\")","v":""}]
[230.0,"Μηχανικών Παραγωγής & Διοίκησης, Πολυτ. Κρήτης","Χανιά",154.0,1.2,{"$f":"E41*'ΒΟΗΘ'!D39","v":14400},{"$f":"IF((F41<='ΒΟΗΘ'!B39),\"ΕΠΙΤΥΧΙΑ\",\"\")","v":""}]
[238.0,"Μηχανικών Σχεδίασης Προϊόντων & Συστημάτων, Αιγαίου","Σύρος",113.0,1.0,{"$f":"E42*'ΒΟΗΘ'!D40","v":12000},{"$f":"IF((F42<='ΒΟΗΘ'!B40),\"ΕΠΙΤΥΧΙΑ\",\"\")","v":"ΕΠΙΤΥΧΙΑ"}]
[240.0,"Διοικητικής Επιστήμης & Τεχνολογίας, Ο.Π.Α.","Αθήνα",138.0,1.2,{"$f":"E43*'ΒΟΗΘ'!D41","v":14400},{"$f":"IF((F43<='ΒΟΗΘ'!B41),\"ΕΠΙΤΥΧΙΑ\",\"\")","v":""}]
[262.0,"Ψηφιακών Συστημάτων, Πειραιώς","Πειραιάς",163.0,1.2,{"$f":"E44*'ΒΟΗΘ'!D42","v":14400},{"$f":"IF((F44<='ΒΟΗΘ'!B42),\"ΕΠΙΤΥΧΙΑ\",\"\")","v":""}]
[309.0,"Οικονομικών Επιστημών, ΕΚΠΑ","Αθήνα",296.0,1.2,{"$f":"E45*'ΒΟΗΘ'!D43","v":14400},{"$f":"IF((F45<='ΒΟΗΘ'!B43),\"ΕΠΙΤΥΧΙΑ\",\"\")","v":""}]
[310.0,"Γεωγραφίας, Αιγαίου","Μυτιλήνη",177.0,0.8,{"$f":"E46*'ΒΟΗΘ'!D44","v":9600},{"$f":"IF((F46<='ΒΟΗΘ'!B44),\"ΕΠΙΤΥΧΙΑ\",\"\")","v":"ΕΠΙΤΥΧΙΑ"}]
[311.0,"Οικονομικών Επιστημών, ΑΠΘ","Θεσσαλονίκη",316.0,1.2,{"$f":"E47*'ΒΟΗΘ'!D45","v":14400},{"$f":"IF((F47<='ΒΟΗΘ'!B45),\"ΕΠΙΤΥΧΙΑ\",\"\")","v":""}]
[312.0,"Οικονομικής Επιστήμης, Ο.Π.Α.","Αθήνα",202.0,1.2,{"$f":"E48*'ΒΟΗΘ'!D46","v":14400},{"$f":"IF((F48<='ΒΟΗΘ'!B46),\"ΕΠΙΤΥΧΙΑ\",\"\")","v":""}]
[313.0,"Οργάνωσης & Διοίκησης Επιχειρήσεων, Οικον. Παν. Αθήνας","Αθήνα",211.0,1.2,{"$f":"E49*'ΒΟΗΘ'!D47","v":14400},{"$f":"IF((F49<='ΒΟΗΘ'!B47),\"ΕΠΙΤΥΧΙΑ\",\"\")","v":""}]
[314.0,"Μάρκετινγκ & Επικοινωνίας, Οικον. Παν. Αθήνας","Αθήνα",154.0,1.2,{"$f":"E50*'ΒΟΗΘ'!D48","v":14400},{"$f":"IF((F50<='ΒΟΗΘ'!B48),\"ΕΠΙΤΥΧΙΑ\",\"\")","v":""}]
[315.0,"Οικονομικής Επιστήμης, Πειραιά","Πειραιάς",266.0,1.2,{"$f":"E51*'ΒΟΗΘ'!D49","v":14400},{"$f":"IF((F51<='ΒΟΗΘ'!B49),\"ΕΠΙΤΥΧΙΑ\",\"\")","v":""}]
[316.0,"Οργάνωσης & Διοίκησης Επιχειρήσεων, Πειραιά","Πειραιάς",243.0,1.2,{"$f":"E52*'ΒΟΗΘ'!D50","v":14400},{"$f":"IF((F52<='ΒΟΗΘ'!B50),\"ΕΠΙΤΥΧΙΑ\",\"\")","v":""}]
[317.0,"Οικονομικών Επιστημών, Μακεδονίας","Θεσσαλονίκη",242.0,1.2,{"$f":"E53*'ΒΟΗΘ'!D51","v":14400},{"$f":"IF((F53<='ΒΟΗΘ'!B51),\"ΕΠΙΤΥΧΙΑ\",\"\")","v":""}]
[318.0,"Στατιστικής & Ασφαλιστικής Επιστήμης, Πειραιώς","Πειραιάς",146.0,1.2,{"$f":"E54*'ΒΟΗΘ'!D52","v":14400},{"$f":"IF((F54<='ΒΟΗΘ'!B52),\"ΕΠΙΤΥΧΙΑ\",\"\")","v":""}]
[319.0,"Οικονομικών Επιστημών, Πατρών","Πάτρα",247.0,1.2,{"$f":"E55*'ΒΟΗΘ'!D53","v":14400},{"$f":"IF((F55<='ΒΟΗΘ'!B53),\"ΕΠΙΤΥΧΙΑ\",\"\")","v":""}]
[320.0,"Διοίκησης Επιχειρήσεων, Αιγαίου","Χίος",316.0,0.8,{"$f":"E56*'ΒΟΗΘ'!D54","v":9600},{"$f":"IF((F56<='ΒΟΗΘ'!B54),\"ΕΠΙΤΥΧΙΑ\",\"\")","v":"ΕΠΙΤΥΧΙΑ"}]
[321.0,"Οικονομικών Επιστημών, Κρήτης","Ρέθυμνο",257.0,1.08,{"$f":"E57*'ΒΟΗΘ'!D55","v":12960},{"$f":"IF((F57<='ΒΟΗΘ'!B55),\"ΕΠΙΤΥΧΙΑ\",\"\")","v":""}]
[322.0,"Οργάνωσης & Διοίκησης Επιχειρήσεων, Μακεδονίας","Θεσσαλονίκη",202.0,1.2,{"$f":"E58*'ΒΟΗΘ'!D56","v":14400},{"$f":"IF((F58<='ΒΟΗΘ'!B56),\"ΕΠΙΤΥΧΙΑ\",\"\")","v":""}]
[326.0,"Αγροτικής Οικονομίας & Ανάπτυξης, Γεωπονικού","Αθήνα",61.0,1.2,{"$f":"E59*'ΒΟΗΘ'!D57","v":14400},{"$f":"IF((F59<='ΒΟΗΘ'!B57),\"ΕΠΙΤΥΧΙΑ\",\"\")","v":""}]
[329.0,"Στατιστικής, Ο.Π.Α.","Αθήνα",97.0,1.2,{"$f":"E60*'ΒΟΗΘ'!D58","v":14400},{"$f":"IF((F60<='ΒΟΗΘ'!B58),\"ΕΠΙΤΥΧΙΑ\",\"\")","v":""}]
[330.0,"Πληροφορικής & Τηλεπικοινωνιών, ΕΚΠΑ","Αθήνα",174.0,1.2,{"$f":"E61*'ΒΟΗΘ'!D59","v":14400},{"$f":"IF((F61<='ΒΟΗΘ'!B59),\"ΕΠΙΤΥΧΙΑ\",\"\")","v":""}]
[333.0,"Πληροφορικής, Ο.Π.Α.","Αθήνα",182.0,1.2,{"$f":"E62*'ΒΟΗΘ'!D60","v":14400},{"$f":"IF((F62<='ΒΟΗΘ'!B60),\"ΕΠΙΤΥΧΙΑ\",\"\")","v":""}]
[334.0,"Παιδαγωγικό Δημοτικής Εκπ/σης, Δυτ. Μακεδονίας","Φλώρινα",180.0,0.8,{"$f":"E63*'ΒΟΗΘ'!D61","v":9600},{"$f":"IF((F63<='ΒΟΗΘ'!B61),\"ΕΠΙΤΥΧΙΑ\",\"\")","v":"ΕΠΙΤΥΧΙΑ"}]
[336.0,"Βιομηχανικής Διοίκησης & Τεχνολογίας","Πειραιάς",133.0,1.2,{"$f":"E64*'ΒΟΗΘ'!D62","v":14400},{"$f":"IF((F64<='ΒΟΗΘ'!B62),\"ΕΠΙΤΥΧΙΑ\",\"\")","v":""}]
[337.0,"Λογιστικής & Χρηματοοικονομικής, Μακεδονίας","Θεσσαλονίκη",251.0,1.2,{"$f":"E65*'ΒΟΗΘ'!D63","v":14400},{"$f":"IF((F65<='ΒΟΗΘ'!B63),\"ΕΠΙΤΥΧΙΑ\",\"\")","v":""}]
[338.0,"Πληροφορικής, ΑΠΘ","Θεσσαλονίκη",118.0,1.2,{"$f":"E66*'ΒΟΗΘ'!D64","v":14400},{"$f":"IF((F66<='ΒΟΗΘ'!B64),\"ΕΠΙΤΥΧΙΑ\",\"\")","v":""}]
[339.0,"Πληροφορικής, Πειραιά","Πειραιάς",157.0,1.2,{"$f":"E67*'ΒΟΗΘ'!D65","v":14400},{"$f":"IF((F67<='ΒΟΗΘ'!B65),\"ΕΠΙΤΥΧΙΑ\",\"\")","v":""}]
[341.0,"Παιδαγωγικό Νηπιαγωγών, Δυτ. Μακεδονίας","Φλώρινα",178.0,1.0,{"$f":"E68*'ΒΟΗΘ'!D66","v":12000},{"$f":"IF((F68<='ΒΟΗΘ'!B66),\"ΕΠΙΤΥΧΙΑ\",\"\")","v":"ΕΠΙΤΥΧΙΑ"}]
[345.0,"Οικονομικών Επιστημών, Ιωαννίνων","Ιωάννινα",228.0,0.8,{"$f":"E69*'ΒΟΗΘ'!D67","v":9600},{"$f":"IF((F69<='ΒΟΗΘ'!B67),\"ΕΠΙΤΥΧΙΑ\",\"\")","v":"ΕΠΙΤΥΧΙΑ"}]
[347.0,"Λογιστικής & Χρηματοοικονομικής, Οικον. Παν. Αθήνας","Αθήνα",170.0,1.2,{"$f":"E70*'ΒΟΗΘ'!D68","v":14400},{"$f":"IF((F70<='ΒΟΗΘ'!B68),\"ΕΠΙΤΥΧΙΑ\",\"\")","v":""}]
[350.0,"Οικονομικών Επιστημών, Θεσσαλίας","Βόλος",202.0,1.0,{"$f":"E71*'ΒΟΗΘ'!D69","v":12000},{"$f":"IF((F71<='ΒΟΗΘ'!B69),\"ΕΠΙΤΥΧΙΑ\",\"\")","v":"ΕΠΙΤΥΧΙΑ"}]
[352.0,"Διοίκησης Επιχειρήσεων, Πατρών","Πάτρα",266.0,1.0,{"$f":"E72*'ΒΟΗΘ'!D70","v":12000},{"$f":"IF((F72<='ΒΟΗΘ'!B70),\"ΕΠΙΤΥΧΙΑ\",\"\")","v":"ΕΠΙΤΥΧΙΑ"}]
[354.0,"Πολιτισμικής Τεχ/γίας & Επικοινωνίας, Αιγαίου","Μυτιλήνη",124.0,0.8,{"$f":"E73*'ΒΟΗΘ'!D71","v":9600},{"$f":"IF((F73<='ΒΟΗΘ'!B71),\"ΕΠΙΤΥΧΙΑ\",\"\")","v":"ΕΠΙΤΥΧΙΑ"}]
[355.0,"Διεθνών & Ευρωπαϊκών Σπουδών, Πειραιά","Πειραιάς",129.0,1.2,{"$f":"E74*'ΒΟΗΘ'!D72","v":14400},{"$f":"IF((F74<='ΒΟΗΘ'!B72),\"ΕΠΙΤΥΧΙΑ\",\"\")","v":""}]
[356.0,"Γεωγραφίας, Χαροκοπείου","Αθήνα",62.0,0.9,{"$f":"E75*'ΒΟΗΘ'!D73","v":10800},{"$f":"IF((F75<='ΒΟΗΘ'!B73),\"ΕΠΙΤΥΧΙΑ\",\"\")","v":"ΕΠΙΤΥΧΙΑ"}]
[361.0,"Οικονομικών Επιστημών, Πελοποννήσου","Τρίπολη",296.0,1.0,{"$f":"E76*'ΒΟΗΘ'!D74","v":12000},{"$f":"IF((F76<='ΒΟΗΘ'!B74),\"ΕΠΙΤΥΧΙΑ\",\"\")","v":"ΕΠΙΤΥΧΙΑ"}]
[366.0,"Πληροφορικής, Ιονίου","Κέρκυρα",202.0,1.0,{"$f":"E77*'ΒΟΗΘ'!D75","v":12000},{"$f":"IF((F77<='ΒΟΗΘ'!B75),\"ΕΠΙΤΥΧΙΑ\",\"\")","v":"ΕΠΙΤΥΧΙΑ"}]
[367.0,"Τεχνών Ήχου & Εικόνας, Ιονίου","Κέρκυρα",86.0,0.8,{"$f":"E78*'ΒΟΗΘ'!D76","v":9600},{"$f":"IF((F78<='ΒΟΗΘ'!B76),\"ΕΠΙΤΥΧΙΑ\",\"\")","v":"ΕΠΙΤΥΧΙΑ"}]
[375.0,"Τουριστικών Σπουδών, Πειραιά","Πειραιάς",74.0,1.2,{"$f":"E79*'ΒΟΗΘ'!D77","v":14400},{"$f":"IF((F79<='ΒΟΗΘ'!B77),\"ΕΠΙΤΥΧΙΑ\",\"\")","v":""}]
[389.0,"Μηχανικών Βιομηχανικής Σχεδίασης & Παραγωγής, Δυτ. Αττικής","Αιγάλεω",243.0,1.0,{"$f":"E80*'ΒΟΗΘ'!D78","v":12000},{"$f":"IF((F80<='ΒΟΗΘ'!B78),\"ΕΠΙΤΥΧΙΑ\",\"\")","v":"ΕΠΙΤΥΧΙΑ"}]
[390.0,"Μηχανικών Πληροφορικής & Υπολογιστών, Δυτ. Αττικής","Αιγάλεω",213.0,1.2,{"$f":"E81*'ΒΟΗΘ'!D79","v":14400},{"$f":"IF((F81<='ΒΟΗΘ'!B79),\"ΕΠΙΤΥΧΙΑ\",\"\")","v":""}]
[400.0,"Οργάνωσης & Διαχείρισης Αθλητισμού, Πελοποννήσου","Σπάρτη",133.0,0.8,{"$f":"E82*'ΒΟΗΘ'!D80","v":9600},{"$f":"IF((F82<='ΒΟΗΘ'!B80),\"ΕΠΙΤΥΧΙΑ\",\"\")","v":"ΕΠΙΤΥΧΙΑ"}]
[401.0,"Επιστήμης Φυσ. Αγωγής & Αθλητισμού, ΕΚΠΑ","Αθήνα",121.0,0.8,{"$f":"E83*'ΒΟΗΘ'!D81","v":9600},{"$f":"IF((F83<='ΒΟΗΘ'!B81),\"ΕΠΙΤΥΧΙΑ\",\"\")","v":"ΕΠΙΤΥΧΙΑ"}]
[402.0,"Επιστήμης Φυσ. Αγωγής & Αθλητισμού, ΑΠΘ / Εισαγ. Κατ/νση","Σέρρες",113.0,0.8,{"$f":"E84*'ΒΟΗΘ'!D82","v":9600},{"$f":"IF((F84<='ΒΟΗΘ'!B82),\"ΕΠΙΤΥΧΙΑ\",\"\")","v":"ΕΠΙΤΥΧΙΑ"}]
[403.0,"Επιστήμης Φυσ. Αγωγής & Αθλητισμού, ΑΠΘ / Εισαγ. Κατ/νση","Θεσσαλονίκη",121.0,1.0,{"$f":"E85*'ΒΟΗΘ'!D83","v":12000},{"$f":"IF((F85<='ΒΟΗΘ'!B83),\"ΕΠΙΤΥΧΙΑ\",\"\")","v":"ΕΠΙΤΥΧΙΑ"}]
[404.0,"Επιστήμης Φυσ. Αγωγής & Αθλητισμού, Θράκης","Κομοτηνή",324.0,0.8,{"$f":"E86*'ΒΟΗΘ'!D84","v":9600},{"$f":"IF((F86<='ΒΟΗΘ'!B84),\"ΕΠΙΤΥΧΙΑ\",\"\")","v":"ΕΠΙΤΥΧΙΑ"}]
[405.0,"Επιστήμης Φυσ. Αγωγής & Αθλητισμού, Θεσσαλίας","Τρίκαλα",151.0,1.0,{"$f":"E87*'ΒΟΗΘ'!D85","v":12000},{"$f":"IF((F87<='ΒΟΗΘ'!B85),\"ΕΠΙΤΥΧΙΑ\",\"\")","v":"ΕΠΙΤΥΧΙΑ"}]
[406.0,"Μουσικών Σπουδών, ΑΠΘ","Θεσσαλονίκη",55.0,0.9,{"$f":"E88*'ΒΟΗΘ'!D86","v":10800},{"$f":"IF((F88<='ΒΟΗΘ'!B86),\"ΕΠΙΤΥΧΙΑ\",\"\")","v":"ΕΠΙΤΥΧΙΑ"}]
[407.0,"Μουσικών Σπουδών, Ιονίου (ΕΙΔΙΚΕΣ ΕΞΕΤΑΣΕΙΣ)","Κέρκυρα",91.0,"(***)",{"$f":"E89*'ΒΟΗΘ'!D87","v":"#VALUE!"},{"$f":"IF((F89<='ΒΟΗΘ'!B87),\"ΕΠΙΤΥΧΙΑ\",\"\")","v":"#VALUE!"}]
[408.0,"Μουσικών Σπουδών, ΕΚΠΑ","Αθήνα",63.0,0.9,{"$f":"E90*'ΒΟΗΘ'!D88","v":10800},{"$f":"IF((F90<='ΒΟΗΘ'!B88),\"ΕΠΙΤΥΧΙΑ\",\"\")","v":"ΕΠΙΤΥΧΙΑ"}]
[409.0,"Μουσικής Επιστήμης & Τέχνης, Μακεδονίας (ΕΙΔΙΚΕΣ ΕΞΕΤΑΣΕΙΣ)","Θεσσαλονίκη",73.0,"(***)",{"$f":"E91*'ΒΟΗΘ'!D89","v":"#VALUE!"},{"$f":"IF((F91<='ΒΟΗΘ'!B89),\"ΕΠΙΤΥΧΙΑ\",\"\")","v":"#VALUE!"}]
[412.0,"Πληροφορικής & Τηλεματικής, Χαροκοπείου","Αθήνα",89.0,1.2,{"$f":"E92*'ΒΟΗΘ'!D90","v":14400},{"$f":"IF((F92<='ΒΟΗΘ'!B90),\"ΕΠΙΤΥΧΙΑ\",\"\")","v":""}]
[612.0,"Οικονομικής & Διοίκησης Τουρισμού, Αιγαίου","Χίος",74.0,0.8,{"$f":"E93*'ΒΟΗΘ'!D91","v":9600},{"$f":"IF((F93<='ΒΟΗΘ'!B91),\"ΕΠΙΤΥΧΙΑ\",\"\")","v":"ΕΠΙΤΥΧΙΑ"}]
[613.0,"Ανώτερη Σχολή Τουριστικής Εκπαίδευσης Ρόδου (Α.Σ.Τ.Ε.Ρ.)","Ρόδος",88.0,0.8,{"$f":"E94*'ΒΟΗΘ'!D92","v":9600},{"$f":"IF((F94<='ΒΟΗΘ'!B92),\"ΕΠΙΤΥΧΙΑ\",\"\")","v":"ΕΠΙΤΥΧΙΑ"}]
[614.0,"Ανώτερη Σχολή Τουριστικής Εκπαίδευσης Κρήτης (Α.Σ.Τ.Ε.Κ.)","Αγ. Νικόλαος",88.0,0.8,{"$f":"E95*'ΒΟΗΘ'!D93","v":9600},{"$f":"IF((F95<='ΒΟΗΘ'!B93),\"ΕΠΙΤΥΧΙΑ\",\"\")","v":"ΕΠΙΤΥΧΙΑ"}]
[669.0,"Διοίκησης Επιχειρήσεων, Δυτ. Αττικής","Αιγάλεω",327.0,1.2,{"$f":"E96*'ΒΟΗΘ'!D94","v":14400},{"$f":"IF((F96<='ΒΟΗΘ'!B94),\"ΕΠΙΤΥΧΙΑ\",\"\")","v":""}]
[670.0,"Διοίκησης Τουρισμού, Δυτ. Αττικής","Αιγάλεω",269.0,1.0,{"$f":"E97*'ΒΟΗΘ'!D95","v":12000},{"$f":"IF((F97<='ΒΟΗΘ'!B95),\"ΕΠΙΤΥΧΙΑ\",\"\")","v":"ΕΠΙΤΥΧΙΑ"}]
[672.0,"Λογιστικής & Χρηματοοικονομικής, Δυτ. Αττικής","Αιγάλεω",179.0,1.2,{"$f":"E98*'ΒΟΗΘ'!D96","v":14400},{"$f":"IF((F98<='ΒΟΗΘ'!B96),\"ΕΠΙΤΥΧΙΑ\",\"\")","v":""}]
[673.0,"Αγωγής & Φροντίδας στην Πρώιμη Παιδική Ηλικία, Δυτ. Αττικής","Ίλιον",113.0,1.0,{"$f":"E99*'ΒΟΗΘ'!D97","v":12000},{"$f":"IF((F99<='ΒΟΗΘ'!B97),\"ΕΠΙΤΥΧΙΑ\",\"\")","v":"ΕΠΙΤΥΧΙΑ"}]
[674.0,"Γραφιστικής & Οπτικής Επικοινωνίας, Δυτ. Αττικής","Αιγάλεω",174.0,1.0,{"$f":"E100*'ΒΟΗΘ'!D98","v":12000},{"$f":"IF((F100<='ΒΟΗΘ'!B98),\"ΕΠΙΤΥΧΙΑ\",\"\")","v":"ΕΠΙΤΥΧΙΑ"}]
[675.0,"Εσωτερικής Αρχιτεκτονικής, Δυτ. Αττικής","Αιγάλεω",94.0,0.9,{"$f":"E101*'ΒΟΗΘ'!D99","v":10800},{"$f":"IF((F101<='ΒΟΗΘ'!B99),\"ΕΠΙΤΥΧΙΑ\",\"\")","v":"ΕΠΙΤΥΧΙΑ"}]
[677.0,"Φωτογραφίας & Οπτικοακουστικών Τεχνών, Δυτ. Αττικής","Αιγάλεω",92.0,1.0,{"$f":"E102*'ΒΟΗΘ'!D100","v":12000},{"$f":"IF((F102<='ΒΟΗΘ'!B100),\"ΕΠΙΤΥΧΙΑ\",\"\")","v":"ΕΠΙΤΥΧΙΑ"}]
[817.0,"Σχολή Πλοιάρχων Εμπορικού Ναυτικού Γεν.Σειρά","Διάφορες",0.0,0.8,{"$f":"E103*'ΒΟΗΘ'!D101","v":9600},{"$f":"IF((F103<='ΒΟΗΘ'!B101),\"ΕΠΙΤΥΧΙΑ\",\"\")","v":"ΕΠΙΤΥΧΙΑ"}]
[818.0,"Σχολή Μηχανικών Εμπορικού Ναυτικού Γεν.Σειρά","Διάφορες",0.0,0.8,{"$f":"E104*'ΒΟΗΘ'!D102","v":9600},{"$f":"IF((F104<='ΒΟΗΘ'!B102),\"ΕΠΙΤΥΧΙΑ\",\"\")","v":"ΕΠΙΤΥΧΙΑ"}]
[863.0,"Μονίμων Υπαξ/κών Στρατού (Σ.Μ.Υ) - Σώματα Γεν. Σειρά","Τρίκαλα",35.0,1.0,{"$f":"E105*'ΒΟΗΘ'!D103","v":12000},{"$f":"IF((F105<='ΒΟΗΘ'!B103),\"ΕΠΙΤΥΧΙΑ\",\"\")","v":"ΕΠΙΤΥΧΙΑ"}]
[864.0,"Μονίμων Υπαξ/κών Ναυτικού (Σ.Μ.Υ.Ν) Γεν. Σειρά","Αθήνα",65.0,1.0,{"$f":"E106*'ΒΟΗΘ'!D104","v":12000},{"$f":"IF((F106<='ΒΟΗΘ'!B104),\"ΕΠΙΤΥΧΙΑ\",\"\")","v":"ΕΠΙΤΥΧΙΑ"}]
[867.0,"Οικονομικό (ΣΣΑΣ) Γεν. Σειρά","Θεσσαλονίκη",19.0,1.2,{"$f":"E107*'ΒΟΗΘ'!D105","v":14400},{"$f":"IF((F107<='ΒΟΗΘ'!B105),\"ΕΠΙΤΥΧΙΑ\",\"\")","v":""}]
[869.0,"Αξιωματικών Ελλ. Αστυνομίας Γεν. Σειρά","Αθήνα",31.0,0.8,{"$f":"E108*'ΒΟΗΘ'!D106","v":9600},{"$f":"IF((F108<='ΒΟΗΘ'!B106),\"ΕΠΙΤΥΧΙΑ\",\"\")","v":"ΕΠΙΤΥΧΙΑ"}]
[870.0,"Αστυφυλάκων Γεν. Σειρά","Αθήνα",221.0,0.8,{"$f":"E109*'ΒΟΗΘ'!D107","v":9600},{"$f":"IF((F109<='ΒΟΗΘ'!B107),\"ΕΠΙΤΥΧΙΑ\",\"\")","v":"ΕΠΙΤΥΧΙΑ"}]
[871.0,"Τμήμα Ανθυποπυραγών (Πυροσβέστες) Γεν. Σειρά","Αθήνα",4.0,0.8,{"$f":"E110*'ΒΟΗΘ'!D108","v":9600},{"$f":"IF((F110<='ΒΟΗΘ'!B108),\"ΕΠΙΤΥΧΙΑ\",\"\")","v":"ΕΠΙΤΥΧΙΑ"}]
[872.0,"Αξιωματικών Ελλ. Αστυνομίας (Αστυνομικοί) Γεν. Σειρά","Αθήνα",22.0,0.8,{"$f":"E111*'ΒΟΗΘ'!D109","v":9600},{"$f":"IF((F111<='ΒΟΗΘ'!B109),\"ΕΠΙΤΥΧΙΑ\",\"\")","v":"ΕΠΙΤΥΧΙΑ"}]
[876.0,"Σχολή Πυροσβεστών Γεν. Σειρά","Αθήνα",131.0,0.8,{"$f":"E112*'ΒΟΗΘ'!D110","v":9600},{"$f":"IF((F112<='ΒΟΗΘ'!B110),\"ΕΠΙΤΥΧΙΑ\",\"\")","v":"ΕΠΙΤΥΧΙΑ"}]
[877.0,"Σχολή Αξιωματικών Πυροσβεστικής Ακαδημίας Γεν. Σειρά","Αθήνα",16.0,0.8,{"$f":"E113*'ΒΟΗΘ'!D111","v":9600},{"$f":"IF((F113<='ΒΟΗΘ'!B111),\"ΕΠΙΤΥΧΙΑ\",\"\")","v":"ΕΠΙΤΥΧΙΑ"}]
[880.0,"ΣΜΥΑ - Κατ/νση Διοικητικής και Εφοδιαστικής Υποστήριξης Γεν. Σειρά","Αθήνα",18.0,1.0,{"$f":"E114*'ΒΟΗΘ'!D112","v":12000},{"$f":"IF((F114<='ΒΟΗΘ'!B112),\"ΕΠΙΤΥΧΙΑ\",\"\")","v":"ΕΠΙΤΥΧΙΑ"}]
[881.0,"Σχολή Δοκίμων Σημαιοφόρων Λιμενικού Σώματος - Ελληνικής Ακτοφυλακής (Σ.Δ.Σ.Λ.Σ. -ΕΛ.ΑΚΤ.), ΝΕΟ","Αθήνα",21.0,0.9,{"$f":"E115*'ΒΟΗΘ'!D113","v":10800},{"$f":"IF((F115<='ΒΟΗΘ'!B113),\"ΕΠΙΤΥΧΙΑ\",\"\")","v":"ΕΠΙΤΥΧΙΑ"}]
[882.0,"Σχολή Δοκίμων Λιμενοφυλάκων, ΝΕΟ","Αθήνα",74.0,0.9,{"$f":"E116*'ΒΟΗΘ'!D114","v":10800},{"$f":"IF((F116<='ΒΟΗΘ'!B114),\"ΕΠΙΤΥΧΙΑ\",\"\")","v":"ΕΠΙΤΥΧΙΑ"}]
[1001.0,"Αγροτικής Ανάπτυξης, Αγροδιατροφής & Διαχείρισης Φυσικών Πόρων, ΕΚΠΑ, ΝΕΟ","Ψαχνά",65.0,0.8,{"$f":"E117*'ΒΟΗΘ'!D115","v":9600},{"$f":"IF((F117<='ΒΟΗΘ'!B115),\"ΕΠΙΤΥΧΙΑ\",\"\")","v":"ΕΠΙΤΥΧΙΑ"}]
[1004.0,"Διαχείρισης Λιμένων & Ναυτιλίας, ΕΚΠΑ, ΝΕΟ","Ψαχνά",186.0,0.95,{"$f":"E118*'ΒΟΗΘ'!D116","v":11400},{"$f":"IF((F118<='ΒΟΗΘ'!B116),\"ΕΠΙΤΥΧΙΑ\",\"\")","v":"ΕΠΙΤΥΧΙΑ"}]
[1005.0,"Διοίκησης Επιχειρήσεων & Οργανισμών, ΕΚΠΑ, ΝΕΟ","Αθήνα",81.0,1.2,{"$f":"E119*'ΒΟΗΘ'!D117","v":14400},{"$f":"IF((F119<='ΒΟΗΘ'!B117),\"ΕΠΙΤΥΧΙΑ\",\"\")","v":""}]
[1008.0,"Τεχνολογιών Ψηφιακής Βιομηχανίας, ΕΚΠΑ, ΝΕΟ","Ψαχνά",186.0,0.85,{"$f":"E120*'ΒΟΗΘ'!D118","v":10200},{"$f":"IF((F120<='ΒΟΗΘ'!B118),\"ΕΠΙΤΥΧΙΑ\",\"\")","v":"ΕΠΙΤΥΧΙΑ"}]
[1011.0,"Ψηφιακών Τεχνών & Κινηματογράφου, ΕΚΠΑ, ΝΕΟ","Ψαχνά",81.0,0.8,{"$f":"E121*'ΒΟΗΘ'!D119","v":9600},{"$f":"IF((F121<='ΒΟΗΘ'!B119),\"ΕΠΙΤΥΧΙΑ\",\"\")","v":"ΕΠΙΤΥΧΙΑ"}]
[1063.0,"Διοίκησης Γεωργικών Επιχειρήσεων & Συστημάτων Εφοδιασμού, Γεωπονικού, ΝΕΟ (πρώην Διοίκησης Συστημάτων Εφοδιασμού, ΤΕΙ Στερεάς Ελλάδας)","Θήβα",219.0,0.8,{"$f":"E122*'ΒΟΗΘ'!D120","v":9600},{"$f":"IF((F122<='ΒΟΗΘ'!B120),\"ΕΠΙΤΥΧΙΑ\",\"\")","v":"ΕΠΙΤΥΧΙΑ"}]
[1064.0,"Περιφερειακής & Οικονομικής Ανάπτυξης, Γεωπονικού, ΝΕΟ","Άμφισσα",178.0,0.8,{"$f":"E123*'ΒΟΗΘ'!D121","v":9600},{"$f":"IF((F123<='ΒΟΗΘ'!B121),\"ΕΠΙΤΥΧΙΑ\",\"\")","v":"ΕΠΙΤΥΧΙΑ"}]
[1211.0,"Επιστήμη & Τεχνολογία Υπολογιστών, Μακεδονίας, ΝΕΟ / Εισαγ. Κατ/νση (Τμ. Εφαρμοσμένης Πληροφορικής)","Θεσσαλονίκη",109.0,1.2,{"$f":"E124*'ΒΟΗΘ'!D122","v":14400},{"$f":"IF((F124<='ΒΟΗΘ'!B122),\"ΕΠΙΤΥΧΙΑ\",\"\")","v":""}]
[1212.0,"Πληροφοριακά Συστήματα, Μακεδονίας, ΝΕΟ / Εισαγ. Κατ/νση (Τμ. Εφαρμοσμένης Πληροφορικής)","Θεσσαλονίκη",109.0,1.2,{"$f":"E125*'ΒΟΗΘ'!D123","v":14400},{"$f":"IF((F125<='ΒΟΗΘ'!B123),\"ΕΠΙΤΥΧΙΑ\",\"\")","v":""}]
[1241.0,"Αγωγής & Φροντίδας στην Πρώιμη Παιδική Ηλικία, Ιωαννίνων, ΝΕΟ (πρώην Προσχολικής Αγωγής, ΤΕΙ Ηπείρου)","Ιωάννινα",138.0,0.8,{"$f":"E126*'ΒΟΗΘ'!D124","v":9600},{"$f":"IF((F126<='ΒΟΗΘ'!B124),\"ΕΠΙΤΥΧΙΑ\",\"\")","v":"ΕΠΙΤΥΧΙΑ"}]
[1244.0,"Λογιστικής & Χρηματοοικονομικής, Ιωαννίνων, ΝΕΟ (πρώην Λογιστικής & Χρηματοοικονομικής, ΤΕΙ Ηπείρου)","Πρέβεζα",214.0,0.8,{"$f":"E127*'ΒΟΗΘ'!D125","v":9600},{"$f":"IF((F127<='ΒΟΗΘ'!B125),\"ΕΠΙΤΥΧΙΑ\",\"\")","v":"ΕΠΙΤΥΧΙΑ"}]
[1248.0,"Μουσικών Σπουδών, Ιωαννίνων (ΕΙΔΙΚΕΣ ΕΞΕΤΑΣΕΙΣ)","Αρτα",135.0,"(***)",{"$f":"E128*'ΒΟΗΘ'!D126","v":"#VALUE!"},{"$f":"IF((F128<='ΒΟΗΘ'!B126),\"ΕΠΙΤΥΧΙΑ\",\"\")","v":"#VALUE!"}]
[1250.0,"Πληροφορικής & Τηλεπικοινωνιών, Ιωαννίνων, ΝΕΟ (πρώην Μηχανικών Πληροφορικής ΤΕ, ΤΕΙ Ηπείρου)","Άρτα",214.0,0.8,{"$f":"E129*'ΒΟΗΘ'!D127","v":9600},{"$f":"IF((F129<='ΒΟΗΘ'!B127),\"ΕΠΙΤΥΧΙΑ\",\"\")","v":"ΕΠΙΤΥΧΙΑ"}]
[1282.0,"Διοικητικής Επιστήμης & Τεχνολογίας, Πατρών, ΝΕΟ (πρώην Διοίκησης Επιχειρήσεων, ΤΕΙ Δυτ. Ελλάδας)","Πάτρα",235.0,1.02,{"$f":"E130*'ΒΟΗΘ'!D128","v":12240},{"$f":"IF((F130<='ΒΟΗΘ'!B128),\"ΕΠΙΤΥΧΙΑ\",\"\")","v":"ΕΠΙΤΥΧΙΑ"}]
[1283.0,"Διοίκησης Τουρισμού, Πατρών, ΝΕΟ (πρώην Τουριστικών Επιχειρήσεων, ΤΕΙ Δυτ. Ελλάδας)","Πάτρα",138.0,0.9,{"$f":"E131*'ΒΟΗΘ'!D129","v":10800},{"$f":"IF((F131<='ΒΟΗΘ'!B129),\"ΕΠΙΤΥΧΙΑ\",\"\")","v":"ΕΠΙΤΥΧΙΑ"}]
[1286.0,"Επιστημών της Εκπαίδευσης & Κοινωνικής Εργασίας, Πατρών, ΝΕΟ (πρώην Παιδαγ. Δημοτικής Εκπ/σης)","Πάτρα",225.0,1.15,{"$f":"E132*'ΒΟΗΘ'!D130","v":13800},{"$f":"IF((F132<='ΒΟΗΘ'!B130),\"ΕΠΙΤΥΧΙΑ\",\"\")","v":""}]
[1424.0,"Δασολογίας, Επιστημών Ξύλου & Σχεδιασμού, Θεσσαλίας, ΝΕΟ (πρώην Σχεδ & Τεχν Ξύλου & Επίπλου ΤΕ, ΤΕΙ Θεσσαλίας)","Καρδίτσα",186.0,0.8,{"$f":"E133*'ΒΟΗΘ'!D131","v":9600},{"$f":"IF((F133<='ΒΟΗΘ'!B131),\"ΕΠΙΤΥΧΙΑ\",\"\")","v":"ΕΠΙΤΥΧΙΑ"}]
[1427.0,"Διοίκησης Επιχειρήσεων, Θεσσαλίας, ΝΕΟ (πρώην Διοίκησης Επιχειρήσεων, ΤΕΙ Θεσσαλίας)","Λάρισα",283.0,0.8,{"$f":"E134*'ΒΟΗΘ'!D132","v":9600},{"$f":"IF((F134<='ΒΟΗΘ'!B132),\"ΕΠΙΤΥΧΙΑ\",\"\")","v":"ΕΠΙΤΥΧΙΑ"}]
[1430.0,"Λογιστικής & Χρηματοοικονομικής, Θεσσαλίας, ΝΕΟ (πρώην Λογιστικής & Χρηματοοικονομικής, ΤΕΙ Θεσσαλίας)","Λάρισα",190.0,0.8,{"$f":"E135*'ΒΟΗΘ'!D133","v":9600},{"$f":"IF((F135<='ΒΟΗΘ'!B133),\"ΕΠΙΤΥΧΙΑ\",\"\")","v":"ΕΠΙΤΥΧΙΑ"}]
[1435.0,"Πολιτισμού & Δημιουργικών Μέσων & Βιομηχανιών, Θεσσαλίας, ΝΕΟ","Βόλος",81.0,0.8,{"$f":"E136*'ΒΟΗΘ'!D134","v":9600},{"$f":"IF((F136<='ΒΟΗΘ'!B134),\"ΕΠΙΤΥΧΙΑ\",\"\")","v":"ΕΠΙΤΥΧΙΑ"}]
[1439.0,"Ψηφιακών Συστημάτων, Θεσσαλίας, ΝΕΟ (πρώην Μηχανικών Πληροφορικής ΤΕ, ΤΕΙ Θεσσαλίας)","Λάρισα",227.0,0.8,{"$f":"E137*'ΒΟΗΘ'!D135","v":9600},{"$f":"IF((F137<='ΒΟΗΘ'!B135),\"ΕΠΙΤΥΧΙΑ\",\"\")","v":"ΕΠΙΤΥΧΙΑ"}]
[1455.0,"Τουρισμού, Ιονίου, ΝΕΟ (πρώην Εισ. Κατ. Διοίκηση Τουριστικών Επιχειρήσεων & Επιχ/σεων Φιλοξενίας, ΤΕΙ Ιόνιων Νήσων)","Κέρκυρα",105.0,0.8,{"$f":"E138*'ΒΟΗΘ'!D136","v":9600},{"$f":"IF((F138<='ΒΟΗΘ'!B136),\"ΕΠΙΤΥΧΙΑ\",\"\")","v":"ΕΠΙΤΥΧΙΑ"}]
[1456.0,"Ψηφιακών Μέσων & Επικοινωνίας, Ιονίου, ΝΕΟ (πρώην Ψηφιακών Μέσων & Επικοινωνίας ΤΕ, ΤΕΙ Ιόνιων Νήσων)","Αργοστόλι",211.0,0.8,{"$f":"E139*'ΒΟΗΘ'!D137","v":9600},{"$f":"IF((F139<='ΒΟΗΘ'!B137),\"ΕΠΙΤΥΧΙΑ\",\"\")","v":"ΕΠΙΤΥΧΙΑ"}]
[1513.0,"Λογιστικής & Χρηματοοικονομικής, Πελοποννήσου, ΝΕΟ (πρώην Λογιστικής & Χρηματοοικονομικής, ΤΕΙ Πελοποννήσου)","Καλαμάτα",170.0,0.8,{"$f":"E140*'ΒΟΗΘ'!D138","v":9600},{"$f":"IF((F140<='ΒΟΗΘ'!B138),\"ΕΠΙΤΥΧΙΑ\",\"\")","v":"ΕΠΙΤΥΧΙΑ"}]
[1514.0,"Διοίκησης Επιχειρήσεων & Οργανισμών, Πελοποννήσου, ΝΕΟ (πρώην Διοίκ Μονάδων Υγείας & Πρόνοιας, ΤΕΙ Πελοπον)","Καλαμάτα",316.0,0.8,{"$f":"E141*'ΒΟΗΘ'!D139","v":9600},{"$f":"IF((F141<='ΒΟΗΘ'!B139),\"ΕΠΙΤΥΧΙΑ\",\"\")","v":"ΕΠΙΤΥΧΙΑ"}]
[1517.0,"Παραστατικών & Ψηφιακών Τεχνών, Πελοποννήσου, ΝΕΟ","Ναύπλιον",113.0,0.8,{"$f":"E142*'ΒΟΗΘ'!D140","v":9600},{"$f":"IF((F142<='ΒΟΗΘ'!B140),\"ΕΠΙΤΥΧΙΑ\",\"\")","v":"ΕΠΙΤΥΧΙΑ"}]
[1518.0,"Διοικητικής Επιστήμης & Τεχνολογίας, Πελοποννήσου, ΝΕΟ","Τρίπολη",121.0,0.8,{"$f":"E143*'ΒΟΗΘ'!D141","v":9600},{"$f":"IF((F143<='ΒΟΗΘ'!B141),\"ΕΠΙΤΥΧΙΑ\",\"\")","v":"ΕΠΙΤΥΧΙΑ"}]
[1519.0,"Ψηφιακών Συστημάτων, Πελοποννήσου, ΝΕΟ (πρώην Μηχανικών Πληροφορικής ΤΕ, ΤΕΙ Πελοποννήσου)","Σπάρτη",162.0,0.8,{"$f":"E144*'ΒΟΗΘ'!D142","v":9600},{"$f":"IF((F144<='ΒΟΗΘ'!B142),\"ΕΠΙΤΥΧΙΑ\",\"\")","v":"ΕΠΙΤΥΧΙΑ"}]
[1542.0,"Μηχανικών Σχεδίασης Προϊόντων & Συστημάτων, Δυτ. Μακεδονίας, ΝΕΟ","Κοζάνη",171.0,0.8,{"$f":"E145*'ΒΟΗΘ'!D143","v":9600},{"$f":"IF((F145<='ΒΟΗΘ'!B143),\"ΕΠΙΤΥΧΙΑ\",\"\")","v":"ΕΠΙΤΥΧΙΑ"}]
[1543.0,"Περιφερειακής & Διασυνοριακής Ανάπτυξης, Δυτ. Μακεδονίας, ΝΕΟ","Κοζάνη",259.0,0.8,{"$f":"E146*'ΒΟΗΘ'!D144","v":9600},{"$f":"IF((F146<='ΒΟΗΘ'!B144),\"ΕΠΙΤΥΧΙΑ\",\"\")","v":"ΕΠΙΤΥΧΙΑ"}]
[1544.0,"Διοικητικής Επιστήμης & Τεχνολογίας, Δυτ. Μακεδονίας, ΝΕΟ (πρώην Διοίκησης Επιχειρήσεων, ΤΕΙ Δυτ. Μακεδονίας)","Κοζάνη",324.0,0.8,{"$f":"E147*'ΒΟΗΘ'!D145","v":9600},{"$f":"IF((F147<='ΒΟΗΘ'!B145),\"ΕΠΙΤΥΧΙΑ\",\"\")","v":"ΕΠΙΤΥΧΙΑ"}]
[1545.0,"Λογιστικής & Χρηματοοικονομικής, Δυτ. Μακεδονίας, ΝΕΟ (πρώην Λογιστ & Χρηματοοικ, ΤΕΙ Δυτ. Μακεδονίας)","Κοζάνη",381.0,0.8,{"$f":"E148*'ΒΟΗΘ'!D146","v":9600},{"$f":"IF((F148<='ΒΟΗΘ'!B146),\"ΕΠΙΤΥΧΙΑ\",\"\")","v":"ΕΠΙΤΥΧΙΑ"}]
[1546.0,"Οργάνωσης & Διοίκησης Επιχειρήσεων, Δυτ. Μακεδονίας, ΝΕΟ (πρώην Διοίκ Επιχειρήσεων, ΤΕΙ Δυτ. Μακεδονίας / Εισαγ Κατεύθ)","Γρεβενά",366.0,0.8,{"$f":"E149*'ΒΟΗΘ'!D147","v":9600},{"$f":"IF((F149<='ΒΟΗΘ'!B147),\"ΕΠΙΤΥΧΙΑ\",\"\")","v":"ΕΠΙΤΥΧΙΑ"}]
[1547.0,"Στατιστικής & Ασφαλιστικής Επιστήμης, Δυτ. Μακεδονίας, ΝΕΟ","Γρεβενά",266.0,0.8,{"$f":"E150*'ΒΟΗΘ'!D148","v":9600},{"$f":"IF((F150<='ΒΟΗΘ'!B148),\"ΕΠΙΤΥΧΙΑ\",\"\")","v":"ΕΠΙΤΥΧΙΑ"}]
[1548.0,"Οικονομικών Επιστημών, Δυτ. Μακεδονίας, ΝΕΟ (πρώην Διεθνούς Εμπορίου, ΤΕΙ Δυτ. Μακεδονίας)","Καστοριά",93.0,0.8,{"$f":"E151*'ΒΟΗΘ'!D149","v":9600},{"$f":"IF((F151<='ΒΟΗΘ'!B149),\"ΕΠΙΤΥΧΙΑ\",\"\")","v":"ΕΠΙΤΥΧΙΑ"}]
[1549.0,"Διεθνών & Ευρωπαϊκών Οικονομικών Σπουδών, Δυτ. Μακεδονίας, ΝΕΟ","Κοζάνη",283.0,0.8,{"$f":"E152*'ΒΟΗΘ'!D150","v":9600},{"$f":"IF((F152<='ΒΟΗΘ'!B150),\"ΕΠΙΤΥΧΙΑ\",\"\")","v":"ΕΠΙΤΥΧΙΑ"}]
[1551.0,"Επικοινωνίας & Ψηφιακών Μέσων, Δυτ. Μακεδονίας, ΝΕΟ (πρώην Ψηφιακών Μέσων & Επικοινωνίας ΤΕ, ΤΕΙ Δυτ. Μακεδονίας)","Καστοριά",178.0,0.96,{"$f":"E153*'ΒΟΗΘ'!D151","v":11520},{"$f":"IF((F153<='ΒΟΗΘ'!B151),\"ΕΠΙΤΥΧΙΑ\",\"\")","v":"ΕΠΙΤΥΧΙΑ"}]
[1554.0,"Πληροφορικής, Δυτ. Μακεδονίας, ΝΕΟ (πρώην Μηχανικών Πληροφορικής ΤΕ, ΤΕΙ Δυτ. Μακεδονίας)","Καστοριά",202.0,0.8,{"$f":"E154*'ΒΟΗΘ'!D152","v":9600},{"$f":"IF((F154<='ΒΟΗΘ'!B152),\"ΕΠΙΤΥΧΙΑ\",\"\")","v":"ΕΠΙΤΥΧΙΑ"}]
[1601.0,"Οργάνωσης & Διοίκησης Επιχειρήσεων, ΔΙ.ΠΑ.Ε., ΝΕΟ (πρώην Διοίκησης Επιχειρήσεων, ΤΕΙ Κεντρικής Μακεδονίας)","Σέρρες",227.0,0.8,{"$f":"E155*'ΒΟΗΘ'!D153","v":9600},{"$f":"IF((F155<='ΒΟΗΘ'!B153),\"ΕΠΙΤΥΧΙΑ\",\"\")","v":"ΕΠΙΤΥΧΙΑ"}]
[1602.0,"Οικονομικών Επιστημών ΔΙ.ΠΑ.Ε., ΝΕΟ (πρώην Λογιστικής & Χρηματοοικονομικής, ΤΕΙ Κεντρ. Μακεδονίας)","Σέρρες",227.0,0.8,{"$f":"E156*'ΒΟΗΘ'!D154","v":9600},{"$f":"IF((F156<='ΒΟΗΘ'!B154),\"ΕΠΙΤΥΧΙΑ\",\"\")","v":"ΕΠΙΤΥΧΙΑ"}]
[1603.0,"Διοίκησης Εφοδιαστικής Αλυσίδας, ΔΙ.ΠΑ.Ε., ΝΕΟ (πρώην Διοίκησης Συστημάτων Εφοδιασμού,ΤΕΙ Κεντρ. Μακεδονίας)","Κατερίνη",146.0,0.8,{"$f":"E157*'ΒΟΗΘ'!D155","v":9600},{"$f":"IF((F157<='ΒΟΗΘ'!B155),\"ΕΠΙΤΥΧΙΑ\",\"\")","v":"ΕΠΙΤΥΧΙΑ"}]
[1604.0,"Λογιστικής & Χρηματοοικονομικής, ΔΙ.ΠΑ.Ε., ΝΕΟ (πρώην Λογιστικής & Χρηματοοικονομικής, ΤΕΙ Ανατ. Μακεδ. & Θράκης)","Καβάλα",283.0,0.8,{"$f":"E158*'ΒΟΗΘ'!D156","v":9600},{"$f":"IF((F158<='ΒΟΗΘ'!B156),\"ΕΠΙΤΥΧΙΑ\",\"\")","v":"ΕΠΙΤΥΧΙΑ"}]
[1605.0,"Διοίκησης Οργανισμών, Μάρκετινγκ & Τουρισμού, ΔΙ.ΠΑ.Ε., ΝΕΟ (πρώην Διοίκηση Τουριστ Επιχειρ & Φιλοξενίας, ΤΕΙ Θεσσαλονίκης)","Θεσσαλονίκη",259.0,1.1,{"$f":"E159*'ΒΟΗΘ'!D157","v":13200},{"$f":"IF((F159<='ΒΟΗΘ'!B157),\"ΕΠΙΤΥΧΙΑ\",\"\")","v":""}]
[1606.0,"Λογιστικής & Πληροφοριακών Συστημάτων ΔΙ.ΠΑ.Ε., ΝΕΟ (πρώην Λογιστικής & Χρηματοοικονομικής, ΤΕΙ Θεσσαλονίκης)","Θεσσαλονίκη",138.0,1.1,{"$f":"E160*'ΒΟΗΘ'!D158","v":13200},{"$f":"IF((F160<='ΒΟΗΘ'!B158),\"ΕΠΙΤΥΧΙΑ\",\"\")","v":""}]
[1607.0,"Διοικητικής Επιστήμης & Τεχνολογίας ΔΙ.ΠΑ.Ε., ΝΕΟ (πρώην Διοίκησης Επιχειρήσεων, ΤΕΙ Ανατ. Μακ. & Θράκης)","Καβάλα",271.0,0.8,{"$f":"E161*'ΒΟΗΘ'!D159","v":9600},{"$f":"IF((F161<='ΒΟΗΘ'!B159),\"ΕΠΙΤΥΧΙΑ\",\"\")","v":"ΕΠΙΤΥΧΙΑ"}]
[1610.0,"Αγωγής & Φροντίδας στην Πρώιμη Παιδική Ηλικία, ΔΙ.ΠΑ.Ε., ΝΕΟ (πρώην Προσχολικής Αγωγής, ΤΕΙ Θεσσαλονίκης)","Θεσσαλονίκη",113.0,0.8,{"$f":"E162*'ΒΟΗΘ'!D160","v":9600},{"$f":"IF((F162<='ΒΟΗΘ'!B160),\"ΕΠΙΤΥΧΙΑ\",\"\")","v":"ΕΠΙΤΥΧΙΑ"}]
[1622.0,"Μηχανικών Πληροφορικής, Υπολογιστών & Τηλεπικοινωνιών, ΔΙ.ΠΑ.Ε., ΝΕΟ (πρώην Μηχ Πληροφορικής ΤΕ, ΤΕΙ Κεντρ. Μακεδονίας)","Σέρρες",130.0,1.0,{"$f":"E163*'ΒΟΗΘ'!D161","v":12000},{"$f":"IF((F163<='ΒΟΗΘ'!B161),\"ΕΠΙΤΥΧΙΑ\",\"\")","v":"ΕΠΙΤΥΧΙΑ"}]
[1624.0,"Μηχανικών Παραγωγής & Διοίκησης, ΔΙ.ΠΑ.Ε., ΝΕΟ","Θεσσαλονίκη",178.0,1.1,{"$f":"E164*'ΒΟΗΘ'!D162","v":13200},{"$f":"IF((F164<='ΒΟΗΘ'!B162),\"ΕΠΙΤΥΧΙΑ\",\"\")","v":""}]
[1625.0,"Μηχανικών Πληροφορικής & Ηλεκτρονικών Συστημάτων, ΔΙ.ΠΑ.Ε., ΝΕΟ (πρώην Μηχανικών Πληροφορικής ΤΕ, ΤΕΙ Θεσσαλονίκης)","Θεσσαλονίκη",162.0,1.2,{"$f":"E165*'ΒΟΗΘ'!D163","v":14400},{"$f":"IF((F165<='ΒΟΗΘ'!B163),\"ΕΠΙΤΥΧΙΑ\",\"\")","v":""}]
[1626.0,"Εσωτερικής Αρχιτεκτονικής, ΔΙ.ΠΑ.Ε., ΝΕΟ (πρώην Εσωτερικής Αρχιτεκτονικής, Διακόσμησης & Σχεδιασμού Αντικειμένων, ΤΕΙ Κεντρ. Μακεδονίας)","Σέρρες",84.0,0.8,{"$f":"E166*'ΒΟΗΘ'!D164","v":9600},{"$f":"IF((F166<='ΒΟΗΘ'!B164),\"ΕΠΙΤΥΧΙΑ\",\"\")","v":"ΕΠΙΤΥΧΙΑ"}]
[1627.0,"Δημιουργικού Σχεδιασμού & Ένδυσης, ΔΙ.ΠΑ.Ε. ΝΕΟ (πρώην Σχεδιασμού & Τεχνολογίας Ένδυσης, ΤΕΙ Κεντρ. Μακεδονίας)","Κιλκίς",133.0,0.8,{"$f":"E167*'ΒΟΗΘ'!D165","v":9600},{"$f":"IF((F167<='ΒΟΗΘ'!B165),\"ΕΠΙΤΥΧΙΑ\",\"\")","v":"ΕΠΙΤΥΧΙΑ"}]
[1630.0,"Πληροφορικής, ΔΙ.ΠΑ.Ε., ΝΕΟ (πρώην Μηχανικών Πληροφορικής ΤΕ, ΤΕΙ Ανατ. Μακεδ. & Θράκης)","Καβάλα",194.0,1.1,{"$f":"E168*'ΒΟΗΘ'!D166","v":13200},{"$f":"IF((F168<='ΒΟΗΘ'!B166),\"ΕΠΙΤΥΧΙΑ\",\"\")","v":""}]
[1654.0,"Λογιστικής & Χρηματοοικονομικής, ΕΛ.ΜΕ.ΠΑ., ΝΕΟ (πρώην Λογιστικής & Χρηματοοικονομικής, ΤΕΙ Κρήτης)","Ηράκλειο",194.0,0.8,{"$f":"E169*'ΒΟΗΘ'!D167","v":9600},{"$f":"IF((F169<='ΒΟΗΘ'!B167),\"ΕΠΙΤΥΧΙΑ\",\"\")","v":"ΕΠΙΤΥΧΙΑ"}]
[1655.0,"Διοίκησης Επιχειρήσεων & Τουρισμού, ΕΛ.ΜΕ.ΠΑ., ΝΕΟ (πρώην Διοίκηση Τουριστικών Επιχειρήσεων & Επιχ/σεων Φιλοξενίας, ΤΕΙ Κρήτης)","Ηράκλειο",243.0,0.9,{"$f":"E170*'ΒΟΗΘ'!D168","v":10800},{"$f":"IF((F170<='ΒΟΗΘ'!B168),\"ΕΠΙΤΥΧΙΑ\",\"\")","v":"ΕΠΙΤΥΧΙΑ"}]
[1656.0,"Διοικητικής Επιστήμης & Τεχνολογίας, ΕΛ.ΜΕ.ΠΑ., ΝΕΟ (πρώην Διοίκησης Επιχειρήσεων, ΤΕΙ Κρήτης)","Αγ. Νικόλαος",186.0,0.8,{"$f":"E171*'ΒΟΗΘ'!D169","v":9600},{"$f":"IF((F171<='ΒΟΗΘ'!B169),\"ΕΠΙΤΥΧΙΑ\",\"\")","v":"ΕΠΙΤΥΧΙΑ"}]
[1662.0,"Ηλεκτρονικών Μηχανικών, ΕΛ.ΜΕ.ΠΑ., ΝΕΟ (πρώην Ηλεκτρονικών Μηχανικών ΤΕ, ΤΕΙ Κρήτης)","Χανιά",150.0,0.8,{"$f":"E172*'ΒΟΗΘ'!D170","v":9600},{"$f":"IF((F172<='ΒΟΗΘ'!B170),\"ΕΠΙΤΥΧΙΑ\",\"\")","v":"ΕΠΙΤΥΧΙΑ"}]
[1664.0,"Μουσικής Τεχνολογίας & Ακουστικής, ΕΛ.ΜΕ.ΠΑ., ΝΕΟ (πρώην Μηχανικών Μουσικής Τεχνολογίας & Ακουστικής ΤΕ, ΤΕΙ Κρήτης)","Ρέθυμνο",130.0,0.8,{"$f":"E173*'ΒΟΗΘ'!D171","v":9600},{"$f":"IF((F173<='ΒΟΗΘ'!B171),\"ΕΠΙΤΥΧΙΑ\",\"\")","v":"ΕΠΙΤΥΧΙΑ"}]

{"sheet":"ΒΟΗΘ","index":7,"n_rows":345,"n_cols":4,"rows_kept":345,"cut":false,"hidden":true,"merged":[]}
[null,"ΜΑΘΗΤΗΣ",null,"ΠΑΝΕΛΛΗΝΙΕΣ"]
[null,"ΜΟΡΙΑ",null,"ΜΕΣΟΣ ΟΡΟΣ"]
[null,{"$f":"'ΕΙΣΑΓΩΓΗ ΒΑΘΜΟΛΟΓΙΑΣ'!K9","v":12540},null,{"$f":"'ΕΙΣΑΓΩΓΗ ΒΑΘΜΟΛΟΓΙΑΣ'!F14","v":12000}]
[null,{"$f":"B3","v":12540},null,{"$f":"D3","v":12000}]
[null,12540,null,12000]
[null,12540,null,12000]
[null,12540,null,12000]
[null,12540,null,12000]
[null,12540,null,12000]
[null,12540,null,12000]
[null,12540,null,12000]
[null,12540,null,12000]
[null,12540,null,12000]
[null,12540,null,12000]
[null,12540,null,12000]
[null,12540,null,12000]
[null,12540,null,12000]
[null,12540,null,12000]
[null,12540,null,12000]
[null,12540,null,12000]
[null,12540,null,12000]
[null,12540,null,12000]
[null,12540,null,12000]
[null,12540,null,12000]
[null,12540,null,12000]
[null,12540,null,12000]
[null,12540,null,12000]
[null,12540,null,12000]
[null,12540,null,12000]
[null,12540,null,12000]
[null,12540,null,12000]
[null,12540,null,12000]
[null,12540,null,12000]
[null,12540,null,12000]
[null,12540,null,12000]
[null,12540,null,12000]
[null,12540,null,12000]
[null,12540,null,12000]
[null,12540,null,12000]
[null,12540,null,12000]
[null,12540,null,12000]
[null,12540,null,12000]
[null,12540,null,12000]
[null,12540,null,12000]
[null,12540,null,12000]
[null,12540,null,12000]
[null,12540,null,12000]
[null,12540,null,12000]
[null,12540,null,12000]
[null,12540,null,12000]
[null,12540,null,12000]
[null,12540,null,12000]
[null,12540,null,12000]
[null,12540,null,12000]
[null,12540,null,12000]
[null,12540,null,12000]
[null,12540,null,12000]
[null,12540,null,12000]
[null,12540,null,12000]
[null,12540,null,12000]
[null,12540,null,12000]
[null,12540,null,12000]
[null,12540,null,12000]
[null,12540,null,12000]
[null,12540,null,12000]
[null,12540,null,12000]
[null,12540,null,12000]
[null,12540,null,12000]
[null,12540,null,12000]
[null,12540,null,12000]
[null,12540,null,12000]
[null,12540,null,12000]
[null,12540,null,12000]
[null,12540,null,12000]
[null,12540,null,12000]
[null,12540,null,12000]
[null,12540,null,12000]
[null,12540,null,12000]
[null,12540,null,12000]
[null,12540,null,12000]
[null,12540,null,12000]
[null,12540,null,12000]
[null,12540,null,12000]
[null,12540,null,12000]
[null,12540,null,12000]
[null,12540,null,12000]
[null,12540,null,12000]
[null,12540,null,12000]
[null,12540,null,12000]
[null,12540,null,12000]
[null,12540,null,12000]
[null,12540,null,12000]
[null,12540,null,12000]
[null,12540,null,12000]
[null,12540,null,12000]
[null,12540,null,12000]
[null,12540,null,12000]
[null,12540,null,12000]
[null,12540,null,12000]
[null,12540,null,12000]
[null,12540,null,12000]
[null,12540,null,12000]
[null,12540,null,12000]
[null,12540,null,12000]
[null,12540,null,12000]
[null,12540,null,12000]
[null,12540,null,12000]
[null,12540,null,12000]
[null,12540,null,12000]
[null,12540,null,12000]
[null,12540,null,12000]
[null,12540,null,12000]
[null,12540,null,12000]
[null,12540,null,12000]
[null,12540,null,12000]
[null,12540,null,12000]
[null,12540,null,12000]
[null,12540,null,12000]
[null,12540,null,12000]
[null,12540,null,12000]
[null,12540,null,12000]
[null,12540,null,12000]
[null,12540,null,12000]
[null,12540,null,12000]
[null,12540,null,12000]
[null,12540,null,12000]
[null,12540,null,12000]
[null,12540,null,12000]
[null,12540,null,12000]
[null,12540,null,12000]
[null,12540,null,12000]
[null,12540,null,12000]
[null,12540,null,12000]
[null,12540,null,12000]
[null,12540,null,12000]
[null,12540,null,12000]
[null,12540,null,12000]
[null,12540,null,12000]
[null,12540,null,12000]
[null,12540,null,12000]
[null,12540,null,12000]
[null,12540,null,12000]
[null,12540,null,12000]
[null,12540,null,12000]
[null,12540,null,12000]
[null,12540,null,12000]
[null,12540,null,12000]
[null,12540,null,12000]
[null,12540,null,12000]
[null,12540,null,12000]
[null,12540,null,12000]
[null,12540,null,12000]
[null,12540,null,12000]
[null,12540,null,12000]
[null,12540,null,12000]
[null,12540,null,12000]
[null,12540,null,12000]
[null,12540,null,12000]
[null,12540,null,12000]
[null,12540,null,12000]
[null,12540,null,12000]
[null,12540,null,12000]
[null,12540,null,12000]
[null,12540,null,12000]
[null,12540,null,12000]
[null,12540,null,12000]
[null,12540,null,12000]
[null,12540,null,12000]
[null,12540,null,12000]
[null,12540,null,12000]
[null,12540,null,12000]
[null,12540,null,12000]
[null,12540,null,12000]
[null,12540,null,12000]
[null,12540,null,12000]
[null,12540,null,12000]
[null,12540,null,12000]
[null,12540,null,12000]
[null,12540,null,12000]
[null,12540,null,12000]
[null,12540,null,12000]
[null,12540,null,12000]
[null,12540,null,12000]
[null,12540,null,12000]
[null,12540,null,12000]
[null,12540,null,12000]
[null,12540,null,12000]
[null,12540,null,12000]
[null,12540,null,12000]
[null,12540,null,12000]
[null,12540,null,12000]
[null,12540,null,12000]
[null,12540,null,12000]
[null,12540,null,12000]
[null,12540,null,12000]
[null,12540,null,12000]
[null,12540,null,12000]
[null,12540,null,12000]
[null,12540,null,12000]
[null,12540,null,12000]
[null,12540,null,12000]
[null,12540,null,12000]
[null,12540,null,12000]
[null,12540,null,12000]
[null,12540,null,12000]
[null,12540,null,12000]
[null,12540,null,12000]
[null,12540,null,12000]
[null,12540,null,12000]
[null,12540,null,12000]
[null,12540,null,12000]
[null,12540,null,12000]
[null,12540,null,12000]
[null,12540,null,12000]
[null,12540,null,12000]
[null,12540,null,12000]
[null,12540,null,12000]
[null,12540,null,12000]
[null,12540,null,12000]
[null,12540,null,12000]
[null,12540,null,12000]
[null,12540,null,12000]
[null,12540,null,12000]
[null,12540,null,12000]
[null,12540,null,12000]
[null,12540,null,12000]
[null,12540,null,12000]
[null,12540,null,12000]
[null,12540,null,12000]
[null,12540,null,12000]
[null,12540,null,12000]
[null,12540,null,12000]
[null,12540,null,12000]
[null,12540,null,12000]
[null,12540,null,12000]
[null,12540,null,12000]
[null,12540,null,12000]
[null,12540,null,12000]
[null,12540,null,12000]
[null,12540,null,12000]
[null,12540,null,12000]
[null,12540,null,12000]
[null,12540,null,12000]
[null,12540,null,12000]
[null,12540,null,12000]
[null,12540,null,12000]
[null,12540,null,12000]
[null,12540,null,12000]
[null,12540,null,12000]
[null,12540,null,12000]
[null,12540,null,12000]
[null,12540,null,12000]
[null,12540,null,12000]
[null,12540,null,12000]
[null,12540,null,12000]
[null,12540,null,12000]
[null,12540,null,12000]
[null,12540,null,12000]
[null,12540,null,12000]
[null,12540,null,12000]
[null,12540,null,12000]
[null,12540,null,12000]
[null,12540,null,12000]
[null,12540,null,12000]
[null,12540,null,12000]
[null,12540,null,12000]
[null,12540,null,12000]
[null,12540,null,12000]
[null,12540,null,12000]
[null,12540,null,12000]
[null,12540,null,12000]
[null,12540,null,12000]
[null,12540,null,12000]
[null,12540,null,12000]
[null,12540,null,12000]
[null,12540,null,12000]
[null,12540,null,12000]
[null,12540,null,12000]
[null,12540,null,12000]
[null,12540,null,12000]
[null,12540,null,12000]
[null,12540,null,12000]
[null,12540,null,12000]
[null,12540,null,12000]
[null,12540,null,12000]
[null,12540,null,12000]
[null,12540,null,12000]
[null,12540,null,12000]
[null,12540,null,12000]
[null,12540,null,12000]
[null,12540,null,12000]
[null,12540,null,12000]
[null,12540,null,12000]
[null,12540,null,12000]
[null,12540,null,12000]
[null,12540,null,12000]
[null,12540,null,12000]
[null,12540,null,12000]
[null,12540,null,12000]
[null,12540,null,12000]
[null,12540,null,12000]
[null,12540,null,12000]
[null,12540,null,12000]
[null,12540,null,12000]
[null,12540,null,12000]
[null,12540,null,12000]
[null,12540,null,12000]
[null,12540,null,12000]
[null,12540,null,12000]
[null,12540,null,12000]
[null,12540,null,12000]
[null,12540,null,12000]
[null,12540,null,12000]
[null,12540,null,12000]
[null,12540,null,12000]
[null,12540,null,12000]
[null,12540,null,12000]
[null,12540,null,12000]
[null,12540,null,12000]
[null,12540,null,12000]
[null,12540,null,12000]
[null,12540,null,12000]
[null,12540,null,12000]
[null,12540,null,12000]
[null,12540,null,12000]
[null,12540,null,12000]
[null,12540,null,12000]
[null,12540,null,12000]
[null,12540,null,12000]
[null,12540,null,12000]
[null,12540,null,12000]
[null,12540,null,12000]
[null,12540,null,12000]
[null,12540,null,12000]
[null,12540,null,12000]
[null,12540,null,12000]
[null,12540,null,12000]
[null,12540,null,12000]
[null,12540,null,12000]
[null,12540,null,12000]
[null,12540,null,12000]
[null,12540,null,12000]
[null,12540,null,12000]
[null,12540,null,12000]
[null,12540,null,12000]